BEGIN:VCALENDAR
VERSION:2.0
PRODID:-//SciLifeLab - ECPv6.15.20//NONSGML v1.0//EN
CALSCALE:GREGORIAN
METHOD:PUBLISH
X-WR-CALNAME:SciLifeLab
X-ORIGINAL-URL:https://www.scilifelab.se
X-WR-CALDESC:Events for SciLifeLab
REFRESH-INTERVAL;VALUE=DURATION:PT1H
X-Robots-Tag:noindex
X-PUBLISHED-TTL:PT1H
BEGIN:VTIMEZONE
TZID:Europe/Stockholm
BEGIN:DAYLIGHT
TZOFFSETFROM:+0100
TZOFFSETTO:+0200
TZNAME:CEST
DTSTART:20240331T010000
END:DAYLIGHT
BEGIN:STANDARD
TZOFFSETFROM:+0200
TZOFFSETTO:+0100
TZNAME:CET
DTSTART:20241027T010000
END:STANDARD
BEGIN:DAYLIGHT
TZOFFSETFROM:+0100
TZOFFSETTO:+0200
TZNAME:CEST
DTSTART:20250330T010000
END:DAYLIGHT
BEGIN:STANDARD
TZOFFSETFROM:+0200
TZOFFSETTO:+0100
TZNAME:CET
DTSTART:20251026T010000
END:STANDARD
BEGIN:DAYLIGHT
TZOFFSETFROM:+0100
TZOFFSETTO:+0200
TZNAME:CEST
DTSTART:20260329T010000
END:DAYLIGHT
BEGIN:STANDARD
TZOFFSETFROM:+0200
TZOFFSETTO:+0100
TZNAME:CET
DTSTART:20261025T010000
END:STANDARD
END:VTIMEZONE
BEGIN:VEVENT
DTSTART;TZID=Europe/Stockholm:20251216T151500
DTEND;TZID=Europe/Stockholm:20251216T161500
DTSTAMP:20260420T222356
CREATED:20251215T084843Z
LAST-MODIFIED:20251215T084907Z
UID:192477-1765898100-1765901700@www.scilifelab.se
SUMMARY:[Spotlight Seminar Series] The innate power of natural killer cells in cancer therapy
DESCRIPTION:Professor Karl-Johan Malmberg (M.D. Ph.D) \, Oslo University \n\n\n\nBiography\n\n\n\nProfessor Karl-Johan Malmbergis a Specialist in Hematology with over 25 years of experience in NK cell research and cancer immunotherapy. He is the Director of a Norwegian Research Council Center of Excellence\, The Precision Immunotherapy Alliance (PRIMA) and leads an international team of 20 scientists based in laboratories both at the University of Oslo\, Norway and the Karolinska Institutet\, Sweden. He is also the Scientific Director of the Center for Advanced Cell and Gene Therapy (ACT) at Oslo University Hospital. The group focus on deciphering basic cellular and molecular mechanisms regulating NK cell function and seek to translate insights from these efforts in the design of novel approaches for NK-cell based cancer immunotherapy against cancer. \n\n\n\nRelevant Publications\n\n\n\nThe innate power of natural killer cells in cancer therapy. \n\n\n\nSohlberg E\, Malmberg KJ.Nat Med. 2025 Jun;31(6):1755-1756. doi: 10.1038/s41591-025-03712-9.PMID: 40355615 \n\n\n\nPan-cancer profiling of tumor-infiltrating natural killer cells through transcriptional reference mapping. \n\n\n\nNetskar H\, Pfefferle A\, Goodridge JP\, Sohlberg E\, Dufva O\, Teichmann SA\, Brownlie D\, Michaëlsson J\, Marquardt N\, Clancy T\, Horowitz A\, Malmberg KJ.Nat Immunol. 2024 Aug;25(8):1445-1459. doi: 10.1038/s41590-024-01884-z. Epub 2024 Jul 2.PMID: 38956379 \n\n\n\n \n\n\n\nHost: Adnane Achour adnane.achour@ki.se
URL:https://www.scilifelab.se/event/spotlight-seminar-series-the-innate-power-of-natural-killer-cells-in-cancer-therapy/
LOCATION:Air&Fire\, SciLifeLab Stockholm\, Tomtebodavägen 23A\, Solna\, Sweden
CATEGORIES:Event
ATTACH;FMTTYPE=image/jpeg:https://www.scilifelab.se/wp-content/uploads/2023/10/Campus-solna-seminar-picture.jpg
ORGANIZER;CN="SciLifeLab Event":MAILTO:events@scilifelab.se
END:VEVENT
END:VCALENDAR