BEGIN:VCALENDAR
VERSION:2.0
PRODID:-//SciLifeLab - ECPv6.15.20//NONSGML v1.0//EN
CALSCALE:GREGORIAN
METHOD:PUBLISH
X-WR-CALNAME:SciLifeLab
X-ORIGINAL-URL:https://www.scilifelab.se
X-WR-CALDESC:Events for SciLifeLab
REFRESH-INTERVAL;VALUE=DURATION:PT1H
X-Robots-Tag:noindex
X-PUBLISHED-TTL:PT1H
BEGIN:VTIMEZONE
TZID:Europe/Stockholm
BEGIN:DAYLIGHT
TZOFFSETFROM:+0100
TZOFFSETTO:+0200
TZNAME:CEST
DTSTART:20230326T010000
END:DAYLIGHT
BEGIN:STANDARD
TZOFFSETFROM:+0200
TZOFFSETTO:+0100
TZNAME:CET
DTSTART:20231029T010000
END:STANDARD
BEGIN:DAYLIGHT
TZOFFSETFROM:+0100
TZOFFSETTO:+0200
TZNAME:CEST
DTSTART:20240331T010000
END:DAYLIGHT
BEGIN:STANDARD
TZOFFSETFROM:+0200
TZOFFSETTO:+0100
TZNAME:CET
DTSTART:20241027T010000
END:STANDARD
BEGIN:DAYLIGHT
TZOFFSETFROM:+0100
TZOFFSETTO:+0200
TZNAME:CEST
DTSTART:20250330T010000
END:DAYLIGHT
BEGIN:STANDARD
TZOFFSETFROM:+0200
TZOFFSETTO:+0100
TZNAME:CET
DTSTART:20251026T010000
END:STANDARD
END:VTIMEZONE
BEGIN:VEVENT
DTSTART;TZID=Europe/Stockholm:20241008T090000
DTEND;TZID=Europe/Stockholm:20241008T163000
DTSTAMP:20260421T223746
CREATED:20240523T131511Z
LAST-MODIFIED:20240913T130839Z
UID:168105-1728378000-1728405000@www.scilifelab.se
SUMMARY:Stockholm Single Cell Genomics 2024 Symposium
DESCRIPTION:The National Genomics Infrastructure is pleased to announce the Stockholm Single Cell Genomics 2024 Symposium\, taking place on October 8th this fall. Join us for a day of engaging talks by experts in the field\, a chance to explore the latest technologies\, and networking opportunities. \n\n\n\nregister here\n\n\n\nConfirmed speakers:  \n\n\n\n\nGonçalo Castelo-Branco\, KI\, \n\n\n\nJessica Nordlund\, UU\, \n\n\n\nRickard Sandberg\, KI\, \n\n\n\nJoan Camuñas-Soler\, GU\, \n\n\n\nMartin Enge\, KI\, \n\n\n\nKasper Karlsson\, KI\, \n\n\n\nMohanraj Ramachandran\, UU\, \n\n\n\nTuuli Lappalainen\, KTH and \n\n\n\nAlexander Steemers\, Princess Maxima Center.\n\n\n\n\nSponsors: Scale Biosciences\, Pixelgen Technologies\, BioSkryb\, Techtum\, Parse Biosciences\, 10X Genomics\, Illumina\, Oxford Nanopore Technologies and BD Biosciences. \n\n\n\nCheck here to see any updates! 
URL:https://www.scilifelab.se/event/stockholm-single-cell-genomics-2024-symposium/
LOCATION:IVA Conference center\, Grev Turegatan 16\, Stockholm
CATEGORIES:Event
END:VEVENT
END:VCALENDAR