BEGIN:VCALENDAR
VERSION:2.0
PRODID:-//SciLifeLab - ECPv6.15.20//NONSGML v1.0//EN
CALSCALE:GREGORIAN
METHOD:PUBLISH
X-WR-CALNAME:SciLifeLab
X-ORIGINAL-URL:https://www.scilifelab.se
X-WR-CALDESC:Events for SciLifeLab
REFRESH-INTERVAL;VALUE=DURATION:PT1H
X-Robots-Tag:noindex
X-PUBLISHED-TTL:PT1H
BEGIN:VTIMEZONE
TZID:Europe/Stockholm
BEGIN:DAYLIGHT
TZOFFSETFROM:+0100
TZOFFSETTO:+0200
TZNAME:CEST
DTSTART:20230326T010000
END:DAYLIGHT
BEGIN:STANDARD
TZOFFSETFROM:+0200
TZOFFSETTO:+0100
TZNAME:CET
DTSTART:20231029T010000
END:STANDARD
BEGIN:DAYLIGHT
TZOFFSETFROM:+0100
TZOFFSETTO:+0200
TZNAME:CEST
DTSTART:20240331T010000
END:DAYLIGHT
BEGIN:STANDARD
TZOFFSETFROM:+0200
TZOFFSETTO:+0100
TZNAME:CET
DTSTART:20241027T010000
END:STANDARD
BEGIN:DAYLIGHT
TZOFFSETFROM:+0100
TZOFFSETTO:+0200
TZNAME:CEST
DTSTART:20250330T010000
END:DAYLIGHT
BEGIN:STANDARD
TZOFFSETFROM:+0200
TZOFFSETTO:+0100
TZNAME:CET
DTSTART:20251026T010000
END:STANDARD
END:VTIMEZONE
BEGIN:VEVENT
DTSTART;TZID=Europe/Stockholm:20240502T090000
DTEND;TZID=Europe/Stockholm:20240502T093000
DTSTAMP:20260422T111054
CREATED:20240130T122610Z
LAST-MODIFIED:20240502T063112Z
UID:162239-1714640400-1714642200@www.scilifelab.se
SUMMARY:Cancelled: The role of diagnostics in precision cancer medicine
DESCRIPTION:This event has been cancelled. We apologize for the inconvenience. \n\n\n\n \n\n\n\n \n\n\n\nClinical Talks \n\n\n\nClinical Talks is an educational seminar series open to everyone. It is organized by the SciLifeLab Precision Medicine Capability\, and invites a mixture of speakers that are experts with a clinical perspective on topics concerning rare diseases\, cancer\, microbiology and bioinformatics. \n\n\n\nHealth is individual and patients can benefit greatly from personalized treatments\, tailored for their specific molecular disposition. This rapidly emerging field\, known as Precision Medicine\, relies on technology development and requires close collaboration between scientists and healthcare professionals. SciLifeLab aims to bring cutting-edge technologies\, first-class expertise and data infrastructure to build the foundation of tomorrow’s Precision Medicine.
URL:https://www.scilifelab.se/event/the-role-of-diagnostics-in-precision-cancer-medicine/
LOCATION:Online event via Zoom
CATEGORIES:Event
ATTACH;FMTTYPE=image/png:https://www.scilifelab.se/wp-content/uploads/2024/01/Clinical-Talks-sq.png
ORGANIZER;CN="Clinical Talks":MAILTO:precisionmedicine@scilifelab.se
END:VEVENT
END:VCALENDAR