BEGIN:VCALENDAR
VERSION:2.0
PRODID:-//SciLifeLab - ECPv6.15.20//NONSGML v1.0//EN
CALSCALE:GREGORIAN
METHOD:PUBLISH
X-WR-CALNAME:SciLifeLab
X-ORIGINAL-URL:https://www.scilifelab.se
X-WR-CALDESC:Events for SciLifeLab
REFRESH-INTERVAL;VALUE=DURATION:PT1H
X-Robots-Tag:noindex
X-PUBLISHED-TTL:PT1H
BEGIN:VTIMEZONE
TZID:Europe/Stockholm
BEGIN:DAYLIGHT
TZOFFSETFROM:+0100
TZOFFSETTO:+0200
TZNAME:CEST
DTSTART:20240331T010000
END:DAYLIGHT
BEGIN:STANDARD
TZOFFSETFROM:+0200
TZOFFSETTO:+0100
TZNAME:CET
DTSTART:20241027T010000
END:STANDARD
BEGIN:DAYLIGHT
TZOFFSETFROM:+0100
TZOFFSETTO:+0200
TZNAME:CEST
DTSTART:20250330T010000
END:DAYLIGHT
BEGIN:STANDARD
TZOFFSETFROM:+0200
TZOFFSETTO:+0100
TZNAME:CET
DTSTART:20251026T010000
END:STANDARD
BEGIN:DAYLIGHT
TZOFFSETFROM:+0100
TZOFFSETTO:+0200
TZNAME:CEST
DTSTART:20260329T010000
END:DAYLIGHT
BEGIN:STANDARD
TZOFFSETFROM:+0200
TZOFFSETTO:+0100
TZNAME:CET
DTSTART:20261025T010000
END:STANDARD
END:VTIMEZONE
BEGIN:VEVENT
DTSTART;TZID=Europe/Stockholm:20250210T151500
DTEND;TZID=Europe/Stockholm:20250210T161500
DTSTAMP:20260421T173451
CREATED:20250121T074231Z
LAST-MODIFIED:20250210T140803Z
UID:178870-1739200500-1739204100@www.scilifelab.se
SUMMARY:[The Svedberg seminar] - On giant lungfish genomes and the genomics of adaptations and speciation in hyperdiverse cichlid fish radiations
DESCRIPTION:Axel MeyerProfessorUniversity of Konstanz\, Germany \n\n\n\n \n\n\n\n \n\n\n\nBio\n\n\n\nAxel Meyer (*1960 in Lübeck) studied biology at the Universities of Marburg and Kiel in Germany before he moved to the USA in 1982. At the University of California he received his Master (1985) and PhD (1988) degrees in Berkeley’s Department of Zoology. For the last year of his PhD he worked in the Biochemistry Department in lab of Allan C. Wilson at Berkeley. There he was part of a team that was the first to use PCR for questions in molecular evolution\, phylogenetics\, and ancient DNA. As an Alfred P. Sloan Postdoc he continued to work with Allan Wilson in the Biochemistry Department at Berkeley until 1990 when he became an Assistant and then (since 1993) Associate Professor in the Ecology and Evolution Department at Stony Brook\, NY. In 1997 he returned to Germany as Chair in Zoology and Evolutionary Biology at the University of Konstanz. He is a member of several academies\, including EMBO\, the Academia Europaea\, the Berlin Academy of Sciences\, the German National Academy Leopoldina\, and The American Academy of Arts and Sciences  and received a numerous awards and fellowships including Fulbright and Guggenheim Fellowships\, the Carus Medal of the Leopoldina\, and a Hector Prize. Axel Meyer’s research focuses on fundamental questions in evolutionary biology and comparative genomics with a focus on speciation\, Hox genes\, genomics of adaptations\, and gene and genome duplications. He was among the first to confirm Susumo Ohno’s suggestion that all modern fishes are derived from a lineage that experienced an additional (the teleost-specific genome duplication\, TSGD) genome duplication. Meyer received the EMBO award for communications in the life sciences for his efforts to communicate science to the public. He has a science podcast for Cicero Magazin\, wrote a popular science book on the biology of men and women\, and had a weekly column for the financial newspaper Handelsblatt. Besides Konstanz he is affiliated with the SCSIO in Guangzhou and the Museum of Comparative Zoology at Harvard University \n\n\n\nOn giant lungfish genomes and the genomics of adaptations and speciation in hyperdiverse cichlid fish radiations\n\n\n\nLungfishes are the closest living relatives to tetrapods among the “fishes”. Their genomes are the largest animal genomes\, composed of over 90% repetitive DNA\, and their size\, 3-15x larger than the human genome (~45-92Gb)\, makes them difficult to assemble and interpret. The analyses of these genomes revealed the genetics of some pre-adaptations (respiration\, locomotion\, nitrogen excretion\, olfaction) that might have permitted their relatives to conquer land in the Devonian and to give rise to all land vertebrates. While lungfishes are ancient “living fossils” that appear not have changed for >100 Million years\, the cichlid fishes of the East African Great lakes and of Nicaragua’s crater lakes have speciated and morphologically diversified at record speeds. New species formed within a few hundred generations and several phenotypic innovations evolved repeatedly and due to structural variants and transposable element activity. \n\n\n\n \n\n\n\n \n\n\n\n \n\n\n\n\n\n\n\nHost: Dan Larhammar dan.larhammar@uu.se\, Per Ahlberg Per.Ahlberg@ebc.uu.se\, UU
URL:https://www.scilifelab.se/event/the-svedberg-seminar-axel-meyer/
LOCATION:BMC Room C8:301\, Husargatan 3\, Uppsala\, Sweden
CATEGORIES:Event
ATTACH;FMTTYPE=image/png:https://www.scilifelab.se/wp-content/uploads/2022/02/Picture1-The-Svedberg.png
ORGANIZER;CN="The Svedberg Seminar Series":MAILTO:thesvedberg@scilifelab.uu.se
END:VEVENT
END:VCALENDAR