BEGIN:VCALENDAR
VERSION:2.0
PRODID:-//SciLifeLab - ECPv6.15.20//NONSGML v1.0//EN
CALSCALE:GREGORIAN
METHOD:PUBLISH
X-WR-CALNAME:SciLifeLab
X-ORIGINAL-URL:https://www.scilifelab.se
X-WR-CALDESC:Events for SciLifeLab
REFRESH-INTERVAL;VALUE=DURATION:PT1H
X-Robots-Tag:noindex
X-PUBLISHED-TTL:PT1H
BEGIN:VTIMEZONE
TZID:Europe/Stockholm
BEGIN:DAYLIGHT
TZOFFSETFROM:+0100
TZOFFSETTO:+0200
TZNAME:CEST
DTSTART:20230326T010000
END:DAYLIGHT
BEGIN:STANDARD
TZOFFSETFROM:+0200
TZOFFSETTO:+0100
TZNAME:CET
DTSTART:20231029T010000
END:STANDARD
BEGIN:DAYLIGHT
TZOFFSETFROM:+0100
TZOFFSETTO:+0200
TZNAME:CEST
DTSTART:20240331T010000
END:DAYLIGHT
BEGIN:STANDARD
TZOFFSETFROM:+0200
TZOFFSETTO:+0100
TZNAME:CET
DTSTART:20241027T010000
END:STANDARD
BEGIN:DAYLIGHT
TZOFFSETFROM:+0100
TZOFFSETTO:+0200
TZNAME:CEST
DTSTART:20250330T010000
END:DAYLIGHT
BEGIN:STANDARD
TZOFFSETFROM:+0200
TZOFFSETTO:+0100
TZNAME:CET
DTSTART:20251026T010000
END:STANDARD
END:VTIMEZONE
BEGIN:VEVENT
DTSTART;TZID=Europe/Stockholm:20241202T151500
DTEND;TZID=Europe/Stockholm:20241202T161500
DTSTAMP:20260421T205954
CREATED:20241118T142548Z
LAST-MODIFIED:20241120T081943Z
UID:176299-1733152500-1733156100@www.scilifelab.se
SUMMARY:[The Svedberg seminar] - Diversity of left-right asymmetry among animals
DESCRIPTION:Hiroshi HamadaProfessorNational Center for Biological Sciences\, Ashoka University\, India \n\n\n\n \n\n\n\n \n\n\n\n\n\n\n\nBio\n\n\n\nProfessor Hiroshi Hamada is a visiting professor at National Center for Biological Sciences in Ashoka University\, India. Professor Hamada received his M.D from Okayama University in 1975 and his PhD from the same university in 1979. Since then he has worked at several prestigious institutions such as NIH and RIKEN. He has been an associate editor and part of the editorial board on a number of journals within the medical field. \n\n\n\nDiversity of left-right asymmetry among animals\n\n\n\nMost of animals exhibit left-right (L-R) asymmetries in internal and/or superficial organs\, but they employ different mechanisms for L-R asymmetry\, especially for symmetry breaking. Many vertebrates including fish\, amphibians and mammals\, use motile cilia to generate unidirectional fluid flow at the left-right organizer\, for symmetry breaking. Birds and reptiles\, however\, break L-R symmetry without motile cilia\, but its mechanism remains unknown. Invertebrates such as insects and snails employ a variety of different mechanisms. We studied the genetic pathway that establishes L-R asymmetry in the mouse\, but we are now investigating how chick embryos establish molecular L-R asymmetry without cilia. Also\, we have started to investigate how snail embryos establish L-R asymmetric gene expression. I would like to introduce our current attempts with chick and snail embryos. \n\n\n\n \n\n\n\n \n\n\n\n \n\n\n\n\n\n\n\nHost: Gonzalo Sanchez\, UU gonzalo.sanchez@mcb.uu.se
URL:https://www.scilifelab.se/event/the-svedberg-seminar-diversity-of-left-right-asymmetry-among-animals/
LOCATION:BMC Room C8:301\, Husargatan 3\, Uppsala\, Sweden
CATEGORIES:Event
ATTACH;FMTTYPE=image/png:https://www.scilifelab.se/wp-content/uploads/2022/02/Picture1-The-Svedberg.png
END:VEVENT
END:VCALENDAR