BEGIN:VCALENDAR
VERSION:2.0
PRODID:-//SciLifeLab - ECPv6.15.20//NONSGML v1.0//EN
CALSCALE:GREGORIAN
METHOD:PUBLISH
X-WR-CALNAME:SciLifeLab
X-ORIGINAL-URL:https://www.scilifelab.se
X-WR-CALDESC:Events for SciLifeLab
REFRESH-INTERVAL;VALUE=DURATION:PT1H
X-Robots-Tag:noindex
X-PUBLISHED-TTL:PT1H
BEGIN:VTIMEZONE
TZID:Europe/Stockholm
BEGIN:DAYLIGHT
TZOFFSETFROM:+0100
TZOFFSETTO:+0200
TZNAME:CEST
DTSTART:20230326T010000
END:DAYLIGHT
BEGIN:STANDARD
TZOFFSETFROM:+0200
TZOFFSETTO:+0100
TZNAME:CET
DTSTART:20231029T010000
END:STANDARD
BEGIN:DAYLIGHT
TZOFFSETFROM:+0100
TZOFFSETTO:+0200
TZNAME:CEST
DTSTART:20240331T010000
END:DAYLIGHT
BEGIN:STANDARD
TZOFFSETFROM:+0200
TZOFFSETTO:+0100
TZNAME:CET
DTSTART:20241027T010000
END:STANDARD
BEGIN:DAYLIGHT
TZOFFSETFROM:+0100
TZOFFSETTO:+0200
TZNAME:CEST
DTSTART:20250330T010000
END:DAYLIGHT
BEGIN:STANDARD
TZOFFSETFROM:+0200
TZOFFSETTO:+0100
TZNAME:CET
DTSTART:20251026T010000
END:STANDARD
END:VTIMEZONE
BEGIN:VEVENT
DTSTART;TZID=Europe/Stockholm:20241007T151500
DTEND;TZID=Europe/Stockholm:20241007T161500
DTSTAMP:20260421T224424
CREATED:20240920T145358Z
LAST-MODIFIED:20240920T145400Z
UID:173360-1728314100-1728317700@www.scilifelab.se
SUMMARY:[The Svedberg seminar] - Patch-seq profiling of pancreatic islet cell types and cell-free RNA diagnostics
DESCRIPTION:Joan Camuñas-SolerAssistant ProfessorUniversity of Gothenburg\, Sweden \n\n\n\n \n\n\n\n \n\n\n\n\n\n\n\nJoan Camuñas\n\n\n\n\n\n\n\nBio\n\n\n\nDr. Camuñas-Soler is an Assistant Professor and Wallenberg Molecular Medicine Fellow at the University of Gothenburg since 2022. His current research focuses on data-driven genomics and precision medicine. Previously\, as a postdoctoral scholar at Stanford University\, he pioneered novel single-cell genomic techniques to study islet-cell function in health and diabetes. Additionally\, he developed liquid biopsy tools for the early prediction of pregnancy complications\, which led to the creation of a molecular diagnostics startup. His research is highly interdisciplinary\, combining approaches from molecular engineering\, biophysics\, and computational biology. His work has been recognized with several awards\, patents\, and prestigious establishment grants. \n\n\n\n \n\n\n\nPatch-seq profiling of pancreatic islet cell types and cell-free RNA diagnostics \n\n\n\nMethods to simultaneously profile transcriptome and cell function at the single-cell level are scarce. In this talk\, I will show that single-cell RNA sequencing (scRNAseq)\, in combination with electrophysiological measurements of exocytosis (patch-seq)\, can be used to study the connection between human endocrine physiology and transcriptomes at the single cell level. I will discuss the application of patch-seq to investigate normal physiology of pancreatic islet cells and their dysfunction in diabetes. \n\n\n\nUsing data from 1\,369 patch-seq cells from the pancreata of 34 human donors; I will show how this technology can be used to identify novel regulators of β-cell biology and transcriptomic alterations indicative of β-cell maladaptation and α-cell dysfunction in type 2 diabetes (T2D). Additionally\, I will introduce a complementary approach to measure the secretory capacity of these cells based in the use of fluorescent tracers of endocytic membrane retrieval\, which can then be combined with FACS sorting ad scRNAseq to characterize β-cell states associated with higher secretory capacity. \n\n\n\nIn the second part of this talk\, I will also discuss how sequencing of circulating RNA in the blood (cell-free RNA) can be used as a ‘liquid biopsy’ tool to monitor human physiology and disease. I will focus on the use of cell-free RNA to establish a molecular clock of pregnancy\, and as a tool to track autoimmune disorders with poorly understood pathophysiology. Some of this molecular diagnostics work is currently being translated into clinical validation. \n\n\n\nRead more: Camuñas-Soler Group   \n\n\n\n \n\n\n\n \n\n\n\n\n\n\n\nHost: Jessica Nordlund jessica.nordlund@medsci.uu.se
URL:https://www.scilifelab.se/event/the-svedberg-seminar-joan-camunas-soler/
LOCATION:BMC Room C8:301\, Husargatan 3\, Uppsala\, Sweden
CATEGORIES:Event
ATTACH;FMTTYPE=image/png:https://www.scilifelab.se/wp-content/uploads/2022/02/Picture1-The-Svedberg.png
END:VEVENT
END:VCALENDAR