BEGIN:VCALENDAR
VERSION:2.0
PRODID:-//SciLifeLab - ECPv6.15.20//NONSGML v1.0//EN
CALSCALE:GREGORIAN
METHOD:PUBLISH
X-WR-CALNAME:SciLifeLab
X-ORIGINAL-URL:https://www.scilifelab.se
X-WR-CALDESC:Events for SciLifeLab
REFRESH-INTERVAL;VALUE=DURATION:PT1H
X-Robots-Tag:noindex
X-PUBLISHED-TTL:PT1H
BEGIN:VTIMEZONE
TZID:Europe/Stockholm
BEGIN:DAYLIGHT
TZOFFSETFROM:+0100
TZOFFSETTO:+0200
TZNAME:CEST
DTSTART:20250330T010000
END:DAYLIGHT
BEGIN:STANDARD
TZOFFSETFROM:+0200
TZOFFSETTO:+0100
TZNAME:CET
DTSTART:20251026T010000
END:STANDARD
BEGIN:DAYLIGHT
TZOFFSETFROM:+0100
TZOFFSETTO:+0200
TZNAME:CEST
DTSTART:20260329T010000
END:DAYLIGHT
BEGIN:STANDARD
TZOFFSETFROM:+0200
TZOFFSETTO:+0100
TZNAME:CET
DTSTART:20261025T010000
END:STANDARD
BEGIN:DAYLIGHT
TZOFFSETFROM:+0100
TZOFFSETTO:+0200
TZNAME:CEST
DTSTART:20270328T010000
END:DAYLIGHT
BEGIN:STANDARD
TZOFFSETFROM:+0200
TZOFFSETTO:+0100
TZNAME:CET
DTSTART:20271031T010000
END:STANDARD
END:VTIMEZONE
BEGIN:VEVENT
DTSTART;TZID=Europe/Stockholm:20260309T151500
DTEND;TZID=Europe/Stockholm:20260309T161500
DTSTAMP:20260420T190247
CREATED:20260223T084935Z
LAST-MODIFIED:20260223T084936Z
UID:195274-1773069300-1773072900@www.scilifelab.se
SUMMARY:[The Svedberg seminar] - The evolution of new vertebrate cell types and organs
DESCRIPTION:Margarida Cardoso-Moreira \n\n\n\nPhD Group Leader of Evolutionary Developmental Biology lab at the Francis Crick Institute\, UK \n\n\n\nBio\n\n\n\nMargarida Cardoso Moreira leads the Evolutionary Developmental Biology lab at the Francis Crick Institute in London. Her lab focuses on understanding how new cells\, tissues\, and organs originate using pregnancy as a model. Margarida did her PhD research in Manyuan Long’s group at the University of Chicago. She then took a postdoctoral position in Andrew G. Clark’s group at Cornell University. While at Chicago and Cornell\, Margarida investigated the evolution of newly duplicated genes. Margarida then joined the group of Henrik Kaessmann (University of Lausanne and Heidelberg University)\, where she spearheaded a research program on the evolution of mammalian organs\, for which she received the Otto-Schmeil prize from the Heidelberg Academy of Sciences and Humanities in 2020. \n\n\n\nThe evolution of new vertebrate cell types and organs\n\n\n\nHow do new cells\, new tissues\, and entire new organs arise during evolution? Our lab investigates these questions using an organ that has evolved independently many times and is remarkably diverse: the placenta. The placenta forms through the fusion of embryonic and maternal tissues to enable the transfer of nutrients\, waste\, and more during gestation. Placentas have evolved more than 100 times independently among vertebrates\, including once in mammals. Within a family of small live-bearing fishes known as Poeciliidae\, at least nine independent origins of the placenta have occurred. This makes them excellent models for studying how new organs emerge during evolution. We combined whole-genome sequencing\, single-cell RNA and ATAC sequencing\, and imaging to uncover the molecular\, cellular\, and developmental basis of five independent origins of a placenta in Poeciliids. We found that the evolution of a novel cell type unique to Poeciliids allowed this family to transition from egg-laying to live-bearing through egg retention. This cell type was subsequently and independently co-opted five times to form the placenta in five species. Across these independently evolved placentas\, we observe strong convergence at the molecular level\, with specific genes and pathways repeatedly recruited during placental evolution. Together\, our findings provide empirical support for a model in which cell-type innovation drives the emergence of new organs and demonstrate that major life history transitions can follow predictable developmental and molecular trajectories. \n\n\n\n \n\n\n\nHost: leif.andersson@imbim.uu.se UU
URL:https://www.scilifelab.se/event/the-svedberg-seminar-margarida-cardoso-moreira/
LOCATION:BMC Room C8:301\, Husargatan 3\, Uppsala\, Sweden
CATEGORIES:Event
ATTACH;FMTTYPE=image/png:https://www.scilifelab.se/wp-content/uploads/2022/02/Picture1-The-Svedberg.png
ORGANIZER;CN="The Svedberg Seminar Series":MAILTO:thesvedberg@scilifelab.uu.se
END:VEVENT
END:VCALENDAR