BEGIN:VCALENDAR
VERSION:2.0
PRODID:-//SciLifeLab - ECPv6.15.20//NONSGML v1.0//EN
CALSCALE:GREGORIAN
METHOD:PUBLISH
X-WR-CALNAME:SciLifeLab
X-ORIGINAL-URL:https://www.scilifelab.se
X-WR-CALDESC:Events for SciLifeLab
REFRESH-INTERVAL;VALUE=DURATION:PT1H
X-Robots-Tag:noindex
X-PUBLISHED-TTL:PT1H
BEGIN:VTIMEZONE
TZID:Europe/Stockholm
BEGIN:DAYLIGHT
TZOFFSETFROM:+0100
TZOFFSETTO:+0200
TZNAME:CEST
DTSTART:20230326T010000
END:DAYLIGHT
BEGIN:STANDARD
TZOFFSETFROM:+0200
TZOFFSETTO:+0100
TZNAME:CET
DTSTART:20231029T010000
END:STANDARD
BEGIN:DAYLIGHT
TZOFFSETFROM:+0100
TZOFFSETTO:+0200
TZNAME:CEST
DTSTART:20240331T010000
END:DAYLIGHT
BEGIN:STANDARD
TZOFFSETFROM:+0200
TZOFFSETTO:+0100
TZNAME:CET
DTSTART:20241027T010000
END:STANDARD
BEGIN:DAYLIGHT
TZOFFSETFROM:+0100
TZOFFSETTO:+0200
TZNAME:CEST
DTSTART:20250330T010000
END:DAYLIGHT
BEGIN:STANDARD
TZOFFSETFROM:+0200
TZOFFSETTO:+0100
TZNAME:CET
DTSTART:20251026T010000
END:STANDARD
END:VTIMEZONE
BEGIN:VEVENT
DTSTART;TZID=Europe/Stockholm:20240902T151500
DTEND;TZID=Europe/Stockholm:20240902T161500
DTSTAMP:20260422T015405
CREATED:20240819T072902Z
LAST-MODIFIED:20240819T160502Z
UID:170206-1725290100-1725293700@www.scilifelab.se
SUMMARY:[The Svedberg seminar] - The Genomic War Between the Sexes
DESCRIPTION:Mark A KirkpatrickProfessorUniversity of Texas\, USA \n\n\n\n \n\n\n\n \n\n\n\n \n\n\n\n\n\n\n\nBio\n\n\n\nMark received an undergraduate degree at Harvard and Ph.D. at the University of Washington with Monty Slatkin.  Following a Miller Fellowship at Berkeley\, he took a post at the University of Texas and has remained there since.  Mark was elected as Fellow of the American Association of Arts and Sciences in 2008 and Member of the National Academy of Sciences in 2020. \n\n\n\n \n\n\n\nThe Genomic War Between the Sexes\n\n\n\nSexually antagonistic selection (SAS)\, which occurs when different alleles are favored in females and males.  While SAS is key to many key evolutionary processes\, its prevalence in the genome is largely unknown.  We use a new method to show that SAS acts on a very large number of sites across the human genome.  It contributes to human mortality\, and involves tradeoffs between survival and fecundity that work in converse ways in females and males.  In nonhuman animals\, SAS may be important to determining the sex ratio\, and to the origin and subsequent evolution of sex chromosomes. \n\n\n\nRead more: https://kirkpatricklab.org/   \n\n\n\n \n\n\n\n \n\n\n\n\n\n\n\nHost:  Leif Andersson leif.andersson@imbim.uu.se
URL:https://www.scilifelab.se/event/the-svedberg-seminar-mark-kirkpatrick/
LOCATION:BMC Room C4:301\, Husargatan 3\, entrance C1\, Uppsala\, Sweden
CATEGORIES:Event
ATTACH;FMTTYPE=image/png:https://www.scilifelab.se/wp-content/uploads/2022/02/Picture1-The-Svedberg.png
END:VEVENT
END:VCALENDAR