BEGIN:VCALENDAR
VERSION:2.0
PRODID:-//SciLifeLab - ECPv6.15.20//NONSGML v1.0//EN
CALSCALE:GREGORIAN
METHOD:PUBLISH
X-WR-CALNAME:SciLifeLab
X-ORIGINAL-URL:https://www.scilifelab.se
X-WR-CALDESC:Events for SciLifeLab
REFRESH-INTERVAL;VALUE=DURATION:PT1H
X-Robots-Tag:noindex
X-PUBLISHED-TTL:PT1H
BEGIN:VTIMEZONE
TZID:Europe/Stockholm
BEGIN:DAYLIGHT
TZOFFSETFROM:+0100
TZOFFSETTO:+0200
TZNAME:CEST
DTSTART:20230326T010000
END:DAYLIGHT
BEGIN:STANDARD
TZOFFSETFROM:+0200
TZOFFSETTO:+0100
TZNAME:CET
DTSTART:20231029T010000
END:STANDARD
BEGIN:DAYLIGHT
TZOFFSETFROM:+0100
TZOFFSETTO:+0200
TZNAME:CEST
DTSTART:20240331T010000
END:DAYLIGHT
BEGIN:STANDARD
TZOFFSETFROM:+0200
TZOFFSETTO:+0100
TZNAME:CET
DTSTART:20241027T010000
END:STANDARD
BEGIN:DAYLIGHT
TZOFFSETFROM:+0100
TZOFFSETTO:+0200
TZNAME:CEST
DTSTART:20250330T010000
END:DAYLIGHT
BEGIN:STANDARD
TZOFFSETFROM:+0200
TZOFFSETTO:+0100
TZNAME:CET
DTSTART:20251026T010000
END:STANDARD
END:VTIMEZONE
BEGIN:VEVENT
DTSTART;TZID=Europe/Stockholm:20241104T151500
DTEND;TZID=Europe/Stockholm:20241104T161500
DTSTAMP:20260421T210520
CREATED:20241014T091353Z
LAST-MODIFIED:20241021T113631Z
UID:174551-1730733300-1730736900@www.scilifelab.se
SUMMARY:[The Svedberg seminar] - Talking to cells: biomolecular ultrasound to image and control cells deep inside the body
DESCRIPTION:Mikhail G. ShapiroProfessorCalifornia Institute of Technology\, USA \n\n\n\n \n\n\n\n \n\n\n\n\n\n\n\nBio\n\n\n\n\n\n\n\nMikhail Shapiro is the Max Delbrück Professor of Chemical Engineering and Medical Engineering\, an HHMI Investigator\, and Director of the Center for Molecular and Cellular Medicine at Caltech. The Shapiro laboratory develops biomolecular technologies allowing cells to be imaged and controlled inside the body using noninvasive methods such as ultrasound. Mikhail received his PhD in Biological Engineering from MIT and his BSc in Neuroscience from Brown. He conducted post-doctoral research at the University of Chicago and UC Berkeley. During the 2024-5 academic year\, Mikhail is conducting research at the Physics for Medicine Institute in Paris and ESPCI as a Fulbright-Tocqueville Distinguished Chair. \n\n\n\nMikhail’s awards include the NIH Pioneer Award\, the Vilcek Prize for Creative Promise\, the Camille Dreyfus Teacher-Scholar Award and the Carl Hellmuth Hertz Ultrasonics Award. Mikhail is an inducted Fellow of the World Molecular Imaging Society. Alongside academic research\, Mikhail has been involved as a founder and adviser to several biotechnology and medical device startups.   \n\n\n\nTalking to cells: biomolecular ultrasound to image and control cells deep inside the body\n\n\n\nStudying biological function in intact organisms and developing targeted cellular therapies requires methods to image and control the function of specific cells deep inside the body. Fluorescent proteins and optogenetics serve this purpose in small\, translucent specimens\, but are limited by the poor penetration of light into deeper tissues. In contrast\, most non-invasive techniques such as ultrasound and magnetic resonance – while based on energy forms that penetrate tissue – are not effectively coupled to cellular function. In this talk\, I will describe our work to bridge this gap by developing biomolecular reporters and actuators for ultrasound based on gas vesicles – a unique class of air-filled protein nanostructures derived from buoyant photosynthetic microbes. By scattering sound waves\, gas vesicles enable noninvasive imaging of tumors\, immune cells\, gut microbes and cell-based diagnostics and therapies. In addition\, they serve as receivers of acoustic radiation force or seeds of localized bubble cavitation\, enabling acoustic remote control. \n\n\n\nMore information about the Shapiro Lab can be found online at shapirolab.caltech.edu. \n\n\n\n \n\n\n\n \n\n\n\n\n\n\n\nHost: Maria Tenje\, UU maria.tenje@angstrom.uu.se
URL:https://www.scilifelab.se/event/the-svedberg-seminar-mikhail-shapiro/
LOCATION:BMC Room C8:301\, Husargatan 3\, Uppsala\, Sweden
CATEGORIES:Event
ATTACH;FMTTYPE=image/png:https://www.scilifelab.se/wp-content/uploads/2022/02/Picture1-The-Svedberg.png
END:VEVENT
END:VCALENDAR