BEGIN:VCALENDAR
VERSION:2.0
PRODID:-//SciLifeLab - ECPv6.15.20//NONSGML v1.0//EN
CALSCALE:GREGORIAN
METHOD:PUBLISH
X-WR-CALNAME:SciLifeLab
X-ORIGINAL-URL:https://www.scilifelab.se
X-WR-CALDESC:Events for SciLifeLab
REFRESH-INTERVAL;VALUE=DURATION:PT1H
X-Robots-Tag:noindex
X-PUBLISHED-TTL:PT1H
BEGIN:VTIMEZONE
TZID:Europe/Stockholm
BEGIN:DAYLIGHT
TZOFFSETFROM:+0100
TZOFFSETTO:+0200
TZNAME:CEST
DTSTART:20230326T010000
END:DAYLIGHT
BEGIN:STANDARD
TZOFFSETFROM:+0200
TZOFFSETTO:+0100
TZNAME:CET
DTSTART:20231029T010000
END:STANDARD
BEGIN:DAYLIGHT
TZOFFSETFROM:+0100
TZOFFSETTO:+0200
TZNAME:CEST
DTSTART:20240331T010000
END:DAYLIGHT
BEGIN:STANDARD
TZOFFSETFROM:+0200
TZOFFSETTO:+0100
TZNAME:CET
DTSTART:20241027T010000
END:STANDARD
BEGIN:DAYLIGHT
TZOFFSETFROM:+0100
TZOFFSETTO:+0200
TZNAME:CEST
DTSTART:20250330T010000
END:DAYLIGHT
BEGIN:STANDARD
TZOFFSETFROM:+0200
TZOFFSETTO:+0100
TZNAME:CET
DTSTART:20251026T010000
END:STANDARD
END:VTIMEZONE
BEGIN:VEVENT
DTSTART;TZID=Europe/Stockholm:20240527T151500
DTEND;TZID=Europe/Stockholm:20240527T161500
DTSTAMP:20260422T073207
CREATED:20240515T140213Z
LAST-MODIFIED:20240515T140214Z
UID:167802-1716822900-1716826500@www.scilifelab.se
SUMMARY:[The Svedberg seminar] - Following spatial and temporal chemical changes in neurobiology
DESCRIPTION:Wojciech Michno \n\n\n\nAssistant Professor\, SciLifeLab FellowUppsala University \n\n\n\n \n\n\n\n\n\n\n\nBio\n\n\n\nWojciech Michno is a neurochemistry researcher whose work focuses on studying spatial and temporal chemical changes in the brain to aid the understanding of neurological diseases. He obtained his PhD at the University of Gothenburg\, followed by three years as a postdoctoral researcher\, at University College London\, and Stanford University\, before joining the Department of Public Health and Caring Sciences\, at Uppsala University. His group works at the intersection of stem cell biology and analytical chemistry\, to understand how pathology-related local microenvironments and cell-specific phenotype changes contribute to the development and progression of neurological diseases\, such as neurodegeneration and cancer. \n\n\n\n \n\n\n\nFollowing spatial and temporal chemical changes in neurobiology\n\n\n\n \n\n\n\nUnderstanding “What’s happening in the human brain”\, has always been challenging. For a long time\, this has hampered our strategies to address diverse neurological conditions ranging from neurodevelopment to neurodegeneration\, but also cancer. Yet recent advances in stem cell-derived complex 3D models of the brain\, genetic engineering\, and state-of-the-art molecular and chemical imaging techniques open a new path to understanding the human brain. These approaches allow us to not only capture the end stages of diseases such as Alzheimer’s disease but also follow them over time. For the first time\, we can study the cellular phenotypes associated with cell-specific interactions from the spatial as well as temporal standpoint. This allows us to understand both the short- and the long-term consequences of genetically or environmentally induced insults to brain homeostasis.  \n\n\n\nIn this talk\, I will present some of the work related to revisiting the core of neuropathological changes associated with Alzheimer’s disease\, and how chemical imaging techniques can be leveraged to understand the previously inaccessible events in the pathology development. I will also address opportunities and limitations of combining cutting-edge stem cell biology and chemistry\, in studying the mechanism underlying environmentally associated pathological changes in Alzheimer’s disease and beyond. \n\n\n\n \n\n\n\n \n\n\n\n\n\n\n\nHost: Stina Syvänen stina.syvanen@pubcare.uu.se
URL:https://www.scilifelab.se/event/the-svedberg-seminar-wojciech-michno/
LOCATION:BMC Room C8:305
CATEGORIES:Event
ATTACH;FMTTYPE=image/png:https://www.scilifelab.se/wp-content/uploads/2022/02/Picture1-The-Svedberg.png
END:VEVENT
END:VCALENDAR