BEGIN:VCALENDAR
VERSION:2.0
PRODID:-//SciLifeLab - ECPv6.15.20//NONSGML v1.0//EN
CALSCALE:GREGORIAN
METHOD:PUBLISH
X-WR-CALNAME:SciLifeLab
X-ORIGINAL-URL:https://www.scilifelab.se
X-WR-CALDESC:Events for SciLifeLab
REFRESH-INTERVAL;VALUE=DURATION:PT1H
X-Robots-Tag:noindex
X-PUBLISHED-TTL:PT1H
BEGIN:VTIMEZONE
TZID:Europe/Stockholm
BEGIN:DAYLIGHT
TZOFFSETFROM:+0100
TZOFFSETTO:+0200
TZNAME:CEST
DTSTART:20230326T010000
END:DAYLIGHT
BEGIN:STANDARD
TZOFFSETFROM:+0200
TZOFFSETTO:+0100
TZNAME:CET
DTSTART:20231029T010000
END:STANDARD
BEGIN:DAYLIGHT
TZOFFSETFROM:+0100
TZOFFSETTO:+0200
TZNAME:CEST
DTSTART:20240331T010000
END:DAYLIGHT
BEGIN:STANDARD
TZOFFSETFROM:+0200
TZOFFSETTO:+0100
TZNAME:CET
DTSTART:20241027T010000
END:STANDARD
BEGIN:DAYLIGHT
TZOFFSETFROM:+0100
TZOFFSETTO:+0200
TZNAME:CEST
DTSTART:20250330T010000
END:DAYLIGHT
BEGIN:STANDARD
TZOFFSETFROM:+0200
TZOFFSETTO:+0100
TZNAME:CET
DTSTART:20251026T010000
END:STANDARD
END:VTIMEZONE
BEGIN:VEVENT
DTSTART;TZID=Europe/Stockholm:20241112T120000
DTEND;TZID=Europe/Stockholm:20241112T170000
DTSTAMP:20260421T210639
CREATED:20240909T134717Z
LAST-MODIFIED:20241111T120146Z
UID:172675-1731412800-1731430800@www.scilifelab.se
SUMMARY:Translational research as a boost for Swedish Life Science
DESCRIPTION:Learnings from the SciLifeLab model for drug discovery research\, ten years perspective \n\n\n\nThis symposium is part of the 10 year anniversary of the Drug Development and Discovery Platform at SciLifeLab. Translational research as a boost for Swedish Life Science: Learnings from the SciLifeLab model for drug discovery research\, ten years perspective \n\n\n\n \n\n\n\nregistration\n\n\n\nProgram \n\n\n\nProgram 10 års jubileum DDD_241107Download
URL:https://www.scilifelab.se/event/translational-research-as-a-boost-for-swedish-life-science/
LOCATION:Hotel Birger Jarl\, Birger Jarlsgatan 61\, Stockholm\, Sweden
CATEGORIES:Event
END:VEVENT
END:VCALENDAR