BEGIN:VCALENDAR
VERSION:2.0
PRODID:-//SciLifeLab - ECPv6.15.20//NONSGML v1.0//EN
CALSCALE:GREGORIAN
METHOD:PUBLISH
X-WR-CALNAME:SciLifeLab
X-ORIGINAL-URL:https://www.scilifelab.se
X-WR-CALDESC:Events for SciLifeLab
REFRESH-INTERVAL;VALUE=DURATION:PT1H
X-Robots-Tag:noindex
X-PUBLISHED-TTL:PT1H
BEGIN:VTIMEZONE
TZID:Europe/Stockholm
BEGIN:DAYLIGHT
TZOFFSETFROM:+0100
TZOFFSETTO:+0200
TZNAME:CEST
DTSTART:20200329T010000
END:DAYLIGHT
BEGIN:STANDARD
TZOFFSETFROM:+0200
TZOFFSETTO:+0100
TZNAME:CET
DTSTART:20201025T010000
END:STANDARD
BEGIN:DAYLIGHT
TZOFFSETFROM:+0100
TZOFFSETTO:+0200
TZNAME:CEST
DTSTART:20210328T010000
END:DAYLIGHT
BEGIN:STANDARD
TZOFFSETFROM:+0200
TZOFFSETTO:+0100
TZNAME:CET
DTSTART:20211031T010000
END:STANDARD
BEGIN:DAYLIGHT
TZOFFSETFROM:+0100
TZOFFSETTO:+0200
TZNAME:CEST
DTSTART:20220327T010000
END:DAYLIGHT
BEGIN:STANDARD
TZOFFSETFROM:+0200
TZOFFSETTO:+0100
TZNAME:CET
DTSTART:20221030T010000
END:STANDARD
END:VTIMEZONE
BEGIN:VEVENT
DTSTART;TZID=Europe/Stockholm:20211116T110000
DTEND;TZID=Europe/Stockholm:20211116T115000
DTSTAMP:20260420T103529
CREATED:20211110T152528Z
LAST-MODIFIED:20211110T160636Z
UID:59596-1637060400-1637063400@www.scilifelab.se
SUMMARY:Uppsala PhD&Postdoc seminars: Niki Sarri & Ankit Gupta
DESCRIPTION:Welcome to SciLifeLab Uppsala PhD&Postdoc seminars!We are very happy to host exciting talks by PhD students and Postdocs from a great variety of fields within SciLifeLab.The seminars will take online place every Tuesday from 11:00 to 11:50 \n\n\n\n\n\n\n\n\n\n\n\nFor this occasion the seminars will be: Niki Sarri\, PhD student in Carl-Henrik Heldin’s research groupTitle: Deubiquitinating enzymes USP4 and USP17 fine-tune the trafficking of PDGFRβ and affect PDGF-BB-induced STAT3 signallingAnkit Gupta\, PhD student in Wählby lab\, Division of Visual Information and InteractionTitle: SimSearch: A Human-in-the-Loop Learning Framework for Fast Detection of Regions of Interest in Microscopy Images
URL:https://www.scilifelab.se/event/uppsala-phdpostdoc-seminars-niki-sarri-ankit-gupta/
LOCATION:Online event via Zoom
CATEGORIES:Community
END:VEVENT
END:VCALENDAR