BEGIN:VCALENDAR
VERSION:2.0
PRODID:-//SciLifeLab - ECPv6.15.20//NONSGML v1.0//EN
CALSCALE:GREGORIAN
METHOD:PUBLISH
X-WR-CALNAME:SciLifeLab
X-ORIGINAL-URL:https://www.scilifelab.se
X-WR-CALDESC:Events for SciLifeLab
REFRESH-INTERVAL;VALUE=DURATION:PT1H
X-Robots-Tag:noindex
X-PUBLISHED-TTL:PT1H
BEGIN:VTIMEZONE
TZID:Europe/Stockholm
BEGIN:DAYLIGHT
TZOFFSETFROM:+0100
TZOFFSETTO:+0200
TZNAME:CEST
DTSTART:20230326T010000
END:DAYLIGHT
BEGIN:STANDARD
TZOFFSETFROM:+0200
TZOFFSETTO:+0100
TZNAME:CET
DTSTART:20231029T010000
END:STANDARD
BEGIN:DAYLIGHT
TZOFFSETFROM:+0100
TZOFFSETTO:+0200
TZNAME:CEST
DTSTART:20240331T010000
END:DAYLIGHT
BEGIN:STANDARD
TZOFFSETFROM:+0200
TZOFFSETTO:+0100
TZNAME:CET
DTSTART:20241027T010000
END:STANDARD
BEGIN:DAYLIGHT
TZOFFSETFROM:+0100
TZOFFSETTO:+0200
TZNAME:CEST
DTSTART:20250330T010000
END:DAYLIGHT
BEGIN:STANDARD
TZOFFSETFROM:+0200
TZOFFSETTO:+0100
TZNAME:CET
DTSTART:20251026T010000
END:STANDARD
END:VTIMEZONE
BEGIN:VEVENT
DTSTART;TZID=Europe/Stockholm:20240521T103000
DTEND;TZID=Europe/Stockholm:20240521T120000
DTSTAMP:20260422T105219
CREATED:20240515T074909Z
LAST-MODIFIED:20240515T074909Z
UID:167764-1716287400-1716292800@www.scilifelab.se
SUMMARY:Uppsala University DDLS Fellows - public seminars with candidates - part II
DESCRIPTION:Welcome to the second data driven-rich morning of scientific presentations by 2 candidates for the DDLS program fellow position on Data-driven Precision Medicine and Diagnostics and Biträdande Universitets Lektor position at Uppsala University. \n\n\n\nSchedule \n\n\n\nMeeting details\n\n\n\nTuesday\, May 21\, 2024 10:30-12:00 \n\n\n\nZoom link >>   \n\n\n\nMötes-ID: 663 2681 5420 \n\n\n\nSchedule\n\n\n\n10:30-11:05     \n\n\n\nMarcel Tarbier\, Karolinska Institutet\, Stockholm\, Sweden \n\n\n\nInto the Single-Verse: Inferring complex gene and cell features from gene expression – and an excursion through space and time \n\n\n\n11:05-11:40      \n\n\n\nMuhammad Arif\, National Institute on Alcohol Abuse and Alcoholism\, Rockville\, USA \n\n\n\nIntegrative Multi-Omics Frameworks for Understanding the Molecular Mechanism of Progressive Diseases
URL:https://www.scilifelab.se/event/uppsala-university-ddls-fellows-public-seminars-with-candidates-part-ii/
CATEGORIES:Event
ORGANIZER;CN="SciLifeLab Event":MAILTO:events@scilifelab.se
END:VEVENT
END:VCALENDAR