BEGIN:VCALENDAR
VERSION:2.0
PRODID:-//SciLifeLab - ECPv6.15.20//NONSGML v1.0//EN
CALSCALE:GREGORIAN
METHOD:PUBLISH
X-WR-CALNAME:SciLifeLab
X-ORIGINAL-URL:https://www.scilifelab.se
X-WR-CALDESC:Events for SciLifeLab
REFRESH-INTERVAL;VALUE=DURATION:PT1H
X-Robots-Tag:noindex
X-PUBLISHED-TTL:PT1H
BEGIN:VTIMEZONE
TZID:Europe/Stockholm
BEGIN:DAYLIGHT
TZOFFSETFROM:+0100
TZOFFSETTO:+0200
TZNAME:CEST
DTSTART:20240331T010000
END:DAYLIGHT
BEGIN:STANDARD
TZOFFSETFROM:+0200
TZOFFSETTO:+0100
TZNAME:CET
DTSTART:20241027T010000
END:STANDARD
BEGIN:DAYLIGHT
TZOFFSETFROM:+0100
TZOFFSETTO:+0200
TZNAME:CEST
DTSTART:20250330T010000
END:DAYLIGHT
BEGIN:STANDARD
TZOFFSETFROM:+0200
TZOFFSETTO:+0100
TZNAME:CET
DTSTART:20251026T010000
END:STANDARD
BEGIN:DAYLIGHT
TZOFFSETFROM:+0100
TZOFFSETTO:+0200
TZNAME:CEST
DTSTART:20260329T010000
END:DAYLIGHT
BEGIN:STANDARD
TZOFFSETFROM:+0200
TZOFFSETTO:+0100
TZNAME:CET
DTSTART:20261025T010000
END:STANDARD
END:VTIMEZONE
BEGIN:VEVENT
DTSTART;TZID=Europe/Stockholm:20250904T090000
DTEND;TZID=Europe/Stockholm:20250904T103000
DTSTAMP:20260421T035026
CREATED:20250812T085830Z
LAST-MODIFIED:20250812T090759Z
UID:187644-1756976400-1756981800@www.scilifelab.se
SUMMARY:User meeting for your multi-modal research projects
DESCRIPTION:Boost your research — Book a private SciLifeLab planning and feedback session for your multi-modal research projects! \n\n\n\n \n\n\n\nRegister here\n\n\n\nNext user meeting: September 4th\, 9.00 – 10.30 Registration deadline: August 29th  \n\n\n\nMultimodal molecular profiling and novel computational methods are transforming life science research\, but also pose new challenges in study design\, project resource planning and data management. SciLifeLab is a national resource of unique technologies and expertise available to life scientists\, in areas such as biomedicine\, ecology and evolution\, aiming to bring scientists together across traditional boundaries and foster collaborations with industry\, health care\, public research organizations and international partners. \n\n\n\nThe first Thursday of every month at 9.00 (except July and August)\, SciLifeLab offers an opportunity to jointly meet with representatives across the SciLifeLab service platforms\, to get feedback and help to plan\, design\, and refine new or ongoing multimodal research projects. Your project plans are discussed privately and remain confidential\, and information will not be shared outside of the service platforms. Note that for most studies\, follow-up meetings will be needed\, but our aim for these meetings is to provide an easy-access entry point for an overarching planning of multimodal studies. \n\n\n\nFor studies focusing on a single technology only\, please primarily contact our service platforms directly as described at the SciLifeLab homepage. \n\n\n\nTo make the best out of the allotted time\, we ask you to provide some background information about your project\, to help us ensure that the relevant experts are available to discuss your study. Once we have received your registration\, you will be given the link to the online meeting.
URL:https://www.scilifelab.se/event/user-meeting-for-for-your-multi-modal-research-projects/
CATEGORIES:Event
ATTACH;FMTTYPE=image/jpeg:https://www.scilifelab.se/wp-content/uploads/2025/08/AdobeStock_1081766437-scaled.jpeg
END:VEVENT
END:VCALENDAR