BEGIN:VCALENDAR
VERSION:2.0
PRODID:-//SciLifeLab - ECPv6.15.20//NONSGML v1.0//EN
CALSCALE:GREGORIAN
METHOD:PUBLISH
X-WR-CALNAME:SciLifeLab
X-ORIGINAL-URL:https://www.scilifelab.se
X-WR-CALDESC:Events for SciLifeLab
REFRESH-INTERVAL;VALUE=DURATION:PT1H
X-Robots-Tag:noindex
X-PUBLISHED-TTL:PT1H
BEGIN:VTIMEZONE
TZID:Europe/Stockholm
BEGIN:DAYLIGHT
TZOFFSETFROM:+0100
TZOFFSETTO:+0200
TZNAME:CEST
DTSTART:20250330T010000
END:DAYLIGHT
BEGIN:STANDARD
TZOFFSETFROM:+0200
TZOFFSETTO:+0100
TZNAME:CET
DTSTART:20251026T010000
END:STANDARD
BEGIN:DAYLIGHT
TZOFFSETFROM:+0100
TZOFFSETTO:+0200
TZNAME:CEST
DTSTART:20260329T010000
END:DAYLIGHT
BEGIN:STANDARD
TZOFFSETFROM:+0200
TZOFFSETTO:+0100
TZNAME:CET
DTSTART:20261025T010000
END:STANDARD
BEGIN:DAYLIGHT
TZOFFSETFROM:+0100
TZOFFSETTO:+0200
TZNAME:CEST
DTSTART:20270328T010000
END:DAYLIGHT
BEGIN:STANDARD
TZOFFSETFROM:+0200
TZOFFSETTO:+0100
TZNAME:CET
DTSTART:20271031T010000
END:STANDARD
END:VTIMEZONE
BEGIN:VEVENT
DTSTART;TZID=Europe/Stockholm:20260205T100000
DTEND;TZID=Europe/Stockholm:20260205T110000
DTSTAMP:20260420T185444
CREATED:20251222T143419Z
LAST-MODIFIED:20251222T143932Z
UID:192980-1770285600-1770289200@www.scilifelab.se
SUMMARY:Webinar: Current state of AI agents in life sciences
DESCRIPTION:Title: Current state of AI agents in life sciences \n\n\n\nSpeaker: Mahbub Ul Alam (AI Data Engineer\, SciLifeLab Data Centre) \n\n\n\nWhere and when: February 5\, 2026 at 10:00-11:00 Stockholm time\, online. Registration is open till February 5 at 9:00. \n\n\n\nAbstract: AI agents are emerging as autonomous systems that orchestrate scientific workflows by interacting with digital tools and data sources. These have various implications for life science research. They can\, for example\, simplify complex analyses by automating data integration\, run computational models\, and coordinate experimental steps\, making research pipelines more efficient and reproducible. In this online webinar we will give an introduction into what AI agents are\, discuss their potential in life sciences\, and give an overview of the most recent popular AI agent platforms that have emerged in the past months/year. \n\n\n\nThis is an introduction-level webinar where we will give a basic overview of AI agents. For more in-depth discussion and hands-on workshop consider\, for example\, this on-site workshop. \n\n\n\nTarget audience: Anyone working in or with life science research is welcome. \n\n\n\nRegister to join the event\n\n\n\nFor questions about the events please contact the organizing team by emailing datacentre@scilifelab.se  \n\n\n\nScientific lead: Prof. Ola Spjuth\, SciLifeLab Data Centre and Uppsala University \n\n\n\nContact information: datacentre@scilifelab.se
URL:https://www.scilifelab.se/event/webinar-ai-agents-in-life-sciences/
LOCATION:Online event via Zoom
CATEGORIES:Event
END:VEVENT
END:VCALENDAR