BEGIN:VCALENDAR
VERSION:2.0
PRODID:-//SciLifeLab - ECPv6.15.20//NONSGML v1.0//EN
CALSCALE:GREGORIAN
METHOD:PUBLISH
X-ORIGINAL-URL:https://www.scilifelab.se
X-WR-CALDESC:Events for SciLifeLab
REFRESH-INTERVAL;VALUE=DURATION:PT1H
X-Robots-Tag:noindex
X-PUBLISHED-TTL:PT1H
BEGIN:VTIMEZONE
TZID:Europe/Stockholm
BEGIN:DAYLIGHT
TZOFFSETFROM:+0100
TZOFFSETTO:+0200
TZNAME:CEST
DTSTART:20240331T010000
END:DAYLIGHT
BEGIN:STANDARD
TZOFFSETFROM:+0200
TZOFFSETTO:+0100
TZNAME:CET
DTSTART:20241027T010000
END:STANDARD
BEGIN:DAYLIGHT
TZOFFSETFROM:+0100
TZOFFSETTO:+0200
TZNAME:CEST
DTSTART:20250330T010000
END:DAYLIGHT
BEGIN:STANDARD
TZOFFSETFROM:+0200
TZOFFSETTO:+0100
TZNAME:CET
DTSTART:20251026T010000
END:STANDARD
BEGIN:DAYLIGHT
TZOFFSETFROM:+0100
TZOFFSETTO:+0200
TZNAME:CEST
DTSTART:20260329T010000
END:DAYLIGHT
BEGIN:STANDARD
TZOFFSETFROM:+0200
TZOFFSETTO:+0100
TZNAME:CET
DTSTART:20261025T010000
END:STANDARD
END:VTIMEZONE
BEGIN:VEVENT
DTSTART;TZID=Europe/Stockholm:20250403T120000
DTEND;TZID=Europe/Stockholm:20250403T130000
DTSTAMP:20260425T153712
CREATED:20250109T102213Z
LAST-MODIFIED:20250401T075010Z
UID:10001438-1743681600-1743685200@www.scilifelab.se
SUMMARY:Campus Solna Seminar Series: Karin Garefelt & Oskar Kviman
DESCRIPTION:Welcome to join the Campus Solna Seminar Series – an initiative to promote the fantastic science ongoing at Campus Solna and hopefully forge more internal communication and collaboration between within Campus Solna. The format consists of two 20 min talks (One speaker from the Alpha-building and one from the Gamma-building respectively)\, with an additional 5 min of questions. Presentation of ongoing (unpublished) projects is strongly encouraged. \n\n\n\nThe seminars are held Thursdays 12:00-13:00. You can bring your lunch to the seminar. \n\n\n\nPhD students that are attending the Campus Solna Seminar lectures will have the opportunity to gain credits. For the syllabus and instructions on how to obtain these credits\, read this document. Please contact your own department at your host University to confirm.See here the full schedule for this semester. \n\n\n\nThis week:\n\n\n\n\n\n\nKarin Garefelt\n\n\n\nAnders Andersson – alpha 3 \n\n\n\nWide-spread diel vertical migration in phytoplankton revealed by high-throughput imaging and deep-learning \n\n\n\n\n\nOskar Kviman\n\n\n\nJens Lagergren – gamma 6 \n\n\n\nWhen and why t-testing for differential expressions will fail in scRNA-seq\, and how to solve it \n\n\n\n\n\n\nThis seminar series is organized by the PhD & Postdoc Council. For more information about the Council and other events check our page.
URL:https://www.scilifelab.se/event/campus-solna-seminar-series-marco-vicari-oskar-kviman/
LOCATION:Milkyway SciLifeLab Solna\, Tomtebodavägen 23\, Solna
CATEGORIES:Community
ATTACH;FMTTYPE=image/jpeg:https://www.scilifelab.se/wp-content/uploads/2022/09/IMG_20221103_120135408_HDR-scaled.jpg
ORGANIZER;CN="SciLifeLab Solna PhD & Postdoc Council":MAILTO:phd-council@scilifelab.se
END:VEVENT
BEGIN:VEVENT
DTSTART;TZID=Europe/Stockholm:20250410T120000
DTEND;TZID=Europe/Stockholm:20250410T130000
DTSTAMP:20260425T153712
CREATED:20250109T102417Z
LAST-MODIFIED:20250401T075412Z
UID:10001439-1744286400-1744290000@www.scilifelab.se
SUMMARY:Campus Solna Seminar Series: Emil Johansson & Solveig Thiele
DESCRIPTION:Welcome to join the Campus Solna Seminar Series – an initiative to promote the fantastic science ongoing at Campus Solna and hopefully forge more internal communication and collaboration between within Campus Solna. The format consists of two 20 min talks (One speaker from the Alpha-building and one from the Gamma-building respectively)\, with an additional 5 min of questions. Presentation of ongoing (unpublished) projects is strongly encouraged. \n\n\n\nThe seminars are held Thursdays 12:00-13:00. You can bring your lunch to the seminar. \n\n\n\nPhD students that are attending the Campus Solna Seminar lectures will have the opportunity to gain credits. For the syllabus and instructions on how to obtain these credits\, read this document. Please contact your own department at your host University to confirm.See here the full schedule for this semester. \n\n\n\nThis week:\n\n\n\n\n\n\nEmil Johansson\n\n\n\nFredrik Edfors – alpha 6 \n\n\n\nThe blood plasma proteome in cardiovascular diseases \n\n\n\n\n\nSolveig Thiele\n\n\n\nJonathan Martin – gamma 5 \n\n\n\nReaching higher throughput for chemical exposomics of human serum with phospholipid removal and LC-HRMS \n\n\n\n\n\n\nThis seminar series is organized by the PhD & Postdoc Council. For more information about the Council and other events check our page.
URL:https://www.scilifelab.se/event/campus-solna-seminar-series-leo-dahl-solveig-thiele/
LOCATION:Milkyway SciLifeLab Solna\, Tomtebodavägen 23\, Solna
CATEGORIES:Community
ATTACH;FMTTYPE=image/jpeg:https://www.scilifelab.se/wp-content/uploads/2022/09/IMG_20221103_123412496_HDR2-scaled.jpg
ORGANIZER;CN="SciLifeLab Solna PhD & Postdoc Council":MAILTO:phd-council@scilifelab.se
END:VEVENT
BEGIN:VEVENT
DTSTART;TZID=Europe/Stockholm:20250417T120000
DTEND;TZID=Europe/Stockholm:20250417T130000
DTSTAMP:20260425T153712
CREATED:20250109T102528Z
LAST-MODIFIED:20250413T200859Z
UID:10001440-1744891200-1744894800@www.scilifelab.se
SUMMARY:Campus Solna Seminar Series: Ernest Cheng-De Liu & David Unnersjö-Jess
DESCRIPTION:Welcome to join the Campus Solna Seminar Series – an initiative to promote the fantastic science ongoing at Campus Solna and hopefully forge more internal communication and collaboration between within Campus Solna. The format consists of two 20 min talks (One speaker from the Alpha-building and one from the Gamma-building respectively)\, with an additional 5 min of questions. Presentation of ongoing (unpublished) projects is strongly encouraged. \n\n\n\nThe seminars are held Thursdays 12:00-13:00. You can bring your lunch to the seminar. \n\n\n\nPhD students that are attending the Campus Solna Seminar lectures will have the opportunity to gain credits. For the syllabus and instructions on how to obtain these credits\, read this document. Please contact your own department at your host University to confirm.See here the full schedule for this semester. \n\n\n\nThis week:\n\n\n\n\n\n\nErnest Cheng-De Liu\n\n\n\nKasper Karlsson – alpha 5 \n\n\n\nEnhancing Neuroblastoma Organoid Diversity with Single-CellTranscriptomics Heterogeneity Measurement \n\n\n\n\n\nDavid Unnersjö-Jess\n\n\n\nHjalmar Brismar – gamma 3 \n\n\n\nNanoscale Imaging with Advanced Image Analysis for Patient Stratification\, Drug Development\, and Diagnostics \n\n\n\n\n\n\nThis seminar series is organized by the PhD & Postdoc Council. For more information about the Council and other events check our page.
URL:https://www.scilifelab.se/event/campus-solna-seminar-series-ernest-cheng-de-liu-david-unnersjo-jess/
LOCATION:Air&Fire\, SciLifeLab Stockholm\, Tomtebodavägen 23A\, Solna\, Sweden
CATEGORIES:Community
ATTACH;FMTTYPE=image/jpeg:https://www.scilifelab.se/wp-content/uploads/2022/09/IMG_20221103_124630107_HDR-scaled.jpg
ORGANIZER;CN="SciLifeLab Solna PhD & Postdoc Council":MAILTO:phd-council@scilifelab.se
END:VEVENT
BEGIN:VEVENT
DTSTART;TZID=Europe/Stockholm:20250424T120000
DTEND;TZID=Europe/Stockholm:20250424T130000
DTSTAMP:20260425T153712
CREATED:20250109T102640Z
LAST-MODIFIED:20250413T200938Z
UID:10001441-1745496000-1745499600@www.scilifelab.se
SUMMARY:Campus Solna Seminar Series: Erik Wernersson & Stefan Wennmalm
DESCRIPTION:Welcome to join the Campus Solna Seminar Series – an initiative to promote the fantastic science ongoing at Campus Solna and hopefully forge more internal communication and collaboration between within Campus Solna. The format consists of two 20 min talks (One speaker from the Alpha-building and one from the Gamma-building respectively)\, with an additional 5 min of questions. Presentation of ongoing (unpublished) projects is strongly encouraged. \n\n\n\nThe seminars are held Thursdays 12:00-13:00. You can bring your lunch to the seminar. \n\n\n\nPhD students that are attending the Campus Solna Seminar lectures will have the opportunity to gain credits. For the syllabus and instructions on how to obtain these credits\, read this document. Please contact your own department at your host University to confirm.See here the full schedule for this semester. \n\n\n\nThis week:\n\n\n\n\n\n\nErik Wernersson\n\n\n\nMagda Bienko – alpha 4 \n\n\n\nFISH probe design: Aligners and Anti-Aligners \n\n\n\n\n\nStefan Wennmalm\n\n\n\nHans Blom – gamma 3 \n\n\n\nMINFLUX tracking of single molecules in cells at the Advanced Light Microscopy Facility \n\n\n\n\n\n\nThis seminar series is organized by the PhD & Postdoc Council. For more information about the Council and other events check our page.
URL:https://www.scilifelab.se/event/campus-solna-seminar-series-erik-wernersson-stefan-wennmalm/
LOCATION:Air&Fire\, SciLifeLab Stockholm\, Tomtebodavägen 23A\, Solna\, Sweden
CATEGORIES:Community
ATTACH;FMTTYPE=image/jpeg:https://www.scilifelab.se/wp-content/uploads/2022/12/IMG_4110-scaled.jpg
ORGANIZER;CN="SciLifeLab Solna PhD & Postdoc Council":MAILTO:phd-council@scilifelab.se
END:VEVENT
BEGIN:VEVENT
DTSTART;TZID=Europe/Stockholm:20250424T153000
DTEND;TZID=Europe/Stockholm:20250424T170000
DTSTAMP:20260425T153712
CREATED:20250414T071625Z
LAST-MODIFIED:20250416T112350Z
UID:10001531-1745508600-1745514000@www.scilifelab.se
SUMMARY:BAM Seminar: Transitioning from Academia to Start-up & Entrepreneurship
DESCRIPTION:As part of our “Biology At Most” seminar series we invite speakers from all types of life science career paths. They will share their visions\, perspectives and expertise in their field in a informal environment.  \n\n\n\nToday’s guests are SciLifeLab and/or academia alumni with start-up experience\n\n\n\nOur speakers will discuss the transition from academia to start-ups\, share experience\, and have a panel-discussion with questions from people from the SciLifeLab community.  \n\n\n\nWe will have time for fika at the seminar and the pub will be open for networking & mingle after. Please register via the google form until April 20th to be considered for the fika. \n\n\n\nSpeakers:\n\n\n\nJudy Mielke – ScientifyRESEARCH \n\n\n\nSimon Fredriksson – Pixelgen \n\n\n\nDavid Kotol – Proteome Edge \n\n\n\nBanushree Kumar – Epigenica \n\n\n\n\n\n\n\n\nProgram\n\n\n\n\n\n15.30-15.35 \n\n\n\n\n\nWelcome \n\n\n\n\n\n\n\n15.35-15.55 \n\n\n\n\n\nPanelists introductions \n\n\n\n\n\n\n\n15.55-16.35 \n\n\n\n\n\nPanel discussion – Public discussion with all panel members \n\n\n\n\n\n\n\n16.35-16.55 \n\n\n\n\n\nBreakout sessions – Smaller group discussion with your favorite panel member \n\n\n\n\n\n\n\n16.55-17.00 \n\n\n\n\n\nClosing remarks (continue mingling at pub) \n\n\n\n\n\n\n\n\n\n\n\n\n\n\nThis seminar series is organized by the PhD & Postdoc Council. For more information about the Council and other events check our page.
URL:https://www.scilifelab.se/event/bam-seminar-transitioning-from-academia-to-start-up-entrepreneurship/
LOCATION:Gamma 2 Lunchroom\, SciLifeLab\, Tomtebodavägen 23\, Solna\, Sweden
CATEGORIES:Community
ATTACH;FMTTYPE=image/jpeg:https://www.scilifelab.se/wp-content/uploads/2022/11/BAM.jpg
ORGANIZER;CN="SciLifeLab Solna PhD & Postdoc Council":MAILTO:phd-council@scilifelab.se
END:VEVENT
END:VCALENDAR