BEGIN:VCALENDAR
VERSION:2.0
PRODID:-//SciLifeLab - ECPv6.15.20//NONSGML v1.0//EN
CALSCALE:GREGORIAN
METHOD:PUBLISH
X-ORIGINAL-URL:https://www.scilifelab.se
X-WR-CALDESC:Events for SciLifeLab
REFRESH-INTERVAL;VALUE=DURATION:PT1H
X-Robots-Tag:noindex
X-PUBLISHED-TTL:PT1H
BEGIN:VTIMEZONE
TZID:Europe/Stockholm
BEGIN:DAYLIGHT
TZOFFSETFROM:+0100
TZOFFSETTO:+0200
TZNAME:CEST
DTSTART:20250330T010000
END:DAYLIGHT
BEGIN:STANDARD
TZOFFSETFROM:+0200
TZOFFSETTO:+0100
TZNAME:CET
DTSTART:20251026T010000
END:STANDARD
BEGIN:DAYLIGHT
TZOFFSETFROM:+0100
TZOFFSETTO:+0200
TZNAME:CEST
DTSTART:20260329T010000
END:DAYLIGHT
BEGIN:STANDARD
TZOFFSETFROM:+0200
TZOFFSETTO:+0100
TZNAME:CET
DTSTART:20261025T010000
END:STANDARD
BEGIN:DAYLIGHT
TZOFFSETFROM:+0100
TZOFFSETTO:+0200
TZNAME:CEST
DTSTART:20270328T010000
END:DAYLIGHT
BEGIN:STANDARD
TZOFFSETFROM:+0200
TZOFFSETTO:+0100
TZNAME:CET
DTSTART:20271031T010000
END:STANDARD
END:VTIMEZONE
BEGIN:VEVENT
DTSTART;TZID=Europe/Stockholm:20260305T120000
DTEND;TZID=Europe/Stockholm:20260305T130000
DTSTAMP:20260424T215327
CREATED:20260112T101856Z
LAST-MODIFIED:20260302T124550Z
UID:10001700-1772712000-1772715600@www.scilifelab.se
SUMMARY:Campus Solna Seminar Series: Adriana Carvajal-Jimenez
DESCRIPTION:Welcome to join the Campus Solna Seminar Series – an initiative to promote the fantastic science ongoing at Campus Solna and hopefully forge more internal communication and collaboration between within Campus Solna. The format consists of two 20 min talks (One speaker from the Alpha-building and one from the Gamma-building respectively)\, with an additional 5 min of questions. Presentation of ongoing (unpublished) projects is strongly encouraged. \n\n\n\nThe seminars are held Thursdays 12:00-13:00. You can bring your lunch to the seminar. \n\n\n\nPhD students that are attending the Campus Solna Seminar lectures will have the opportunity to gain credits. For the syllabus and instructions on how to obtain these credits\, read this document. Please contact your own department at your host University to confirm.See here the full schedule for this semester. \n\n\n\nThis week:\n\n\n\n\n\n\nAdriana Carvajal-Jimenez\n\n\n\nVicent Pelechano – gamma 5 \n\n\n\nHigh-Throughput Profiling of Transcription Factor Binding Dynamics in Response to Epigenetic Modulation \n\n\n\n\n\n\n\n\n\n \n\n\n\n \n\n\n\n\n\n\nThis seminar series is organized by the PhD & Postdoc Council. For more information about the Council and other events check our page.
URL:https://www.scilifelab.se/event/campus-solna-seminar-series-5mar/
LOCATION:Milkyway SciLifeLab Solna\, Tomtebodavägen 23\, Solna
CATEGORIES:Community
ATTACH;FMTTYPE=image/jpeg:https://www.scilifelab.se/wp-content/uploads/2022/09/IMG_20221103_120135408_HDR-scaled.jpg
ORGANIZER;CN="SciLifeLab Solna PhD & Postdoc Council":MAILTO:phd-council@scilifelab.se
END:VEVENT
BEGIN:VEVENT
DTSTART;TZID=Europe/Stockholm:20260312T120000
DTEND;TZID=Europe/Stockholm:20260312T130000
DTSTAMP:20260424T215327
CREATED:20260113T095048Z
LAST-MODIFIED:20260310T112656Z
UID:10001702-1773316800-1773320400@www.scilifelab.se
SUMMARY:Campus Solna Seminar Series: Emma Bell & Xue-Kang Qi
DESCRIPTION:Welcome to join the Campus Solna Seminar Series – an initiative to promote the fantastic science ongoing at Campus Solna and hopefully forge more internal communication and collaboration between within Campus Solna. The format consists of two 20 min talks (One speaker from the Alpha-building and one from the Gamma-building respectively)\, with an additional 5 min of questions. Presentation of ongoing (unpublished) projects is strongly encouraged. \n\n\n\nThe seminars are held Thursdays 12:00-13:00. You can bring your lunch to the seminar. \n\n\n\nPhD students that are attending the Campus Solna Seminar lectures will have the opportunity to gain credits. For the syllabus and instructions on how to obtain these credits\, read this document. Please contact your own department at your host University to confirm.See here the full schedule for this semester. \n\n\n\nThis week:\n\n\n\n\n\n\nEmma Bell\n\n\n\nAnders Andersson – alpha  \n\n\n\nLinking marine bacteria and phages through CRISPR and abundance dynamics in a meta-omic time series \n\n\n\n\n\nXue-Kang Qi\n\n\n\nJanne Lehtiö – gamma \n\n\n\nProteomic profiling reveals pleiotropic antimetabolite activity of triciribine in acute lymphoblastic leukemia \n\n\n\n\n\n\nThis seminar series is organized by the PhD & Postdoc Council. For more information about the Council and other events check our page.
URL:https://www.scilifelab.se/event/campus-solna-seminar-series-12mar/
LOCATION:Milkyway SciLifeLab Solna\, Tomtebodavägen 23\, Solna
CATEGORIES:Community
ATTACH;FMTTYPE=image/jpeg:https://www.scilifelab.se/wp-content/uploads/2022/09/IMG_20221103_120135408_HDR-scaled.jpg
ORGANIZER;CN="SciLifeLab Solna PhD & Postdoc Council":MAILTO:phd-council@scilifelab.se
END:VEVENT
BEGIN:VEVENT
DTSTART;TZID=Europe/Stockholm:20260312T160000
DTEND;TZID=Europe/Stockholm:20260312T170000
DTSTAMP:20260424T215327
CREATED:20251005T134614Z
LAST-MODIFIED:20260309T100248Z
UID:10001629-1773331200-1773334800@www.scilifelab.se
SUMMARY:BAM Seminar: Scientific Storytelling
DESCRIPTION:As part of our “Biology At Most” seminar series we invite speakers from all types of life science career paths. They will share their visions\, perspectives and expertise in their field in a informal environment.  \n\n\n\nOur speaker is Sebastian Hedlund\, an expert in the field of science communication\n\n\n\nHe is a junior project manager at Public & Science Sweden\, where he works on science festivals and public outreach projects. Passionate about research and storytelling\, he uses his experience in journalism and radio production to make science engaging and accessible to a wide audience. \n\n\n\nIn this BAM seminar\, Sebastian will learn us how to make our scientific presentations engaging and memorable through storytelling! He will share practical tips on rhetoric\, visuals\, and crafting compelling narratives to bring your research to life. \n\n\n\nWe will have time for fika at the seminar and the pub will be open for networking & mingle after.  \n\n\n\nRegister here \n\n\n\n \n\n\n\n\n\n\n\nThis seminar series is organized by the PhD & Postdoc Council. For more information about the Council and other events check our page.
URL:https://www.scilifelab.se/event/bam-seminar-scientific-storytelling/
LOCATION:Gamma 2 Lunchroom\, SciLifeLab\, Tomtebodavägen 23\, Solna\, Sweden
CATEGORIES:Community
ATTACH;FMTTYPE=image/jpeg:https://www.scilifelab.se/wp-content/uploads/2022/11/BAM.jpg
ORGANIZER;CN="SciLifeLab Solna PhD & Postdoc Council":MAILTO:phd-council@scilifelab.se
END:VEVENT
BEGIN:VEVENT
DTSTART;TZID=Europe/Stockholm:20260317T140000
DTEND;TZID=Europe/Stockholm:20260320T150000
DTSTAMP:20260424T215327
CREATED:20260130T115232Z
LAST-MODIFIED:20260317T085131Z
UID:10001745-1773756000-1774018800@www.scilifelab.se
SUMMARY:DDLS Research School Annual Meeting
DESCRIPTION:The DDLS Research School Annual Meeting 2026 for PhDs and PIs\, including DDLS fellows. This meeting is by invitation only. DDLS PhD students are invited to participate the entire duration of the meeting (17-20 March)\, while their supervisors are invited to participate 17-18 March (afternoon-to-lunch) \n\n\n\nMeeting Highlights \n\n\n\nAll PhD students are encouraged to present a poster\, and all posters will be accepted. Senior PhD students (year 2 and later) are encouraged to also sign up for an oral presentation. \n\n\n\nPreliminary Program\n\n\n\nTuesday 17/3 \n\n\n\n14:00-15:00 Registration and coffee \n\n\n\n15:00-16:00 Welcome and Research School information \n\n\n\n16:15-18:30 PhD students: Social activity \n\n\n\n16:00-18:00 PIs: meeting with Research School directors \n\n\n\n19:00- Conference dinner \n\n\n\nWednesday 18/3 \n\n\n\n8:30-12:30 Scientific presentations by PhD students \n\n\n\n12:30 Lunch \n\n\n\n13:30-14:30 Student council meeting (Thanadol Sutantiwanichkul\, Olof Nordenström) \n\n\n\n14:30-15:30 Career workshop: Life After the PhD: Industry Insights for DDLS Researchers\, by SwedenBIO (Marjo Puumalainen) \n\n\n\n16:00-18:00 Poster session with drinks \n\n\n\n19:00 Dinner \n\n\n\nThursday 19/3 \n\n\n\n9:30-17:15: 1st year course – Open Science in the Swedish context (Ineke Luijten) \n\n\n\n9:00-17:00 2nd year course – Ethical\, legal and social implications of AI (Heidi Howard) \n\n\n\n12:30 Lunch \n\n\n\n19:30 Dinner \n\n\n\nFriday 20/3 \n\n\n\n8:15-10:15 Lecture and workshop: Exploring the principles and practice of AI (Thomas Schön) \n\n\n\n10:30-11:30 Introduction to 2026 DDLS RS courses \n\n\n\n11:30-12:15 Group work: Future courses in DDLS RS  \n\n\n\n12:30 Lunch \n\n\n\nBus transfer\n\n\n\nDetails regarding bus transfer will be sent by email to those who have signed up for bus in their registration
URL:https://www.scilifelab.se/event/ddls-research-school-annual-meeting-2/
LOCATION:Skogshem & Wijk\, Hustegavägen 1\, Lidingö\, 181 24
CATEGORIES:Community
END:VEVENT
BEGIN:VEVENT
DTSTART;TZID=Europe/Stockholm:20260319T120000
DTEND;TZID=Europe/Stockholm:20260319T130000
DTSTAMP:20260424T215327
CREATED:20260113T095130Z
LAST-MODIFIED:20260309T094439Z
UID:10001703-1773921600-1773925200@www.scilifelab.se
SUMMARY:Campus Solna Seminar Series:
DESCRIPTION:Welcome to join the Campus Solna Seminar Series – an initiative to promote the fantastic science ongoing at Campus Solna and hopefully forge more internal communication and collaboration between within Campus Solna. The format consists of two 20 min talks (One speaker from the Alpha-building and one from the Gamma-building respectively)\, with an additional 5 min of questions. Presentation of ongoing (unpublished) projects is strongly encouraged. \n\n\n\nThe seminars are held Thursdays 12:00-13:00. You can bring your lunch to the seminar. \n\n\n\nPhD students that are attending the Campus Solna Seminar lectures will have the opportunity to gain credits. For the syllabus and instructions on how to obtain these credits\, read this document. Please contact your own department at your host University to confirm.See here the full schedule for this semester. \n\n\n\nThis week:\n\n\n\n\n\n\n\n\n\n\n \n\n\n\n \n\n\n\n\n\n\n\n\n\n \n\n\n\n \n\n\n\n\n\n\nThis seminar series is organized by the PhD & Postdoc Council. For more information about the Council and other events check our page.
URL:https://www.scilifelab.se/event/campus-solna-seminar-series-19mar/
LOCATION:Milkyway SciLifeLab Solna\, Tomtebodavägen 23\, Solna
CATEGORIES:Community
ATTACH;FMTTYPE=image/jpeg:https://www.scilifelab.se/wp-content/uploads/2022/09/IMG_20221103_124630107_HDR-scaled.jpg
ORGANIZER;CN="SciLifeLab Solna PhD & Postdoc Council":MAILTO:phd-council@scilifelab.se
END:VEVENT
BEGIN:VEVENT
DTSTART;TZID=Europe/Stockholm:20260326T120000
DTEND;TZID=Europe/Stockholm:20260326T130000
DTSTAMP:20260424T215327
CREATED:20260113T095201Z
LAST-MODIFIED:20260318T140554Z
UID:10001704-1774526400-1774530000@www.scilifelab.se
SUMMARY:Campus Solna Seminar Series: Adrian Garcia Moreno & Ann-Kathrin Schlotterbeck
DESCRIPTION:Welcome to join the Campus Solna Seminar Series – an initiative to promote the fantastic science ongoing at Campus Solna and hopefully forge more internal communication and collaboration between within Campus Solna. The format consists of two 20 min talks (One speaker from the Alpha-building and one from the Gamma-building respectively)\, with an additional 5 min of questions. Presentation of ongoing (unpublished) projects is strongly encouraged. \n\n\n\nThe seminars are held Thursdays 12:00-13:00. You can bring your lunch to the seminar. \n\n\n\nPhD students that are attending the Campus Solna Seminar lectures will have the opportunity to gain credits. For the syllabus and instructions on how to obtain these credits\, read this document. Please contact your own department at your host University to confirm.See here the full schedule for this semester. \n\n\n\nThis week:\n\n\n\n\n\n\nAdrian Garcia Moreno\n\n\n\nOla Larsson – gamma 4  \n\n\n\nDecoding Translational Mechanisms Underlying Breast Cancer Patient Heterogeneity \n\n\n\n\n\nAnn-Kathrin Schlotterbeck\n\n\n\nSean Rudd – alpha \n\n\n\n \n\n\n\n\n\n\nThis seminar series is organized by the PhD & Postdoc Council. For more information about the Council and other events check our page.
URL:https://www.scilifelab.se/event/campus-solna-seminar-series-26mar/
LOCATION:Milkyway SciLifeLab Solna\, Tomtebodavägen 23\, Solna
CATEGORIES:Community
ATTACH;FMTTYPE=image/jpeg:https://www.scilifelab.se/wp-content/uploads/2022/12/IMG_4110-scaled.jpg
ORGANIZER;CN="SciLifeLab Solna PhD & Postdoc Council":MAILTO:phd-council@scilifelab.se
END:VEVENT
END:VCALENDAR