BEGIN:VCALENDAR
VERSION:2.0
PRODID:-//SciLifeLab - ECPv6.15.20//NONSGML v1.0//EN
CALSCALE:GREGORIAN
METHOD:PUBLISH
X-ORIGINAL-URL:https://www.scilifelab.se
X-WR-CALDESC:Events for SciLifeLab
REFRESH-INTERVAL;VALUE=DURATION:PT1H
X-Robots-Tag:noindex
X-PUBLISHED-TTL:PT1H
BEGIN:VTIMEZONE
TZID:Europe/Stockholm
BEGIN:DAYLIGHT
TZOFFSETFROM:+0100
TZOFFSETTO:+0200
TZNAME:CEST
DTSTART:20250330T010000
END:DAYLIGHT
BEGIN:STANDARD
TZOFFSETFROM:+0200
TZOFFSETTO:+0100
TZNAME:CET
DTSTART:20251026T010000
END:STANDARD
BEGIN:DAYLIGHT
TZOFFSETFROM:+0100
TZOFFSETTO:+0200
TZNAME:CEST
DTSTART:20260329T010000
END:DAYLIGHT
BEGIN:STANDARD
TZOFFSETFROM:+0200
TZOFFSETTO:+0100
TZNAME:CET
DTSTART:20261025T010000
END:STANDARD
BEGIN:DAYLIGHT
TZOFFSETFROM:+0100
TZOFFSETTO:+0200
TZNAME:CEST
DTSTART:20270328T010000
END:DAYLIGHT
BEGIN:STANDARD
TZOFFSETFROM:+0200
TZOFFSETTO:+0100
TZNAME:CET
DTSTART:20271031T010000
END:STANDARD
END:VTIMEZONE
BEGIN:VEVENT
DTSTART;TZID=Europe/Stockholm:20260317T140000
DTEND;TZID=Europe/Stockholm:20260320T150000
DTSTAMP:20260425T172529
CREATED:20260130T115232Z
LAST-MODIFIED:20260317T085131Z
UID:10001745-1773756000-1774018800@www.scilifelab.se
SUMMARY:DDLS Research School Annual Meeting
DESCRIPTION:The DDLS Research School Annual Meeting 2026 for PhDs and PIs\, including DDLS fellows. This meeting is by invitation only. DDLS PhD students are invited to participate the entire duration of the meeting (17-20 March)\, while their supervisors are invited to participate 17-18 March (afternoon-to-lunch) \n\n\n\nMeeting Highlights \n\n\n\nAll PhD students are encouraged to present a poster\, and all posters will be accepted. Senior PhD students (year 2 and later) are encouraged to also sign up for an oral presentation. \n\n\n\nPreliminary Program\n\n\n\nTuesday 17/3 \n\n\n\n14:00-15:00 Registration and coffee \n\n\n\n15:00-16:00 Welcome and Research School information \n\n\n\n16:15-18:30 PhD students: Social activity \n\n\n\n16:00-18:00 PIs: meeting with Research School directors \n\n\n\n19:00- Conference dinner \n\n\n\nWednesday 18/3 \n\n\n\n8:30-12:30 Scientific presentations by PhD students \n\n\n\n12:30 Lunch \n\n\n\n13:30-14:30 Student council meeting (Thanadol Sutantiwanichkul\, Olof Nordenström) \n\n\n\n14:30-15:30 Career workshop: Life After the PhD: Industry Insights for DDLS Researchers\, by SwedenBIO (Marjo Puumalainen) \n\n\n\n16:00-18:00 Poster session with drinks \n\n\n\n19:00 Dinner \n\n\n\nThursday 19/3 \n\n\n\n9:30-17:15: 1st year course – Open Science in the Swedish context (Ineke Luijten) \n\n\n\n9:00-17:00 2nd year course – Ethical\, legal and social implications of AI (Heidi Howard) \n\n\n\n12:30 Lunch \n\n\n\n19:30 Dinner \n\n\n\nFriday 20/3 \n\n\n\n8:15-10:15 Lecture and workshop: Exploring the principles and practice of AI (Thomas Schön) \n\n\n\n10:30-11:30 Introduction to 2026 DDLS RS courses \n\n\n\n11:30-12:15 Group work: Future courses in DDLS RS  \n\n\n\n12:30 Lunch \n\n\n\nBus transfer\n\n\n\nDetails regarding bus transfer will be sent by email to those who have signed up for bus in their registration
URL:https://www.scilifelab.se/event/ddls-research-school-annual-meeting-2/
LOCATION:Skogshem & Wijk\, Hustegavägen 1\, Lidingö\, 181 24
CATEGORIES:Community
END:VEVENT
BEGIN:VEVENT
DTSTART;TZID=Europe/Stockholm:20260319T120000
DTEND;TZID=Europe/Stockholm:20260319T130000
DTSTAMP:20260425T172529
CREATED:20260113T095130Z
LAST-MODIFIED:20260309T094439Z
UID:10001703-1773921600-1773925200@www.scilifelab.se
SUMMARY:Campus Solna Seminar Series:
DESCRIPTION:Welcome to join the Campus Solna Seminar Series – an initiative to promote the fantastic science ongoing at Campus Solna and hopefully forge more internal communication and collaboration between within Campus Solna. The format consists of two 20 min talks (One speaker from the Alpha-building and one from the Gamma-building respectively)\, with an additional 5 min of questions. Presentation of ongoing (unpublished) projects is strongly encouraged. \n\n\n\nThe seminars are held Thursdays 12:00-13:00. You can bring your lunch to the seminar. \n\n\n\nPhD students that are attending the Campus Solna Seminar lectures will have the opportunity to gain credits. For the syllabus and instructions on how to obtain these credits\, read this document. Please contact your own department at your host University to confirm.See here the full schedule for this semester. \n\n\n\nThis week:\n\n\n\n\n\n\n\n\n\n\n \n\n\n\n \n\n\n\n\n\n\n\n\n\n \n\n\n\n \n\n\n\n\n\n\nThis seminar series is organized by the PhD & Postdoc Council. For more information about the Council and other events check our page.
URL:https://www.scilifelab.se/event/campus-solna-seminar-series-19mar/
LOCATION:Milkyway SciLifeLab Solna\, Tomtebodavägen 23\, Solna
CATEGORIES:Community
ATTACH;FMTTYPE=image/jpeg:https://www.scilifelab.se/wp-content/uploads/2022/09/IMG_20221103_124630107_HDR-scaled.jpg
ORGANIZER;CN="SciLifeLab Solna PhD & Postdoc Council":MAILTO:phd-council@scilifelab.se
END:VEVENT
BEGIN:VEVENT
DTSTART;TZID=Europe/Stockholm:20260326T120000
DTEND;TZID=Europe/Stockholm:20260326T130000
DTSTAMP:20260425T172529
CREATED:20260113T095201Z
LAST-MODIFIED:20260318T140554Z
UID:10001704-1774526400-1774530000@www.scilifelab.se
SUMMARY:Campus Solna Seminar Series: Adrian Garcia Moreno & Ann-Kathrin Schlotterbeck
DESCRIPTION:Welcome to join the Campus Solna Seminar Series – an initiative to promote the fantastic science ongoing at Campus Solna and hopefully forge more internal communication and collaboration between within Campus Solna. The format consists of two 20 min talks (One speaker from the Alpha-building and one from the Gamma-building respectively)\, with an additional 5 min of questions. Presentation of ongoing (unpublished) projects is strongly encouraged. \n\n\n\nThe seminars are held Thursdays 12:00-13:00. You can bring your lunch to the seminar. \n\n\n\nPhD students that are attending the Campus Solna Seminar lectures will have the opportunity to gain credits. For the syllabus and instructions on how to obtain these credits\, read this document. Please contact your own department at your host University to confirm.See here the full schedule for this semester. \n\n\n\nThis week:\n\n\n\n\n\n\nAdrian Garcia Moreno\n\n\n\nOla Larsson – gamma 4  \n\n\n\nDecoding Translational Mechanisms Underlying Breast Cancer Patient Heterogeneity \n\n\n\n\n\nAnn-Kathrin Schlotterbeck\n\n\n\nSean Rudd – alpha \n\n\n\n \n\n\n\n\n\n\nThis seminar series is organized by the PhD & Postdoc Council. For more information about the Council and other events check our page.
URL:https://www.scilifelab.se/event/campus-solna-seminar-series-26mar/
LOCATION:Milkyway SciLifeLab Solna\, Tomtebodavägen 23\, Solna
CATEGORIES:Community
ATTACH;FMTTYPE=image/jpeg:https://www.scilifelab.se/wp-content/uploads/2022/12/IMG_4110-scaled.jpg
ORGANIZER;CN="SciLifeLab Solna PhD & Postdoc Council":MAILTO:phd-council@scilifelab.se
END:VEVENT
BEGIN:VEVENT
DTSTART;TZID=Europe/Stockholm:20260402T120000
DTEND;TZID=Europe/Stockholm:20260402T130000
DTSTAMP:20260425T172529
CREATED:20260113T095235Z
LAST-MODIFIED:20260127T102934Z
UID:10001705-1775131200-1775134800@www.scilifelab.se
SUMMARY:Campus Solna Seminar Series: Marco Fornasier & Linnea Påvenius
DESCRIPTION:Welcome to join the Campus Solna Seminar Series – an initiative to promote the fantastic science ongoing at Campus Solna and hopefully forge more internal communication and collaboration between within Campus Solna. The format consists of two 20 min talks (One speaker from the Alpha-building and one from the Gamma-building respectively)\, with an additional 5 min of questions. Presentation of ongoing (unpublished) projects is strongly encouraged. \n\n\n\nThe seminars are held Thursdays 12:00-13:00. You can bring your lunch to the seminar. \n\n\n\nPhD students that are attending the Campus Solna Seminar lectures will have the opportunity to gain credits. For the syllabus and instructions on how to obtain these credits\, read this document. Please contact your own department at your host University to confirm.See here the full schedule for this semester. \n\n\n\nThis week:\n\n\n\n\n\n\nMarco Fornasier\n\n\n\nHanna Barriga – alpha  \n\n\n\n \n\n\n\n\n\nLinnea Påvenius\n\n\n\nHjalmar Brismar – gamma 3 \n\n\n\n \n\n\n\n\n\n\nThis seminar series is organized by the PhD & Postdoc Council. For more information about the Council and other events check our page.
URL:https://www.scilifelab.se/event/campus-solna-seminar-series-2apr/
LOCATION:Air&Fire\, SciLifeLab Stockholm\, Tomtebodavägen 23A\, Solna\, Sweden
CATEGORIES:Community
ATTACH;FMTTYPE=image/jpeg:https://www.scilifelab.se/wp-content/uploads/2022/09/IMG_20221103_120135408_HDR-scaled.jpg
ORGANIZER;CN="SciLifeLab Solna PhD & Postdoc Council":MAILTO:phd-council@scilifelab.se
END:VEVENT
BEGIN:VEVENT
DTSTART;TZID=Europe/Stockholm:20260409T120000
DTEND;TZID=Europe/Stockholm:20260409T130000
DTSTAMP:20260425T172529
CREATED:20260113T095432Z
LAST-MODIFIED:20260309T094605Z
UID:10001706-1775736000-1775739600@www.scilifelab.se
SUMMARY:Campus Solna Seminar Series: Elin Asp & Mahmud Sami Aydin
DESCRIPTION:Welcome to join the Campus Solna Seminar Series – an initiative to promote the fantastic science ongoing at Campus Solna and hopefully forge more internal communication and collaboration between within Campus Solna. The format consists of two 20 min talks (One speaker from the Alpha-building and one from the Gamma-building respectively)\, with an additional 5 min of questions. Presentation of ongoing (unpublished) projects is strongly encouraged. \n\n\n\nThe seminars are held Thursdays 12:00-13:00. You can bring your lunch to the seminar. \n\n\n\nPhD students that are attending the Campus Solna Seminar lectures will have the opportunity to gain credits. For the syllabus and instructions on how to obtain these credits\, read this document. Please contact your own department at your host University to confirm.See here the full schedule for this semester. \n\n\n\nThis week:\n\n\n\n\n\n\nElin Asp\n\n\n\nPäivi Östling – alpha  \n\n\n\n \n\n\n\n\n\nMahmud Sami Aydin\n\n\n\nKristoffer Sahlin – gamma \n\n\n\n \n\n\n\n\n\n\nThis seminar series is organized by the PhD & Postdoc Council. For more information about the Council and other events check our page.
URL:https://www.scilifelab.se/event/campus-solna-seminar-series-9apr/
LOCATION:Air&Fire\, SciLifeLab Stockholm\, Tomtebodavägen 23A\, Solna\, Sweden
CATEGORIES:Community
ATTACH;FMTTYPE=image/jpeg:https://www.scilifelab.se/wp-content/uploads/2022/09/IMG_20221103_120135408_HDR-scaled.jpg
ORGANIZER;CN="SciLifeLab Solna PhD & Postdoc Council":MAILTO:phd-council@scilifelab.se
END:VEVENT
BEGIN:VEVENT
DTSTART;TZID=Europe/Stockholm:20260416T120000
DTEND;TZID=Europe/Stockholm:20260416T130000
DTSTAMP:20260425T172529
CREATED:20260113T095504Z
LAST-MODIFIED:20260127T102725Z
UID:10001707-1776340800-1776344400@www.scilifelab.se
SUMMARY:Campus Solna Seminar Series: Maria Escriva Conde & Doreen Schwochow
DESCRIPTION:Welcome to join the Campus Solna Seminar Series – an initiative to promote the fantastic science ongoing at Campus Solna and hopefully forge more internal communication and collaboration between within Campus Solna. The format consists of two 20 min talks (One speaker from the Alpha-building and one from the Gamma-building respectively)\, with an additional 5 min of questions. Presentation of ongoing (unpublished) projects is strongly encouraged. \n\n\n\nThe seminars are held Thursdays 12:00-13:00. You can bring your lunch to the seminar. \n\n\n\nPhD students that are attending the Campus Solna Seminar lectures will have the opportunity to gain credits. For the syllabus and instructions on how to obtain these credits\, read this document. Please contact your own department at your host University to confirm.See here the full schedule for this semester. \n\n\n\nThis week:\n\n\n\n\n\n\nMaria Escriva Conde\n\n\n\nMats Nilsson – gamma 4 \n\n\n\n \n\n\n\n\n\nDoreen Schwochow\n\n\n\nPelin Sahlen – alpha \n\n\n\n \n\n\n\n\n\n\nThis seminar series is organized by the PhD & Postdoc Council. For more information about the Council and other events check our page.
URL:https://www.scilifelab.se/event/campus-solna-seminar-series-16apr/
LOCATION:Milkyway SciLifeLab Solna\, Tomtebodavägen 23\, Solna
CATEGORIES:Community
ATTACH;FMTTYPE=image/jpeg:https://www.scilifelab.se/wp-content/uploads/2022/09/IMG_20221103_124630107_HDR-scaled.jpg
ORGANIZER;CN="SciLifeLab Solna PhD & Postdoc Council":MAILTO:phd-council@scilifelab.se
END:VEVENT
BEGIN:VEVENT
DTSTART;TZID=Europe/Stockholm:20260422T140000
DTEND;TZID=Europe/Stockholm:20260422T160000
DTSTAMP:20260425T172529
CREATED:20260330T141954Z
LAST-MODIFIED:20260331T125134Z
UID:10001793-1776866400-1776873600@www.scilifelab.se
SUMMARY:Digital Townhall meeting about the Beta building of Campus Solna
DESCRIPTION:Welcome to a townhall meeting for the SciLifeLab community to hear more about the plans of Campus Solna expansion to include the Beta building\, and to learn what this means for SciLifeLab from a national perspective. \n\n\n\nAgenda\n\n\n\n\nThe national perspective on Campus Solna expansion – what does this mean for SciLifeLab? Jan Ellenberg\, SciLifeLab Director\n\n\n\nThe Beta project\, Per Ljungdahl\, Campus Solna Director\n\n\n\nQ&A session\n\n\n\n\nAfter the digital meeting\, all community members present at Campus Solna on April 22nd are most welcome to join the continued dialogue about the Beta project in the Delta area/lobby. Refreshments will be served. \n\n\n\nRegister here
URL:https://www.scilifelab.se/event/digital-townhall-meeting-about-the-beta-building-of-campus-solna/
LOCATION:Online event via Zoom
CATEGORIES:Community
ORGANIZER;CN="SciLifeLab Event":MAILTO:events@scilifelab.se
END:VEVENT
BEGIN:VEVENT
DTSTART;TZID=Europe/Stockholm:20260423T120000
DTEND;TZID=Europe/Stockholm:20260423T130000
DTSTAMP:20260425T172529
CREATED:20260113T095534Z
LAST-MODIFIED:20260127T102013Z
UID:10001708-1776945600-1776949200@www.scilifelab.se
SUMMARY:Campus Solna Seminar Series: Baizhen Chen & Yue Chen
DESCRIPTION:Welcome to join the Campus Solna Seminar Series – an initiative to promote the fantastic science ongoing at Campus Solna and hopefully forge more internal communication and collaboration between within Campus Solna. The format consists of two 20 min talks (One speaker from the Alpha-building and one from the Gamma-building respectively)\, with an additional 5 min of questions. Presentation of ongoing (unpublished) projects is strongly encouraged. \n\n\n\nThe seminars are held Thursdays 12:00-13:00. You can bring your lunch to the seminar. \n\n\n\nPhD students that are attending the Campus Solna Seminar lectures will have the opportunity to gain credits. For the syllabus and instructions on how to obtain these credits\, read this document. Please contact your own department at your host University to confirm.See here the full schedule for this semester. \n\n\n\nThis week:\n\n\n\n\n\n\nBaizhen Chen\n\n\n\nCecilia Williams – alpha  \n\n\n\n \n\n\n\n\n\nYue Chen\n\n\n\nLucie Delemotte – gamma 3 \n\n\n\n \n\n\n\n\n\n\nThis seminar series is organized by the PhD & Postdoc Council. For more information about the Council and other events check our page.
URL:https://www.scilifelab.se/event/campus-solna-seminar-series-23apr/
LOCATION:Milkyway SciLifeLab Solna\, Tomtebodavägen 23\, Solna
CATEGORIES:Community
ATTACH;FMTTYPE=image/jpeg:https://www.scilifelab.se/wp-content/uploads/2022/12/IMG_4110-scaled.jpg
ORGANIZER;CN="SciLifeLab Solna PhD & Postdoc Council":MAILTO:phd-council@scilifelab.se
END:VEVENT
BEGIN:VEVENT
DTSTART;TZID=Europe/Stockholm:20260507T120000
DTEND;TZID=Europe/Stockholm:20260507T130000
DTSTAMP:20260425T172529
CREATED:20260113T095612Z
LAST-MODIFIED:20260309T094754Z
UID:10001709-1778155200-1778158800@www.scilifelab.se
SUMMARY:Campus Solna Seminar Series: Inci Aksoylu & Krzysztof Wierbilowicz
DESCRIPTION:Welcome to join the Campus Solna Seminar Series – an initiative to promote the fantastic science ongoing at Campus Solna and hopefully forge more internal communication and collaboration between within Campus Solna. The format consists of two 20 min talks (One speaker from the Alpha-building and one from the Gamma-building respectively)\, with an additional 5 min of questions. Presentation of ongoing (unpublished) projects is strongly encouraged. \n\n\n\nThe seminars are held Thursdays 12:00-13:00. You can bring your lunch to the seminar. \n\n\n\nPhD students that are attending the Campus Solna Seminar lectures will have the opportunity to gain credits. For the syllabus and instructions on how to obtain these credits\, read this document. Please contact your own department at your host University to confirm.See here the full schedule for this semester. \n\n\n\nThis week:\n\n\n\n\n\n\nInci Aksoylu\n\n\n\nAnna Månberg – gamma  \n\n\n\nPlasma proteomics detect molecular subtypes of ALS \n\n\n\n\n\nKrzysztof Wierbilowicz\n\n\n\nKasper Karlsson – alpha \n\n\n\n \n\n\n\n\n\n\nThis seminar series is organized by the PhD & Postdoc Council. For more information about the Council and other events check our page.
URL:https://www.scilifelab.se/event/campus-solna-seminar-series-7may/
LOCATION:Milkyway SciLifeLab Solna\, Tomtebodavägen 23\, Solna
CATEGORIES:Community
ATTACH;FMTTYPE=image/jpeg:https://www.scilifelab.se/wp-content/uploads/2022/09/IMG_20221103_120135408_HDR-scaled.jpg
ORGANIZER;CN="SciLifeLab Solna PhD & Postdoc Council":MAILTO:phd-council@scilifelab.se
END:VEVENT
BEGIN:VEVENT
DTSTART;TZID=Europe/Stockholm:20260521T120000
DTEND;TZID=Europe/Stockholm:20260521T130000
DTSTAMP:20260425T172529
CREATED:20260113T103355Z
LAST-MODIFIED:20260216T121821Z
UID:10001715-1779364800-1779368400@www.scilifelab.se
SUMMARY:Campus Solna Seminar Series: Jeremie Charbord & Fei Luo
DESCRIPTION:Welcome to join the Campus Solna Seminar Series – an initiative to promote the fantastic science ongoing at Campus Solna and hopefully forge more internal communication and collaboration between within Campus Solna. The format consists of two 20 min talks (One speaker from the Alpha-building and one from the Gamma-building respectively)\, with an additional 5 min of questions. Presentation of ongoing (unpublished) projects is strongly encouraged. \n\n\n\nThe seminars are held Thursdays 12:00-13:00. You can bring your lunch to the seminar. \n\n\n\nPhD students that are attending the Campus Solna Seminar lectures will have the opportunity to gain credits. For the syllabus and instructions on how to obtain these credits\, read this document. Please contact your own department at your host University to confirm.See here the full schedule for this semester. \n\n\n\nThis week:\n\n\n\n\n\n\nJeremie Charbord\n\n\n\nStefania Giacomello – alpha 3 \n\n\n\n \n\n\n\n\n\nFei Luo\n\n\n\nLukas Käll – gamma 6 \n\n\n\n \n\n\n\n\n\n\nThis seminar series is organized by the PhD & Postdoc Council. For more information about the Council and other events check our page.
URL:https://www.scilifelab.se/event/campus-solna-seminar-series-21may/
LOCATION:Milkyway SciLifeLab Solna\, Tomtebodavägen 23\, Solna
CATEGORIES:Community
ATTACH;FMTTYPE=image/jpeg:https://www.scilifelab.se/wp-content/uploads/2022/09/IMG_20221103_120135408_HDR-scaled.jpg
ORGANIZER;CN="SciLifeLab Solna PhD & Postdoc Council":MAILTO:phd-council@scilifelab.se
END:VEVENT
BEGIN:VEVENT
DTSTART;TZID=Europe/Stockholm:20260528T120000
DTEND;TZID=Europe/Stockholm:20260528T130000
DTSTAMP:20260425T172529
CREATED:20260113T100748Z
LAST-MODIFIED:20260302T124800Z
UID:10001711-1779969600-1779973200@www.scilifelab.se
SUMMARY:Campus Solna Seminar Series: Ana Agostinho & Alexandra Johannesson
DESCRIPTION:Welcome to join the Campus Solna Seminar Series – an initiative to promote the fantastic science ongoing at Campus Solna and hopefully forge more internal communication and collaboration between within Campus Solna. The format consists of two 20 min talks (One speaker from the Alpha-building and one from the Gamma-building respectively)\, with an additional 5 min of questions. Presentation of ongoing (unpublished) projects is strongly encouraged. \n\n\n\nThe seminars are held Thursdays 12:00-13:00. You can bring your lunch to the seminar. \n\n\n\nPhD students that are attending the Campus Solna Seminar lectures will have the opportunity to gain credits. For the syllabus and instructions on how to obtain these credits\, read this document. Please contact your own department at your host University to confirm.See here the full schedule for this semester. \n\n\n\nThis week:\n\n\n\n\n\n\nAna Agostinho\n\n\n\nHans Blom – gamma 3 \n\n\n\nSuper resolution fluorescence microscopy support \n\n\n\n\n\nAlexandra Johannesson\n\n\n\nEmma Lundberg – alpha \n\n\n\n \n\n\n\n\n\n\nThis seminar series is organized by the PhD & Postdoc Council. For more information about the Council and other events check our page.
URL:https://www.scilifelab.se/event/campus-solna-seminar-series-28may/
LOCATION:Becquerel\, SciLifeLab\, Tomtebodavägen 23\, Solna
CATEGORIES:Community
ATTACH;FMTTYPE=image/jpeg:https://www.scilifelab.se/wp-content/uploads/2022/09/IMG_20221103_124630107_HDR-scaled.jpg
ORGANIZER;CN="SciLifeLab Solna PhD & Postdoc Council":MAILTO:phd-council@scilifelab.se
END:VEVENT
BEGIN:VEVENT
DTSTART;TZID=Europe/Stockholm:20260604T120000
DTEND;TZID=Europe/Stockholm:20260604T130000
DTSTAMP:20260425T172529
CREATED:20260113T100848Z
LAST-MODIFIED:20260127T101548Z
UID:10001712-1780574400-1780578000@www.scilifelab.se
SUMMARY:Campus Solna Seminar Series: Mengping Long & Samuel Eriksson Lidbrink
DESCRIPTION:Welcome to join the Campus Solna Seminar Series – an initiative to promote the fantastic science ongoing at Campus Solna and hopefully forge more internal communication and collaboration between within Campus Solna. The format consists of two 20 min talks (One speaker from the Alpha-building and one from the Gamma-building respectively)\, with an additional 5 min of questions. Presentation of ongoing (unpublished) projects is strongly encouraged. \n\n\n\nThe seminars are held Thursdays 12:00-13:00. You can bring your lunch to the seminar. \n\n\n\nPhD students that are attending the Campus Solna Seminar lectures will have the opportunity to gain credits. For the syllabus and instructions on how to obtain these credits\, read this document. Please contact your own department at your host University to confirm.See here the full schedule for this semester. \n\n\n\nThis week:\n\n\n\n\n\n\nMengping Long\n\n\n\nMats Nilsson – gamma 4 \n\n\n\n \n\n\n\n\n\nSamuel Eriksson Lidbrink\n\n\n\nErik Lindahl – gamma  \n\n\n\n \n\n\n\n\n\n\nThis seminar series is organized by the PhD & Postdoc Council. For more information about the Council and other events check our page.
URL:https://www.scilifelab.se/event/campus-solna-seminar-series-4jun/
LOCATION:Air&Fire\, SciLifeLab Stockholm\, Tomtebodavägen 23A\, Solna\, Sweden
CATEGORIES:Community
ATTACH;FMTTYPE=image/jpeg:https://www.scilifelab.se/wp-content/uploads/2022/12/IMG_4110-scaled.jpg
ORGANIZER;CN="SciLifeLab Solna PhD & Postdoc Council":MAILTO:phd-council@scilifelab.se
END:VEVENT
BEGIN:VEVENT
DTSTART;TZID=Europe/Stockholm:20260611T120000
DTEND;TZID=Europe/Stockholm:20260611T130000
DTSTAMP:20260425T172529
CREATED:20260113T100917Z
LAST-MODIFIED:20260127T101431Z
UID:10001713-1781179200-1781182800@www.scilifelab.se
SUMMARY:Campus Solna Seminar Series: Hui Zhou & Marcus Saarinen
DESCRIPTION:Welcome to join the Campus Solna Seminar Series – an initiative to promote the fantastic science ongoing at Campus Solna and hopefully forge more internal communication and collaboration between within Campus Solna. The format consists of two 20 min talks (One speaker from the Alpha-building and one from the Gamma-building respectively)\, with an additional 5 min of questions. Presentation of ongoing (unpublished) projects is strongly encouraged. \n\n\n\nThe seminars are held Thursdays 12:00-13:00. You can bring your lunch to the seminar. \n\n\n\nPhD students that are attending the Campus Solna Seminar lectures will have the opportunity to gain credits. For the syllabus and instructions on how to obtain these credits\, read this document. Please contact your own department at your host University to confirm.See here the full schedule for this semester. \n\n\n\nThis week:\n\n\n\n\n\n\nHui Zhou\n\n\n\nVicent Pelechano – gamma 5 \n\n\n\n \n\n\n\n\n\nMarcus Saarinen\n\n\n\nJochen Schwenk – alpha \n\n\n\n \n\n\n\n\n\n\nThis seminar series is organized by the PhD & Postdoc Council. For more information about the Council and other events check our page.
URL:https://www.scilifelab.se/event/campus-solna-seminar-series-11jun/
LOCATION:Milkyway SciLifeLab Solna\, Tomtebodavägen 23\, Solna
CATEGORIES:Community
ATTACH;FMTTYPE=image/jpeg:https://www.scilifelab.se/wp-content/uploads/2022/09/IMG_20221103_120135408_HDR-scaled.jpg
ORGANIZER;CN="SciLifeLab Solna PhD & Postdoc Council":MAILTO:phd-council@scilifelab.se
END:VEVENT
BEGIN:VEVENT
DTSTART;TZID=Europe/Stockholm:20260618T120000
DTEND;TZID=Europe/Stockholm:20260618T130000
DTSTAMP:20260425T172529
CREATED:20260113T100954Z
LAST-MODIFIED:20260309T094844Z
UID:10001714-1781784000-1781787600@www.scilifelab.se
SUMMARY:Campus Solna Seminar Series: Lucia Rico Pizarro & Maximilian Kahle
DESCRIPTION:Welcome to join the Campus Solna Seminar Series – an initiative to promote the fantastic science ongoing at Campus Solna and hopefully forge more internal communication and collaboration between within Campus Solna. The format consists of two 20 min talks (One speaker from the Alpha-building and one from the Gamma-building respectively)\, with an additional 5 min of questions. Presentation of ongoing (unpublished) projects is strongly encouraged. \n\n\n\nThe seminars are held Thursdays 12:00-13:00. You can bring your lunch to the seminar. \n\n\n\nPhD students that are attending the Campus Solna Seminar lectures will have the opportunity to gain credits. For the syllabus and instructions on how to obtain these credits\, read this document. Please contact your own department at your host University to confirm.See here the full schedule for this semester. \n\n\n\nThis week:\n\n\n\n\n\n\nLucia Rico Pizarro\n\n\n\nBrinton Seashore-Ludlow – alpha  \n\n\n\n \n\n\n\n\n\nMaximilian Kahle\n\n\n\nMarta Carroni – alpha \n\n\n\n \n\n\n\n\n\n\nThis seminar series is organized by the PhD & Postdoc Council. For more information about the Council and other events check our page.
URL:https://www.scilifelab.se/event/campus-solna-seminar-series-18jun/
LOCATION:Air&Fire\, SciLifeLab Stockholm\, Tomtebodavägen 23A\, Solna\, Sweden
CATEGORIES:Community
ATTACH;FMTTYPE=image/jpeg:https://www.scilifelab.se/wp-content/uploads/2022/09/IMG_20221103_120135408_HDR-scaled.jpg
ORGANIZER;CN="SciLifeLab Solna PhD & Postdoc Council":MAILTO:phd-council@scilifelab.se
END:VEVENT
END:VCALENDAR