BEGIN:VCALENDAR
VERSION:2.0
PRODID:-//SciLifeLab - ECPv6.15.20//NONSGML v1.0//EN
CALSCALE:GREGORIAN
METHOD:PUBLISH
X-ORIGINAL-URL:https://www.scilifelab.se
X-WR-CALDESC:Events for SciLifeLab
REFRESH-INTERVAL;VALUE=DURATION:PT1H
X-Robots-Tag:noindex
X-PUBLISHED-TTL:PT1H
BEGIN:VTIMEZONE
TZID:Europe/Stockholm
BEGIN:DAYLIGHT
TZOFFSETFROM:+0100
TZOFFSETTO:+0200
TZNAME:CEST
DTSTART:20240331T010000
END:DAYLIGHT
BEGIN:STANDARD
TZOFFSETFROM:+0200
TZOFFSETTO:+0100
TZNAME:CET
DTSTART:20241027T010000
END:STANDARD
BEGIN:DAYLIGHT
TZOFFSETFROM:+0100
TZOFFSETTO:+0200
TZNAME:CEST
DTSTART:20250330T010000
END:DAYLIGHT
BEGIN:STANDARD
TZOFFSETFROM:+0200
TZOFFSETTO:+0100
TZNAME:CET
DTSTART:20251026T010000
END:STANDARD
BEGIN:DAYLIGHT
TZOFFSETFROM:+0100
TZOFFSETTO:+0200
TZNAME:CEST
DTSTART:20260329T010000
END:DAYLIGHT
BEGIN:STANDARD
TZOFFSETFROM:+0200
TZOFFSETTO:+0100
TZNAME:CET
DTSTART:20261025T010000
END:STANDARD
END:VTIMEZONE
BEGIN:VEVENT
DTSTART;TZID=Europe/Stockholm:20251201T151500
DTEND;TZID=Europe/Stockholm:20251201T161500
DTSTAMP:20260421T205638
CREATED:20251119T104324Z
LAST-MODIFIED:20251119T104326Z
UID:10001668-1764602100-1764605700@www.scilifelab.se
SUMMARY:[The Svedberg seminar] - Genome organisation and patterns of molecular evolution
DESCRIPTION:Jennifer James \n\n\n\nAssistant Professor DDLS Fellow \n\n\n\n \n\n\n\n\n\n\n\nBio\n\n\n\nDr. Jennifer James did her PhD in population genetics with Adam Eyre-Walker at the University of Sussex. After a postdoctoral position at the University of Cambridge she moved to the US\, where she worked as a postdoctoral researcher with Joanna Masel at the University of Arizona\, which introduced her to the world of proteomics. She next moved to Uppsala and worked as a postdoctoral research fellow with Martin Lascoux prior to becoming a DDLS fellow and starting her own new research group in Molecular Evolution. Her group conducts research on patterns of molecular evolution both at the genome and proteome level\, with a focus on understanding mutational robustness. \n\n\n\n \n\n\n\n \n\n\n\nGenome organisation and patterns of molecular evolution\n\n\n\n \n\n\n\nIn my group\, we try to understand patterns of phenotypic evolution at the proteome level\, and molecular evolution across the genome. Key to this question is understanding how the genome is structured and organised. For example\, how pleiotropic are the effects of genes on average\, and how complex are gene networks? To give one case\, if pleiotropy is universal\, such that all genes affect all traits\, we expect all new mutations to have the same effect on fitness. However\, the extent of pleiotropy in real biological systems remains debated. In this seminar I will discuss our \n\n\n\n \n\n\n\nHost: Siv Andersson siv.andersson@icm.uu.se\, UU
URL:https://www.scilifelab.se/event/the-svedberg-seminar-jennifer-james/
LOCATION:BMC Room C8:301\, Husargatan 3\, Uppsala\, Sweden
CATEGORIES:Event
ATTACH;FMTTYPE=image/png:https://www.scilifelab.se/wp-content/uploads/2022/02/Picture1-The-Svedberg.png
ORGANIZER;CN="The Svedberg Seminar Series":MAILTO:thesvedberg@scilifelab.uu.se
END:VEVENT
BEGIN:VEVENT
DTSTART;TZID=Europe/Stockholm:20251202T100000
DTEND;TZID=Europe/Stockholm:20251202T113000
DTSTAMP:20260421T205638
CREATED:20251028T115513Z
LAST-MODIFIED:20251117T092940Z
UID:10001655-1764669600-1764675000@www.scilifelab.se
SUMMARY:Introduction to the Module System on Berzelius
DESCRIPTION:This training offers a practical introduction to the module system on Berzelius. The session will cover: \n\n\n\n\nhow to find modules on Berzelius\n\n\n\nload/unload modules\n\n\n\nuse modules in interactive or batch modes\n\n\n\ncreate your own module\n\n\n\n\nParticipants will also gain hands-on experience with these commands. By the end of the session\, you will be able to navigate the modules system Berzelius confidently and use them effectively for your research.-on experience with these commands. By the end of the session\, you will be able to navigate Berzelius confidently and use its resources effectively for your research. \n\n\n\nDate: December 2\, 2025Time: 10:00–11:30 \n\n\n\nTarget audience: The online event is open for all current and prospective Berzelius users. Please read the eligibility requirements for accessing Berzelius.Place: Online via Zoom (link provided upon registration) \n\n\n\nregistration\n\n\n\nPreliminary Agenda \n\n\n\nTimeSession TitleSpeaker(s)10:00–11:00Introduction to the Module System on BerzeliusSoumi Chaki11:00–11:30Open Q&A SessionBerzelius Application Expert\n\n\n\nThis event is a collaboration between National Supercomputer Centre (NSC) at Linköping University and SciLifeLab Data Centre. \n\n\n\nFor questions please contact soumi.chaki@liu.se (Soumi Chaki)
URL:https://www.scilifelab.se/event/introduction-to-the-module-system-on-berzelius/
LOCATION:Zoom
CATEGORIES:Event
ATTACH;FMTTYPE=image/jpeg:https://www.scilifelab.se/wp-content/uploads/2025/10/NSC-Berzelius-LiU-2025-3451-Photographer-Magnus-Johansson.jpg
END:VEVENT
BEGIN:VEVENT
DTSTART;TZID=Europe/Stockholm:20251202T130000
DTEND;TZID=Europe/Stockholm:20251202T140000
DTSTAMP:20260421T205638
CREATED:20251103T123419Z
LAST-MODIFIED:20251103T125156Z
UID:10001658-1764680400-1764684000@www.scilifelab.se
SUMMARY:Is high-throughput electrophysiology possible?
DESCRIPTION:Register here\n\n\n\n\nOn site seminar – Electrophysiology Infrastructure\n\n\n\nLocation: Jörgen Lehmann\, Academicum\, Medicinaregatan 3 and SciLifeLab Gothenburg \n\n\n\n\nPresenters\n\n\n\n\nFredrik Elinder\, Professor\, Site director SciLifeLab Linköping\, Chemical Biology Consortium Sweden (CBCS)\, and Department of Biomedical and Clinical Sciences (BKV)\, Linköping University \n\n\n\n\n\nNina Ottosson\, Research Coordinator\, Chemical Biology Consortium Sweden (CBCS)\, and Department of Biomedical and Clinical Sciences (BKV)\, Linköping University \n\n\n\n\n\nThe electrophysiology unit at Linköping University\, part of Chemical Biology Consortium Sweden (CBCS) at SciLifeLab\, visits site Gothenburg\, and presents the infrastructure during a seminar. \n\n\n\nDuring the day\, 1-on-1 meetings with the presenters will be possible at The SciLifeLab office\, Medicinaregatan 3. Take the chance to discuss how your research questions can be answered through analyses of ion channels. Request is added in the registration form. \n\n\n\nThe electrophysiology unit\, a recent addition to SciLifeLab’s range of infrastructures\, is equipped with automated patch-clamp instrumentation\, and supports a wide range of electrophysiological studies involving both voltage-gated and ligand-gated ion channels\, including pharmacological screening\, cardiac safety assessments\, and biophysical investigations. \n\n\n\nWELCOME! \n\n\n\nFredrik Elinder and Nina Ottosson\, Electrophysiologists \n\n\n\nJosefine Sandström and Maria Smedh\, SciLifeLab site coordinators Webpage of the CBCS Linköping node. 
URL:https://www.scilifelab.se/event/is-high-throughput-electrophysiology-possible-2/
CATEGORIES:Event
ATTACH;FMTTYPE=image/jpeg:https://www.scilifelab.se/wp-content/uploads/2025/06/electrophysiology-visit.jpg
END:VEVENT
BEGIN:VEVENT
DTSTART;TZID=Europe/Stockholm:20251204T090000
DTEND;TZID=Europe/Stockholm:20251204T103000
DTSTAMP:20260421T205638
CREATED:20250812T104118Z
LAST-MODIFIED:20250929T063104Z
UID:10001579-1764838800-1764844200@www.scilifelab.se
SUMMARY:User meeting for your multi-modal research projects
DESCRIPTION:Boost your research — Book a private SciLifeLab planning and feedback session for your multi-modal research projects! \n\n\n\n \n\n\n\nRegister here\n\n\n\nOnce we have received your registration\, you will be sent the link to the online meeting. \n\n\n\nDate: December 4\, 9.00 – 10.30 Registration deadline: November 28 \n\n\n\nMultimodal molecular profiling and novel computational methods are transforming life science research\, but also pose new challenges in study design\, project resource planning and data management. SciLifeLab is a national resource of unique technologies and expertise available to life scientists\, in areas such as biomedicine\, ecology and evolution\, aiming to bring scientists together across traditional boundaries and foster collaborations with industry\, health care\, public research organizations and international partners. \n\n\n\nThe first Thursday of every month at 9.00 (except July and August)\, SciLifeLab offers an opportunity to jointly meet with representatives across the SciLifeLab service platforms\, to get feedback and help to plan\, design\, and refine new or ongoing multimodal research projects. Your project plans are discussed privately and remain confidential\, and information will not be shared outside of the service platforms. Note that for most studies\, follow-up meetings will be needed\, but our aim for these meetings is to provide an easy-access entry point for an overarching planning of multimodal studies. \n\n\n\nFor studies focusing on a single technology only\, please primarily contact our service platforms directly as described at the SciLifeLab homepage. \n\n\n\nTo make the best out of the allotted time\, we ask you to provide some background information about your project\, to help us ensure that the relevant experts are available to discuss your study.
URL:https://www.scilifelab.se/event/user-meeting-for-your-multi-modal-research-projects-3/
LOCATION:virtual event
CATEGORIES:Event
ATTACH;FMTTYPE=image/jpeg:https://www.scilifelab.se/wp-content/uploads/2025/08/AdobeStock_1081766437-scaled.jpeg
END:VEVENT
BEGIN:VEVENT
DTSTART;TZID=Europe/Stockholm:20251204T090000
DTEND;TZID=Europe/Stockholm:20251204T170000
DTSTAMP:20260421T205638
CREATED:20251006T130957Z
LAST-MODIFIED:20251007T070354Z
UID:10001632-1764838800-1764867600@www.scilifelab.se
SUMMARY:3D Imaging in Health and Disease
DESCRIPTION:Characterizing molecular and cellular complexities in 3D is an emerging field allowing to study biology in its true context. \n\n\n\nIn this symposium national and international experts will present developments and applications in 3D imaging aimed to improve health and disease analysis across scales \n\n\n\nPlease register by sending an e-mail to hans.blom@scilifelb.se \n\n\n\n \n\n\n\nProgram 3D symposiumDownload
URL:https://www.scilifelab.se/event/3d-imaging-in-health-and-disease/
LOCATION:Nobel Forum\, Nobels väg 1\, Solna\, Sweden
CATEGORIES:Event
ORGANIZER;CN="integrated Microscopy Technologies":MAILTO:hblom@kth.se
END:VEVENT
BEGIN:VEVENT
DTSTART;TZID=Europe/Stockholm:20251205T101500
DTEND;TZID=Europe/Stockholm:20251205T110000
DTSTAMP:20260421T205638
CREATED:20251120T134320Z
LAST-MODIFIED:20251120T140035Z
UID:10001671-1764929700-1764932400@www.scilifelab.se
SUMMARY:Discovery and developmentof GRK2-biased beta 2-adrenergic receptor agonists for the treatment of metabolic disorders
DESCRIPTION:Presenter: Dr Benjamin Pelcman\, Atrogi AB \n\n\n\nAtrogi AB is biotech company pioneering first-in-class treatments to revolutionize metabolic health. The talk will describe how targeting a novel GRK-biased b2-adrenergic receptor signaling pathway allows for the successful design of compounds useful in the treatment of disorders like type 2 diabetes (T2D)\, obesity and muscular wasting. The approach will be exemplified by the invention\, selection and development of ATR-258\, a b2-AR agonist that was developed for T2D and is about to enter phase 2 clinical trials. During the exploration of the chemical space\, a diverse set of molecules were synthesized\, and their effect on the downstream signaling will be discussed. In addition\, the seminar will illustrate differences between drug development in Big Pharma and small biotech and the challenges of working in an environment with limited resources. \n\n\n\nAfter receiving his Ph.D. in Organic Chemistry at KTH and a post doc session at Dartmouth College\, NH\, USA\, Benjamin joined Astra Pain Control\, first in Södertälje and then in Montreal\, as a medicinal chemist. Benjamin has also held various positions at Pharmacia & Upjohn\, Karo Bio\, Biolipox and Orexo. After having started his own consultancy company\, BeePCo\, he came in contact with Atrogi where he was employed first as a CEO and later as Head of Chemistry and IP. Benjamin is now retired but is still working as a consultant for Atrogi and other small biotechs.
URL:https://www.scilifelab.se/event/discovery-and-developmentof-grk2-biased-beta-2-adrenergic-receptor-agonists-for-the-treatment-of-metabolic-disorders/
LOCATION:BMC Room C4:301\, Husargatan 3\, entrance C1\, Uppsala\, Sweden
CATEGORIES:Event
END:VEVENT
BEGIN:VEVENT
DTSTART;TZID=Europe/Stockholm:20251208T151500
DTEND;TZID=Europe/Stockholm:20251208T161500
DTSTAMP:20260421T205638
CREATED:20251120T122932Z
LAST-MODIFIED:20251124T132739Z
UID:10001669-1765206900-1765210500@www.scilifelab.se
SUMMARY:[The Svedberg seminar] - The origins of locally adaptive loci
DESCRIPTION:Gabriela Montejo-Kovacevich \n\n\n\nAssistant Professor SciLifeLab Fellow Uppsala University \n\n\n\n\n\n\n\nBio\n\n\n\nGabriela Montejo-Kovacevich is a SciLifeLab fellow and Assistant Professor that recently established her lab at the Animal Ecology program in the Department of Ecology and Genetics at EBC (Uppsala University). Her group studies mechanisms that promote or constrain local adaptation. By integrating genomics with ecological and natural history approaches\, mainly in insects\, they explore the mode and tempo of evolution in natural populations. \n\n\n\nThe origins of locally adaptive lociHow do organisms evolve to inhabit diverse environments? This seminar explores the mode and tempo of evolution in the wild by studying local adaptation in three insect systems. I will first present work on Heliconius butterflies along a 1500m altitudinal gradient in the Andes\, revealing strong\, repeated selection at high-altitude\, with evidence for adaptive introgression from pre-adapted species. I will then turn to a ‘megapest’ moth (Helicoverpa) that is threatening food security in Brazil through bidirectional adaptive introgression conferring insecticide resistance. Finally\, I will introduce Euphydryas editha\, a Californian butterfly capable of rapid\, heritable shifts in host plant use offering a rare glimpse into ongoing behavioural adaptation to anthropogenic change. Together\, these systems demonstrate how evolutionary forces interact to shape resilience in a rapidly changing world. \n\n\n\nHost: Göran Arnqvist Goran.Arnqvist@ebc.uu.se\, UU
URL:https://www.scilifelab.se/event/the-svedberg-seminar-gabriela-montejo-kovacevich/
LOCATION:BMC Room C8:301\, Husargatan 3\, Uppsala\, Sweden
CATEGORIES:Event
ATTACH;FMTTYPE=image/png:https://www.scilifelab.se/wp-content/uploads/2022/02/Picture1-The-Svedberg.png
ORGANIZER;CN="The Svedberg Seminar Series":MAILTO:thesvedberg@scilifelab.uu.se
END:VEVENT
BEGIN:VEVENT
DTSTART;TZID=Europe/Stockholm:20251210T100000
DTEND;TZID=Europe/Stockholm:20251210T120000
DTSTAMP:20260421T205638
CREATED:20251031T080951Z
LAST-MODIFIED:20251120T111741Z
UID:10001657-1765360800-1765368000@www.scilifelab.se
SUMMARY:Teaching and training as "communication": leveraging cognitive and communication theories to strengthen learning
DESCRIPTION:Invited speaker: Professor Rochelle E. Tractenberg\, Georgetown University \n\n\n\nSciLifeLab as a Research Infrastructure incorporates people across a variety of technically complex fields. Staff-scientists and researchers often need to communicate about their complex work to people who are not fully familiar with all the details. Swedish universities offer training or support for scientists to help them communicate complex ideas for the public. However\, we don’t often consider that these communication theories and strategies might be equally useful for promoting or strengthening a learning culture across the organization or that such communication strategies are useful in the training and teaching staff-scientists and researchers are involved in. This talk by Professor Tractenberg from Georgetown University will outline two theories – one for communication and one for change management – which have been augmented with cognitive theories so that they can optimize teaching and training and with this strengthen learning. \n\n\n\n\n\n\n\n\n\n \n\n\n\nWelcome to a seminar where Professor Rochelle Tractenberg will present her recent work combining communication with change management strategies. We will learn how we can more efficiently can promote change around complex information – such as encouraging researchers to utilize a new method or tool\, or instructing students about a complex aspect of the field they’re studying. \n\n\n\nFor registrants wishing to participate online\, please indicate this in the registration form. For people attending onsite there will be a light lunch provided after the seminar. \n\n\n\nRegister here\n\n\n\nScientific abstract\n\n\n\nTractenberg’s augmented Diffusion of Innovation (aDOI\, Tractenberg\, 2023) is a theoretical framework for understanding and leveraging the cognitive complexity of messages so as to optimize uptake of the new information by any hearer. aDOI is adapted\, through cognitive theory\, from Rogers’ DOI communication model (1965/2003). A concrete\, stepwise theory of change management (ToCM\, Kotter 2012) originated in business\, and has been widely used across business and leadership programs. This theory has also been augmented with cognitive theory (aToCM\, Tractenberg 2024). Together\, these two revised models provide a strategy for promoting change around complex information – such as encouraging scientists to utilize a new method or tool\, or educating students about a complex aspect of the field they’re studying. Tractenberg’s augmented Diffusion of Innovation and Theory of Change Management make encouraging uptake of new ideas\, or new knowledge\, more consistent with human reasoning. These can support instructors’ adaptation of existing courses to include new information/technology or techniques\, and can also help instructors to learn new evidence-based methods of teaching and assessing.
URL:https://www.scilifelab.se/event/teaching-and-training-as-communication-leveraging-cognitive-and-communication-theories-to-strengthen-learning/
LOCATION:Air&Fire\, SciLifeLab Stockholm\, Tomtebodavägen 23A\, Solna\, Sweden
CATEGORIES:Event
ORGANIZER;CN="Training Hub":MAILTO:traininghub@scilifelab.se
END:VEVENT
BEGIN:VEVENT
DTSTART;TZID=Europe/Stockholm:20251211T130000
DTEND;TZID=Europe/Stockholm:20251211T160000
DTSTAMP:20260421T205638
CREATED:20251027T112529Z
LAST-MODIFIED:20251211T084725Z
UID:10001654-1765458000-1765468800@www.scilifelab.se
SUMMARY:Science & SciLifeLab Prize Scientific Symposium 2025
DESCRIPTION:Welcome to the Scientific Symposium where the winners of the 2025 Science & SciLifeLab Prize for Young Scientists will present their research! \n\n\n\nScience\, the American Association for the Advancement of Science (AAAS)\, and SciLifeLab joined forces in 2013\, creating the Science & SciLifeLab Prize for Young Scientists to recognize excellence amongst young researchers from around the world. A global Prize aimed at rewarding scientists at an early stage of their careers. \n\n\n\nThe Prize is awarded in four different categories and the winners will be announced on November 14th \n\n\n\n\nUche Medoh\, Grand Prize Winner in Molecular Medicine\n\n\n\nLiam Lachs\, Category Winner in Ecology and Environment\n\n\n\nNitzan Tal\, Category Winner in Genomics\, Proteomics\, and Systems Biology Approaches\n\n\n\nKing L. Hung\, Category Winner in Cell and Molecular Biology\n\n\n\n\nAll four winners of the Science & SciLifeLab Prize for Young Scientists are invited to Sweden December 8-13 to participate in a unique week filled with events in honor of science. They will have the opportunity to meet with leading scientists in their field of research and create life-long connections to support their careers. \n\n\n\n \n\n\n\nThe symposium will take place at beautiful Grand Hôtel in Stockholm. \n\n\n\nSeats are limited so register today for your chance to meet with the winners and the the AAAS/Science editor team AND our honorary guest\, the Grand Prize Winner from 2024\, Andrija Sente. \n\n\n\nRegistration\n\n\n\nProgram\n\n\n\nScience SciLifeLab Prize SymposiumDownload\n\n\n\nRead more about the Prize\n\n\n\nRead more about the winners
URL:https://www.scilifelab.se/event/science-scilifelab-prize-scientific-symposium-2025/
LOCATION:Auditorium Stockholm\, Grand Hôtel\, Södra Blasieholmshamnen 8\, Stockholm\, 10327\, Sweden
CATEGORIES:Event
ATTACH;FMTTYPE=image/jpeg:https://www.scilifelab.se/wp-content/uploads/2020/05/prize_2018_puff.jpg
ORGANIZER;CN="SciLifeLab Event":MAILTO:events@scilifelab.se
END:VEVENT
BEGIN:VEVENT
DTSTART;TZID=Europe/Stockholm:20251215T151500
DTEND;TZID=Europe/Stockholm:20251215T161500
DTSTAMP:20260421T205638
CREATED:20251120T123638Z
LAST-MODIFIED:20251125T132656Z
UID:10001670-1765811700-1765815300@www.scilifelab.se
SUMMARY:[The Svedberg seminar] - Optogenetic control of gene expression dynamics in single cells
DESCRIPTION:Mary Dunlop \n\n\n\nProfessor Boston University\, USA \n\n\n\nBio\n\n\n\nMary Dunlop is a Professor of Biomedical Engineering and Dorf-Ebner Distinguished Faculty Fellow at Boston University. She holds additional affiliations in Bioinformatics and Molecular Biology\, Cell Biology & Biochemistry. She graduated from Princeton University with a B.S.E. in Mechanical and Aerospace Engineering and a minor in Computer Science. She then received her M.S. and Ph.D. in Mechanical Engineering from the California Institute of Technology. In recognition of her outstanding research contributions\, she has received many honors including election as an AIMBE Fellow\, the NSF Transitions Award\, ACS Synthetic Biology Young Investigator Award\, DOE Early Career Award\, and NSF CAREER Award. She is also the recipient of several mentoring and teaching awards\, including Boston University’s Award for Excellence in Mentoring Postdocs and the College of Engineering Teaching Excellence Award. \n\n\n\nOptogenetic control of gene expression dynamics in single cells \n\n\n\nEmerging approaches that integrate optogenetics with feedback control are transforming our ability to precisely manipulate microbial gene expression dynamics. In this talk\, I will present how we harnessed deep neural networks and model predictive control to impose real-time\, cell-specific gene expression patterns in bacteria\, revealing crucial links between dynamic regulation and functional outcomes such as antibiotic resistance. I will also highlight our use of optogenetic tools and information theory to understand how variable expression of a key transcription factor influences downstream stress response genes and impacts bacterial survival under antimicrobial stress. These approaches provide new insights into the significant roles of cellular heterogeneity and dynamic regulation\, advancing our understanding of gene expression and microbial behavior at the single-cell level. \n\n\n\n \n\n\n\nHost: Daniel Jones daniel.jones@icm.uu.se\, UU
URL:https://www.scilifelab.se/event/the-svedberg-seminar-mary-dunlop/
LOCATION:BMC Room C8:301\, Husargatan 3\, Uppsala\, Sweden
CATEGORIES:Event
ATTACH;FMTTYPE=image/png:https://www.scilifelab.se/wp-content/uploads/2022/02/Picture1-The-Svedberg.png
ORGANIZER;CN="The Svedberg Seminar Series":MAILTO:thesvedberg@scilifelab.uu.se
END:VEVENT
BEGIN:VEVENT
DTSTART;TZID=Europe/Stockholm:20251216T151500
DTEND;TZID=Europe/Stockholm:20251216T161500
DTSTAMP:20260421T205638
CREATED:20251215T084843Z
LAST-MODIFIED:20251215T084907Z
UID:10001682-1765898100-1765901700@www.scilifelab.se
SUMMARY:[Spotlight Seminar Series] The innate power of natural killer cells in cancer therapy
DESCRIPTION:Professor Karl-Johan Malmberg (M.D. Ph.D) \, Oslo University \n\n\n\nBiography\n\n\n\nProfessor Karl-Johan Malmbergis a Specialist in Hematology with over 25 years of experience in NK cell research and cancer immunotherapy. He is the Director of a Norwegian Research Council Center of Excellence\, The Precision Immunotherapy Alliance (PRIMA) and leads an international team of 20 scientists based in laboratories both at the University of Oslo\, Norway and the Karolinska Institutet\, Sweden. He is also the Scientific Director of the Center for Advanced Cell and Gene Therapy (ACT) at Oslo University Hospital. The group focus on deciphering basic cellular and molecular mechanisms regulating NK cell function and seek to translate insights from these efforts in the design of novel approaches for NK-cell based cancer immunotherapy against cancer. \n\n\n\nRelevant Publications\n\n\n\nThe innate power of natural killer cells in cancer therapy. \n\n\n\nSohlberg E\, Malmberg KJ.Nat Med. 2025 Jun;31(6):1755-1756. doi: 10.1038/s41591-025-03712-9.PMID: 40355615 \n\n\n\nPan-cancer profiling of tumor-infiltrating natural killer cells through transcriptional reference mapping. \n\n\n\nNetskar H\, Pfefferle A\, Goodridge JP\, Sohlberg E\, Dufva O\, Teichmann SA\, Brownlie D\, Michaëlsson J\, Marquardt N\, Clancy T\, Horowitz A\, Malmberg KJ.Nat Immunol. 2024 Aug;25(8):1445-1459. doi: 10.1038/s41590-024-01884-z. Epub 2024 Jul 2.PMID: 38956379 \n\n\n\n \n\n\n\nHost: Adnane Achour adnane.achour@ki.se
URL:https://www.scilifelab.se/event/spotlight-seminar-series-the-innate-power-of-natural-killer-cells-in-cancer-therapy/
LOCATION:Air&Fire\, SciLifeLab Stockholm\, Tomtebodavägen 23A\, Solna\, Sweden
CATEGORIES:Event
ATTACH;FMTTYPE=image/jpeg:https://www.scilifelab.se/wp-content/uploads/2023/10/Campus-solna-seminar-picture.jpg
ORGANIZER;CN="SciLifeLab Event":MAILTO:events@scilifelab.se
END:VEVENT
BEGIN:VEVENT
DTSTART;TZID=Europe/Stockholm:20251218T000000
DTEND;TZID=Europe/Stockholm:20251218T235900
DTSTAMP:20260421T205638
CREATED:20251202T123921Z
LAST-MODIFIED:20251202T124514Z
UID:10001677-1766016000-1766102340@www.scilifelab.se
SUMMARY:SciLifeLab PULSE - information webinar for applicants
DESCRIPTION:This webinar (two time options available) gives PULSE applicants an opportunity to receive information on e.g. the matchmaking and application process\, as well as eligibility rules. There will also be time for Q&A:s. Find out more about the SciLifeLab PULSE postdoc program here The 2nd SciLifeLab PULSE Call opened on December 15! \n\n\n\n\n\n\n\n\n\n\n\nWebinar registration\n\n\n\n\n\nWebinar on December 18\, 2025\, at 09:00 am\, UTC+1 \n\n\n\n\n\nRegister here\n\n\n\n\n\n\n\nWebinar on December 18\, 2025\, at 16:00 pm\, UTC+1 \n\n\n\n\n\nRegister here
URL:https://www.scilifelab.se/event/scilifelab-pulse-information-webinar-for-applicants/
LOCATION:Online event via Zoom
CATEGORIES:Event
ATTACH;FMTTYPE=image/jpeg:https://www.scilifelab.se/wp-content/uploads/2024/12/AdobeStock_519582269-scaled-1.jpeg
ORGANIZER;CN="SciLifeLab Event":MAILTO:events@scilifelab.se
END:VEVENT
END:VCALENDAR