BEGIN:VCALENDAR
VERSION:2.0
PRODID:-//SciLifeLab - ECPv6.15.20//NONSGML v1.0//EN
CALSCALE:GREGORIAN
METHOD:PUBLISH
X-WR-CALNAME:SciLifeLab
X-ORIGINAL-URL:https://www.scilifelab.se
X-WR-CALDESC:Events for SciLifeLab
REFRESH-INTERVAL;VALUE=DURATION:PT1H
X-Robots-Tag:noindex
X-PUBLISHED-TTL:PT1H
BEGIN:VTIMEZONE
TZID:Europe/Stockholm
BEGIN:DAYLIGHT
TZOFFSETFROM:+0100
TZOFFSETTO:+0200
TZNAME:CEST
DTSTART:20250330T010000
END:DAYLIGHT
BEGIN:STANDARD
TZOFFSETFROM:+0200
TZOFFSETTO:+0100
TZNAME:CET
DTSTART:20251026T010000
END:STANDARD
BEGIN:DAYLIGHT
TZOFFSETFROM:+0100
TZOFFSETTO:+0200
TZNAME:CEST
DTSTART:20260329T010000
END:DAYLIGHT
BEGIN:STANDARD
TZOFFSETFROM:+0200
TZOFFSETTO:+0100
TZNAME:CET
DTSTART:20261025T010000
END:STANDARD
BEGIN:DAYLIGHT
TZOFFSETFROM:+0100
TZOFFSETTO:+0200
TZNAME:CEST
DTSTART:20270328T010000
END:DAYLIGHT
BEGIN:STANDARD
TZOFFSETFROM:+0200
TZOFFSETTO:+0100
TZNAME:CET
DTSTART:20271031T010000
END:STANDARD
END:VTIMEZONE
BEGIN:VEVENT
DTSTART;TZID=Europe/Stockholm:20260603T080000
DTEND;TZID=Europe/Stockholm:20260603T170000
DTSTAMP:20260421T175939
CREATED:20260112T103449Z
LAST-MODIFIED:20260421T105316Z
UID:10001701-1780473600-1780506000@www.scilifelab.se
SUMMARY:Cell Biology at Scale 2026
DESCRIPTION:The Cell Biology at Scale (CB@S) meeting is co-hosted by SciLifeLab\, the national research infrastructure for life science in Sweden\, and Biohub. This event aims to bring together researchers working at the interface of cell biology\, imaging\, functional genomics\, computational biology\, and artificial intelligence. \n\n\n\nRecent advances in multiplexed molecular profiling\, high-resolution imaging\, perturbation technologies\, and AI-driven modeling are changing how we study cells. Conducting cell biology at scale is not simply about increasing throughput. It represents a shift in how experiments are designed\, how data are integrated\, and how biological questions are formulated across molecular\, cellular\, and organismal levels. \n\n\n\nCB@S 2026\, a one-day symposium\, will focus on forward-looking perspectives: \n\n\n\n\nHow do we integrate multimodal cellular data?\n\n\n\nHow can modeling and AI help build predictive\, cell-scale theoretical frameworks?\n\n\n\nWhat experimental and computational strategies are still missing?\n\n\n\n\nThe symposium will be accessible both on site and via live stream. \n\n\n\nThe annual CB@S meetings started four years ago\, and so far\, all have taken place in the United States. Now for the first time\, the meeting will be hosted in Europe. Stockholm is an established international center for interdisciplinary life science research\, with strong environments in cell biology\, data-driven biology\, and technology development. \n\n\n\nSpeakers \n\n\n\nAlexander van Oudenaarden\, Hubrecht InstituteCharlotte Bunne\, EPFLFlorian Jug\, Human TechnopoleJohannes Schönenberg\, UCSDLukas Kapitein\, Utrecht UniversityMagda Bienko\, SciLifeLab\, Karolinska Institutet / Human TechnopoleRalf Jungmann\, Max Planck Institute of BiochemistrySuliana Manley\, EPFL \n\n\n\nRegistration \n\n\n\nregistration\n\n\n\nProgram \n\n\n\nProgram and sessions are preliminary and subject to change \n\n\n\nTimeActivity08:00Doors open\, registration\, coffee & light breakfast09:00Welcome remarks (SciLifeLab & Biohub)Session I – Molecular Mapping at Scale09:20Ralf Jungmann09:40DNA-associated intronic RNAs form introsomes that shape genome architecture in neurons Magda Bienko\, SciLifeLab/Karolinska Institutet\, Human Technopole10:10Florian Jug10:30Session Wrap up10:35Coffee BreakSession II – Cellular Organization & Dynamics11:00Johannes Schönenberg11:20Using light to dissect and direct cellular organization and dynamicsLukas Kapitein11:40Novel sequencing tools to monitor translation in individual cellsAlexander van Oudenaarden12:00Poster pitch session – Selected Abstracts12:20Session Wrap-up12:25Lunch and Poster sessionSession III – From imaging to models14:00Smart microscopy reveals patterns in the mitochondrial life cycleSuliana Manley14:20Virtual Patient Labs: AI-Driven Simulation and Diagnostics for Precision OncologyCharlotte Bunne14:40Selected talks from abstracts15:00Discussion & Session Wrap-up15:10Coffee Break15:45Speaker TBA16:05Speaker TBA16:25Speaker TBA16:45Panel discussion17:10Conference Wrap up – Thank you17:15End of Meeting\n\n\n\nAbstract Submissions \n\n\n\nWe invite attendees to submit abstracts for short talks\, and we especially encourage topics that are discussion-oriented and highlight future directions for the field\, rather than focused on published work. Abstracts are due May 15\, 2026; notifications of accepted abstracts will be made on May 25\, 2026. \n\n\n\nParticipants are also invited to submit an abstract (maximum 250 words) to present a poster at the meeting. The organizers may invite selected poster presenters to additionally give an oral presentation during the symposium. \n\n\n\nAfter registering\, you will receive a confirmation email with a link that allows you to return and submit or edit your abstract at any time before the deadline. \n\n\n\nScientific Committee \n\n\n\nJan EllenbergJohan ElfManuel LeonettiCarolina WählbyLucas PelkmansIain CheesemanPaul BlaineySanja Vickovic
URL:https://www.scilifelab.se/event/cell-biology-at-scale-2026/
LOCATION:Life City\, Solnavägen 3H\, Stockholm\, 113 64
CATEGORIES:Event
ATTACH;FMTTYPE=image/png:https://www.scilifelab.se/wp-content/uploads/2026/01/CBAS_Social_Card_Co-Brand_BLK_1276x720.png
ORGANIZER;CN="SciLifeLab Event":MAILTO:events@scilifelab.se
END:VEVENT
BEGIN:VEVENT
DTSTART;TZID=Europe/Stockholm:20260604T090000
DTEND;TZID=Europe/Stockholm:20260604T103000
DTSTAMP:20260421T175939
CREATED:20260130T104143Z
LAST-MODIFIED:20260130T104219Z
UID:10001744-1780563600-1780569000@www.scilifelab.se
SUMMARY:User meeting for your multi-modal research projects
DESCRIPTION:Boost your research — Book a private SciLifeLab planning and feedback session for your multi-modal research projects! \n\n\n\nRegister here \n\n\n\nOnce we have received your registration\, you will be sent the link to the online meeting. \n\n\n\nDate: June 4\, 9.00 – 10.30 Registration deadline: May 29 \n\n\n\nMultimodal molecular profiling and novel computational methods are transforming life science research\, but also pose new challenges in study design\, project resource planning and data management. SciLifeLab is a national resource of unique technologies and expertise available to life scientists\, in areas such as biomedicine\, ecology and evolution\, aiming to bring scientists together across traditional boundaries and foster collaborations with industry\, health care\, public research organizations and international partners. \n\n\n\nThe first Thursday of every month at 9.00 (except July and August)\, SciLifeLab offers an opportunity to jointly meet with representatives across the SciLifeLab service platforms\, to get feedback and help to plan\, design\, and refine new or ongoing multimodal research projects. Your project plans are discussed privately and remain confidential\, and information will not be shared outside of the service platforms. Note that for most studies\, follow-up meetings will be needed\, but our aim for these meetings is to provide an easy-access entry point for an overarching planning of multimodal studies. \n\n\n\nFor studies focusing on a single technology only\, please primarily contact our service platforms directly as described at the SciLifeLab homepage. \n\n\n\nTo make the best out of the allotted time\, we ask you to provide some background information about your project\, to help us ensure that the relevant experts are available to discuss your study.
URL:https://www.scilifelab.se/event/user-meeting-for-your-multi-modal-research-projects-8/
CATEGORIES:Event
ATTACH;FMTTYPE=image/jpeg:https://www.scilifelab.se/wp-content/uploads/2026/01/AdobeStock_1081766437-scaled-1.jpeg
END:VEVENT
BEGIN:VEVENT
DTSTART;TZID=Europe/Stockholm:20260615T080000
DTEND;TZID=Europe/Stockholm:20260616T170000
DTSTAMP:20260421T175939
CREATED:20251124T145843Z
LAST-MODIFIED:20251124T150308Z
UID:10001675-1781510400-1781629200@www.scilifelab.se
SUMMARY:Uppsala Antibiotic Days 2026
DESCRIPTION:You can now sign up for two days of talks\, discussions\, and community-building in Uppsala on 15-16 June 2026. This conference is a welcoming space for students\, early-career researchers\, and established experts alike. Focusing on collaboration and exchange across disciplines\, the broad program will cover drug discovery\, diagnostics\, social sciences\, infection control\, and antibiotic use effects\, among other topics. Participants are encouraged to submit abstracts for presentation! Location: Uppsala University Main Building\, Biskopsgatan 3\, 753 10 Uppsala\, Sweden \n\n\n\n \n\n\n\nIn collaboration withSciLifeLab – Pandemic Laboratory PreparednessUppsala Antibiotic CenterPLATINEAENABLE-2 \n\n\n\nConfirmed Keynote Speakers \n\n\n\n \n\n\n\n\nUrsula Theuretzbacher – expert in antibacterial drug-discovery & development strategies. \n\n\n\nRafael Cantón – clinical microbiology specialist. \n\n\n\nAnne Kveim Lie – professor in global health & history of medicine. \n\n\n\nRob Warren – TB genomics researcher. \n\n\n\nRena Conti –  health economics and pharmaceutical markets expert. \n\n\n\nJoakim Larsson –  environmental pharmacology & antibiotic-resistance in the environment.\n\n\n\nEvelina Tacconelli – infectious-diseases researcher and pandemic-preparedness lead. \n\n\n\nScott Weese – public health & zoonoses professor. \n\n\n\nMartha Clokie – phage research specialist. \n\n\n\nTobias Spielmann – Malaria researcher.\n\n\n\n\n\n\nRead more and Register
URL:https://www.scilifelab.se/event/191424/
LOCATION:Biskopsgatan 3\, 753 10 Uppsala\, Biskopsgatan 3\, Uppsala\, 753 10\, Sweden
CATEGORIES:Event
ATTACH;FMTTYPE=image/jpeg:https://www.scilifelab.se/wp-content/uploads/2025/11/UAD26flyer_nolink.jpg
ORGANIZER;CN="Pandemic Laboratory Preparedness at SciLifeLab":MAILTO:alice.sollazzo@scilifelab.uu.se
END:VEVENT
BEGIN:VEVENT
DTSTART;TZID=Europe/Stockholm:20260623T080000
DTEND;TZID=Europe/Stockholm:20260627T170000
DTSTAMP:20260421T175939
CREATED:20251003T110018Z
LAST-MODIFIED:20251003T113802Z
UID:10001625-1782201600-1782579600@www.scilifelab.se
SUMMARY:ICP2026 - International Conference on Palaeogenomics
DESCRIPTION:The first edition of the International Conference on Palaeogenomics (ICP2026) will happen in Stockholm\, June 23-26 2026. \n\n\n\nJoin us for four exciting days as we bring together leading researchers\, emerging scholars\, and professionals from around the world to explore the latest advances in palaeogenomics. Held in the heart of Stockholm\, the conference offers a unique opportunity to exchange knowledge and foster collaboration with contributions in a broad range of topics within ancient DNA research. \n\n\n\nInformation and abstract submission\n\n\n\nEveryone welcome!
URL:https://www.scilifelab.se/event/icp2026-international-conference-on-palaeogenomics/
LOCATION:Aula Magna\, Frescativägen 6\, Stockholm\, 114 18 Stockholm\, Sweden
CATEGORIES:Event
ORGANIZER;CN="Ancient DNA Unit at SciLifeLab":MAILTO:magnus.lundgren@scilifelab.uu.se
END:VEVENT
BEGIN:VEVENT
DTSTART;TZID=Europe/Stockholm:20260624T093000
DTEND;TZID=Europe/Stockholm:20260624T101500
DTSTAMP:20260421T175939
CREATED:20260327T122714Z
LAST-MODIFIED:20260327T122715Z
UID:10001786-1782293400-1782296100@www.scilifelab.se
SUMMARY:Från genetisk data till behandling: hur bygger vi en jämlik cancervård i hela landet?
DESCRIPTION:Beskrivning av samhällsfrågan \n\n\n\nPrecisionsdiagnostik flyttar fokus från var cancern sitter i kroppen\, till tumörens genetiska profil. Men avancerad testning kräver specialistkompetens och strukturer för tolkning av stora datamängder. Hur säkerställer vi jämlik tillgång till rätt testning och rätt behandling i hela landet? \n\n\n\nUtökad information om evenemanget\n\n\n\nMolecular Tumour Board (MTB) är en central funktion i modern cancervård där multidisciplinära expertteam tolkar komplex genetisk information för att kunna välja rätt behandling till rätt patient. Men tillgången till både avancerad genetisk testning och till expertis inom MTB varierar i landet. Detta riskerar att förstärka ojämlikheter i cancervården och försvåra implementeringen av precisionsmedicin i klinisk praxis. Hur säkerställer vi att alla patienter får tillgång till rätt diagnostik\, rätt tolkning och rätt behandling – oavsett var de bor? Seminariet sätter fokus på det strategiska vägval Sverige står inför: • Hur ser vi till att MTB blir en nationell angelägenhet avpassad efter regionala behov? • Vilka investeringar krävs i infrastruktur\, kompetens och datahantering? • Hur säkerställer vi att innovation omsätts i faktisk patientnytta – för alla\, inte bara för vissa? Diskussionen samlar beslutsfattare\, vårdgivare och experter för att identifiera konkreta vägar framåt. \n\n\n\nMedverkande\n\n\n\nAnders Edsjö\, Överläkare\, Sektionschef klinisk patologi\, vice föreståndare GMS\, Region Skåne\, GMS \n\n\n\nJanne Lehtiö\, Professor\, Karolinska Institutet\, SciLifeLab \n\n\n\nEdvard Abel\, Centrumföreståndare\, PI FOCU.SE-trial\, Sahlgrenska CCC \n\n\n\nPernilla Grillner\, Verksamhetschef Högspecialiserad vård Astrid Lindgrens Barnsjukhus samt forskare \, Karolinska Universitetssjukhuset\, Karolinska Institutet \n\n\n\nDaniel Ågren\, Personalised Healthcare Lead\, Roche \n\n\n\nJohanna Svensson\, Verksamhetschef\, RCC Väst \n\n\n\nRichard Rosenquist Brandell\, Professor\, överläkare (moderator)\, GMS\, Karolinska Institutet\, Karolinska sjukhuset
URL:https://www.scilifelab.se/event/fran-genetisk-data-till-behandling-hur-bygger-vi-en-jamlik-cancervard-i-hela-landet/
LOCATION:Birgers Gränd 9\, Birgers Gränd 9\, Visby\, Sweden
CATEGORIES:Event
ORGANIZER;CN="SciLifeLab i Almedalen":MAILTO:events@scilifelab.se
END:VEVENT
BEGIN:VEVENT
DTSTART;TZID=Europe/Stockholm:20260624T110000
DTEND;TZID=Europe/Stockholm:20260624T114500
DTSTAMP:20260421T175939
CREATED:20260327T122045Z
LAST-MODIFIED:20260327T122046Z
UID:10001783-1782298800-1782301500@www.scilifelab.se
SUMMARY:Sverige kan ta ledarposition i införande av banbrytande teknologier och AI i hälso- och sjukvården
DESCRIPTION:Ämne: Vård och Omsorg\, Innovation \n\n\n\nArrangör: Uppsala universitet\, SciLifeLab \n\n\n\nPlats: Cramérgatan 3\, Torget \n\n\n\nBeskrivning av samhällsfrågan\n\n\n\nHur kan Sverige möta hälso- och sjukvårdens komplexa utmaningar och möjliggöra precisionsmedicin genom att kombinera patientdata\, AI\, teknologiutveckling och forskning? \n\n\n\nUtökad information om evenemanget\n\n\n\nSverige har unika förutsättningar: världsledande universitetssjukhus\, tillförlitliga hälsodata\, SciLifeLabs nationella forskningsinfrastruktur\, högkvalitativ forskning och avancerad teknologiutveckling vid universiteten. Att systematiskt koppla samman forskning vid universiteten\, SciLifeLabs forskningsinfrastruktur och universitetssjukhus möjliggör snabbare införande av avancerad teknologi för klinisk nytta. Genom gemensamma enheter vid universitetssjukhusen kan utveckling och anpassning av avancerade teknologier göras inom molekylär analys\, data-driven forskning och AI för att stärka den kliniska forskningen och brett genomslag av precisionsmedicin i Sverige. Långsiktig finansiering av dessa enheter och samverkan mellan hälso- och sjukvården\, akademin\, industrin och patienter är avgörande för att lyckas med detta ambitiösa men nödvändiga mål. Vi diskuterar varför dessa gemensamma strukturer behöver skapas och hur de kan utformas för att stärka Sveriges kliniknära forskning.
URL:https://www.scilifelab.se/event/sverige-kan-ta-ledarposition-i-inforande-av-banbrytande-teknologier-och-ai-i-halso-och-sjukvarden/
LOCATION:D-huset\, Campus Gotland\, Kaserngatan 1\, Visby\, Sweden
CATEGORIES:Event
ORGANIZER;CN="SciLifeLab i Almedalen":MAILTO:events@scilifelab.se
END:VEVENT
BEGIN:VEVENT
DTSTART;TZID=Europe/Stockholm:20260624T130000
DTEND;TZID=Europe/Stockholm:20260624T140000
DTSTAMP:20260421T175939
CREATED:20260327T122227Z
LAST-MODIFIED:20260327T122228Z
UID:10001784-1782306000-1782309600@www.scilifelab.se
SUMMARY:DigitaltEuropa möjliggör satsningar på humandata för bättre hälsa\, sjukvård\, forskning\, innovation
DESCRIPTION:Beskrivning av samhällsfrågan \n\n\n\nDe stora europeiska digitala satsningarna inom biomedicin ger tillgång till miljontals DNA-sekvenser för forskning\, sjukvård och innovation – 1+MG (One Million Genome Initiative)\, GDI (Genomic Data Infrastructure) och GoE (Genome of Europe). \n\n\n\nUtökad information om evenemanget\n\n\n\nNu 2026 kommer en EDIC (European Digital Infrastructure Consortium) att bildas för att möjliggöra dessa satsningar. En Genom-EDIC är instrumentell för utveckling av precisionsmedicin med förbättrad hälso- och sjukvård samtidigt som den möjliggör avancerad forskning och förbättrad innovation. Sverige är ledande i flera av dessa projekt genom att bygga den digitala infrastrukturen. Vid seminariet kommer vi att presentera i) Projektet GDI (European Genomic Data Infrastructure) och dess möjligheter för precisionshälsa och precisionsmedicin. ii) Projektet GoE (Genome of Europe) som samlar in ”normal-DNA” som skall fungera som jämförelsematerial vid diagnostik. iii) Genom-EDIC som den legala enkonstruktion för 1+MG Därefter vidtar en paneldiskussion med presentatörerna och möjligheter för alla att ställa frågor så att vi får en öppen diskussion med tillfälle till fördjupning. \n\n\n\nMedverkande\n\n\n\nBengt Persson\, Professor i bioinformatik \, Uppsala Univeristet\, SciLifeLab\, NBIS\, GDI \n\n\n\nRichard Rosenquist Brandell\, Överläkare\, professor\, föreståndare GMS\, Karolinska Institutet\, Karolinska sjukhuset
URL:https://www.scilifelab.se/event/digitalteuropa-mojliggor-satsningar-pa-humandata-for-battre-halsa-sjukvard-forskning-innovation/
LOCATION:D-huset\, Campus Gotland\, Kaserngatan 1\, Visby\, Sweden
CATEGORIES:Event
ORGANIZER;CN="SciLifeLab i Almedalen":MAILTO:events@scilifelab.se
END:VEVENT
BEGIN:VEVENT
DTSTART;TZID=Europe/Stockholm:20260625T080000
DTEND;TZID=Europe/Stockholm:20260625T170000
DTSTAMP:20260421T175939
CREATED:20260327T122420Z
LAST-MODIFIED:20260327T122421Z
UID:10001785-1782374400-1782406800@www.scilifelab.se
SUMMARY:Prevention\, precision och partnerskap för framtidens cancervård
DESCRIPTION:Beskrivning av samhällsfrågan \n\n\n\nHur går vi från politiska ambitioner till verklig förändring i cancervården? Cancer är en global samhällsutmaning. För att möta den måste vi skapa bättre förutsättningar för att implementera ny kunskap\, nya metoder och interventioner. Vi behöver tänka nytt och anta ett helhetsperspektiv på hälsa. \n\n\n\nUtökad information om evenemanget\n\n\n\nCancer Mission Day samlar ledande aktörer från vård\, forskning\, myndigheter\, industri och civilsamhälle för att tillsammans utforska hur prevention\, precisionsmedicin\, hälsodata och nya arbetssätt kan stärka både patientnytta och Sveriges konkurrenskraft. Genom tvärsektoriella samtal och konkreta exempel visar dagen hur cancerstrategin kan omsättas i handling – från tidig upptäckt och datadriven innovation till jämlik uppföljning och livskvalitet. Dagen avslutas med lanseringen av SweCan\, Sveriges Cancer Mission Hub\, där oväntade möten blir drivkraften för nästa steg i systemförändringen. \n\n\n\nEvenemangsinformation\n\n\n\nEvenemangstyp: Träffpunkt \n\n\n\nEvenemangs-ID: 8099 \n\n\n\nSpråk: Svenska och Engelska \n\n\n\nFörtäring: Ja \n\n\n\nArrangörsuppgifter\n\n\n\nKontaktperson: Ebba Hallersjö Hult\, Ledare Testbed Sweden Precision Health Cancer\, Stockholm School of Economics Institute for Research (SIR)\, ebba.hallersjo.hult@hhs.se \n\n\n\nJonas Vikman\, VD\, Victri Advice\, jonas.vikman@victri.se
URL:https://www.scilifelab.se/event/prevention-precision-och-partnerskap-for-framtidens-cancervard/
LOCATION:Birgers Gränd 9\, Birgers Gränd 9\, Visby\, Sweden
CATEGORIES:Event
ORGANIZER;CN="SciLifeLab i Almedalen":MAILTO:events@scilifelab.se
END:VEVENT
BEGIN:VEVENT
DTSTART;TZID=Europe/Stockholm:20260625T130000
DTEND;TZID=Europe/Stockholm:20260625T134500
DTSTAMP:20260421T175939
CREATED:20260327T122838Z
LAST-MODIFIED:20260327T122839Z
UID:10001787-1782392400-1782395100@www.scilifelab.se
SUMMARY:AI och hälsodata – går vi äntligen från vision till verklighet i cancervården?
DESCRIPTION:Beskrivning av samhällsfrågan \n\n\n\nAI och avancerad dataanalys kan bidra till tidigare upptäckt\, mer träffsäkra behandlingsbeslut och bättre uppföljning i cancervården. Men i dag hindrar fragmenterade IT-system\, otydliga regelverk och begränsad datadelning utvecklingen. Hur skapar vi en mer datadriven cancervård? \n\n\n\nUtökad information om evenemanget\n\n\n\nCancer är en av vår tids största folkhälsoutmaningar och antalet cancerfall väntas öka i takt med en åldrande befolkning. Samtidigt utvecklas nya diagnostiska metoder\, behandlingar och datadrivna verktyg i snabb takt. För att dessa innovationer ska komma patienter till nytta behöver vården kunna använda hälsodata mer effektivt\, säkert och strukturerat än i dag. Sverige har goda förutsättningar genom nationella register\, hög digital mognad och stark forskning. Trots detta finns betydande hinder för hur hälsodata kan delas\, analyseras och användas i klinisk verksamhet\, kvalitetsuppföljning och forskning. Bristande interoperabilitet\, otydliga regelverk och fragmenterade IT-system gör att potentialen i AI och avancerad dataanalys inte utnyttjas fullt ut. Seminariet diskuterar hur AI och bättre användning av hälsodata kan bidra till tidigare upptäckt\, mer individanpassad diagnostik och bättre behandlingsbeslut – och hur Sverige kan dra nytta av initiativ som European Health Data Space. \n\n\n\nMedverkande\n\n\n\nKarin Liljelund\, Patientföreträdare\, Lungcancerföreningen\, Patientrådet FOCU.SE-trial\, Patientrådet Karolinska \n\n\n\nPäivi Östling\, Docent\, SciLifeLab
URL:https://www.scilifelab.se/event/ai-och-halsodata-gar-vi-antligen-fran-vision-till-verklighet-i-cancervarden/
LOCATION:Birgers Gränd 9\, Birgers Gränd 9\, Visby\, Sweden
CATEGORIES:Event
ORGANIZER;CN="SciLifeLab i Almedalen":MAILTO:events@scilifelab.se
END:VEVENT
BEGIN:VEVENT
DTSTART;TZID=Europe/Stockholm:20260625T170000
DTEND;TZID=Europe/Stockholm:20260625T174500
DTSTAMP:20260421T175939
CREATED:20260327T123013Z
LAST-MODIFIED:20260327T123014Z
UID:10001788-1782406800-1782409500@www.scilifelab.se
SUMMARY:Oväntade samarbeten – nyckeln till framtidens cancervård och innovation?
DESCRIPTION:Beskrivning av samhällsfrågan \n\n\n\nVad kan vi göra tillsammans som ingen aktör klarar ensam? Cancer kräver nya samarbeten över sektorer och gränser. Hur kan Sverige ta en ledande roll Europas samarbete och omsätta innovation till konkret nytta för patienter och samhälle? \n\n\n\nUtökad information om evenemanget\n\n\n\nSverige har starka förutsättningar inom forskning\, vård och innovation\, men står inför utmaningar i att omsätta kunskap till jämlik och effektiv cancervård. Ökat samarbete mellan sektorer och bättre koppling mellan nationella och internationella initiativ är avgörande för att möta framtidens behov. SweCan är Sveriges nationella Cancer Mission Hub inom ramen för regeringens uppdrag och samlar aktörer från akademi\, hälso- och sjukvård\, näringsliv och civilsamhälle. Genom att möjliggöra nya samarbeten och stärka koordineringen kan Sverige ta en tydligare roll i EU:s Cancer Mission och bidra till global utveckling inom life science. Cancer Mission Day avslutas med detta pass där deltagare från olika sektorer möts för att knyta kontakter\, utbyta idéer och inspireras till konkreta initiativ som kan stärka svensk cancervård\, forskning och innovation. \n\n\n\nMedverkande\n\n\n\nMartin Jansson\, Projektledare\, SweCan \n\n\n\nMef Nilbert\, Överläkare\, professor\, Lunds universitet\, Sakkunnig\, Socialstyrelsen \n\n\n\nEva Jolly\, Enhetschef\, Karolinska Comprehensive Cancer Centre \n\n\n\nEbba Hallersjö Hult\, ledare Testbed Sweden\, Handelshögskolan \n\n\n\nJohanna Svensson\, Verksamhetschef\, RCC Väst \n\n\n\nJonas Vikman\, moderator\, VD\, Victri Advice \n\n\n\nEmelie Antoni\, Nordenchef AstraZeneca\, Ordförande Lif \n\n\n\nPäivi Östling\, Docent\, SciLifeLab
URL:https://www.scilifelab.se/event/ovantade-samarbeten-nyckeln-till-framtidens-cancervard-och-innovation/
LOCATION:Birgers Gränd 9\, Birgers Gränd 9\, Visby\, Sweden
CATEGORIES:Event
ORGANIZER;CN="SciLifeLab i Almedalen":MAILTO:events@scilifelab.se
END:VEVENT
END:VCALENDAR