BEGIN:VCALENDAR
VERSION:2.0
PRODID:-//SciLifeLab - ECPv6.15.20//NONSGML v1.0//EN
CALSCALE:GREGORIAN
METHOD:PUBLISH
X-WR-CALNAME:SciLifeLab
X-ORIGINAL-URL:https://www.scilifelab.se
X-WR-CALDESC:Events for SciLifeLab
REFRESH-INTERVAL;VALUE=DURATION:PT1H
X-Robots-Tag:noindex
X-PUBLISHED-TTL:PT1H
BEGIN:VTIMEZONE
TZID:Europe/Stockholm
BEGIN:DAYLIGHT
TZOFFSETFROM:+0100
TZOFFSETTO:+0200
TZNAME:CEST
DTSTART:20240331T010000
END:DAYLIGHT
BEGIN:STANDARD
TZOFFSETFROM:+0200
TZOFFSETTO:+0100
TZNAME:CET
DTSTART:20241027T010000
END:STANDARD
BEGIN:DAYLIGHT
TZOFFSETFROM:+0100
TZOFFSETTO:+0200
TZNAME:CEST
DTSTART:20250330T010000
END:DAYLIGHT
BEGIN:STANDARD
TZOFFSETFROM:+0200
TZOFFSETTO:+0100
TZNAME:CET
DTSTART:20251026T010000
END:STANDARD
BEGIN:DAYLIGHT
TZOFFSETFROM:+0100
TZOFFSETTO:+0200
TZNAME:CEST
DTSTART:20260329T010000
END:DAYLIGHT
BEGIN:STANDARD
TZOFFSETFROM:+0200
TZOFFSETTO:+0100
TZNAME:CET
DTSTART:20261025T010000
END:STANDARD
BEGIN:DAYLIGHT
TZOFFSETFROM:+0100
TZOFFSETTO:+0200
TZNAME:CEST
DTSTART:20270328T010000
END:DAYLIGHT
BEGIN:STANDARD
TZOFFSETFROM:+0200
TZOFFSETTO:+0100
TZNAME:CET
DTSTART:20271031T010000
END:STANDARD
END:VTIMEZONE
BEGIN:VEVENT
DTSTART;TZID=Europe/Stockholm:20250319T090000
DTEND;TZID=Europe/Stockholm:20250320T163000
DTSTAMP:20260420T140623
CREATED:20250205T123839Z
LAST-MODIFIED:20250318T144946Z
UID:10001475-1742374800-1742488200@www.scilifelab.se
SUMMARY:Current Trends in Applied Mass Spectrometry
DESCRIPTION:This event is a forum where people from industry\, academia and research infrastructures can meet and discuss the latest developments in Applied Mass Spectrometry. The event consists of several workshops\, a conference and a fair where leading companies in the field will present their latest analytical applications and technologies.This event includes a workshop day on 19 March and a conference and a fair on 20 March. The event ends with a dinner on 20 March. \n\n\n\n\nImportant dates:  \n\n\n\nMonday\, 3 March at 23:59 – registration deadline for the Workshops on 19 March \n\n\n\nThursday\, 6 March at 23:59 – registration deadline for the Conference and Fair on 20 March. \n\n\n\nAfter 6 March\, you can register for the conference\, but not for the lunch.  \n\n\n\n\nOrganizersThe event is organized by the Swedish Mass Spectrometry Society (SMSS)\, the Swedish Metabolomics Centre (SMC)\, and SciLifeLab in collaboration with the Mass Spectrometry Network Umeå and the participating companies. The KBC Communications Office and Umeå University Library provide organisational support.
URL:https://www.scilifelab.se/event/current-trends-in-applied-mass-spectrometry/
LOCATION:KBC Building Umeå\, Linneaus Väg 6\, Umeå
CATEGORIES:Event
ATTACH;FMTTYPE=image/jpeg:https://www.scilifelab.se/wp-content/uploads/2025/02/21A6061-scaled.jpg
ORGANIZER;CN="SciLifeLab Ume%C3%A5":MAILTO:umea@scilifelab.se
END:VEVENT
BEGIN:VEVENT
DTSTART;TZID=Europe/Stockholm:20250325T120000
DTEND;TZID=Europe/Stockholm:20250325T130000
DTSTAMP:20260420T140623
CREATED:20250304T105805Z
LAST-MODIFIED:20250304T105806Z
UID:10001504-1742904000-1742907600@www.scilifelab.se
SUMMARY:Umeå seminar series: Powder X-ray diffraction in geochemical\, environmental\, and energy sciences
DESCRIPTION:“Powder X-ray diffraction in geochemical\, environmental\, and energy sciences – identifying and quantifying crystalline structures using the MAXS platform”Speaker: Nils Skoglund\, MAXS platform manager and Associate Professor at Thermochemical Energy Conversion Laboratory\, Department of Applied Physics and Electronics\, Umeå University.  \n\n\n\nTarget audience: PhD students\, post-docs and PIs working with solid samples related to geology\, sediments\, environment\, or energy sciences. \n\n\n\nPlatform’s webpage: Multi-purpose Adaptive X-ray Scattering platform (MAXS) \n\n\n\nRegistration: Sign up for the IRL seminar and reserve your free lunch (salad\, drink\, and little sweet snack) by Friday\, 21 March\, 12:00\, or follow online (registration is not required):Meeting URL: https://umu.zoom.us/j/69390567429 \n\n\n\nRegister\n\n\n\n\n\n\n\n\nSciLifeLab Site Umeå/KBC Infrastructure Seminar Series\n\n\n\nThis event is part of the SciLifeLab site Umeå/KBC Infrastructure Seminar series\, for future events in spring 2025\, check the seminar series home page.  \n\n\n\nTake me there
URL:https://www.scilifelab.se/event/umea-seminar-series-powder-x-ray-diffraction-in-geochemical-environmental-and-energy-sciences/
LOCATION:KBC Building\, Linneaus Väg 6\, Umeå\, Sweden
CATEGORIES:Event
ATTACH;FMTTYPE=image/webp:https://www.scilifelab.se/wp-content/uploads/2025/03/maxs_logo-rainbow.webp
ORGANIZER;CN="SciLifeLab Ume%C3%A5":MAILTO:umea@scilifelab.se
END:VEVENT
BEGIN:VEVENT
DTSTART;TZID=Europe/Stockholm:20250408T120000
DTEND;TZID=Europe/Stockholm:20250408T130000
DTSTAMP:20260420T140623
CREATED:20250325T083306Z
LAST-MODIFIED:20250326T123411Z
UID:10001513-1744113600-1744117200@www.scilifelab.se
SUMMARY:Umeå seminar series: Beyond the Command Line - HPC2N and the OpenOnDemand Experience
DESCRIPTION:“Beyond the Command Line – HPC2N and the OpenOnDemand Experience” \n\n\n\nSpeaker: Björn Torkelsson\, System engineer and Assistant director\, High Performance Computing Centre North (HPC2N) \n\n\n\nAbstract: This presentation will provide an update on the latest developments at HPC2N. We will explore recent enhancements in infrastructure\, software\, and services offered to researchers and users. \n\n\n\nA significant portion of the presentation will be dedicated to a live demonstration of OpenOnDemand\, a web-based portal that simplifies access and utilization of Kebnekaise\, the local UMU HPC resource. We will showcase how OpenOnDemand enables easy execution of applications\, data visualization\, and job management directly from a web browser\, enhancing accessibility and efficiency for users of all levels. \n\n\n\nWebpage of High Performance Computing Centre North (HPC2N) \n\n\n\n\nRegistration: Sign up for the IRL seminar and reserve your free lunch (salad\, drink\, and little sweet snack) by Friday\, 4 April\, 13:30: https://www.umu.se/en/research/infrastructure/scilifelab/scilifelab-site-umea–kbc-infrastructure-seminar-series \n\n\n\nFollow the seminar online (registration is not required): Meeting URL: https://umu.zoom.us/j/69390567429
URL:https://www.scilifelab.se/event/umea-seminar-series-beyond-the-command-line-hpc2n-and-the-openondemand-experience/
LOCATION:KBC Building Umeå\, Linneaus Väg 6\, Umeå
CATEGORIES:Event
ATTACH;FMTTYPE=image/jpeg:https://www.scilifelab.se/wp-content/uploads/2024/04/SciLifeLab-Site-Umea-seminar-scaled.jpg
ORGANIZER;CN="SciLifeLab Ume%C3%A5":MAILTO:umea@scilifelab.se
END:VEVENT
BEGIN:VEVENT
DTSTART;TZID=Europe/Stockholm:20250410T120000
DTEND;TZID=Europe/Stockholm:20250410T130000
DTSTAMP:20260420T140623
CREATED:20250326T125539Z
LAST-MODIFIED:20250326T125540Z
UID:10001515-1744286400-1744290000@www.scilifelab.se
SUMMARY:Innovation through collaboration
DESCRIPTION:AstraZeneca Open Innovation and Collaborative Insights from Mikael Elofsson\, UMU \n\n\n\n\nSpeakers: Björn Tyrberg and Hannah Semple present Open Innovation\, AstraZeneca\, covering:  \n\n\n\n– CoSolve challenges– Preclinical compound sharing– Compound screening collaborations:–> Diversity screens–> Phenotypic screens–> Bespoke library screens–> Secretome and other libraries \n\n\n\n\nThe presentation will be given in Galaxen (Sirius)\, found on the ground floor of the Universum building\, at Umeå University. Find your way to the venue: MazeMap link.  \n\n\n\nTime will be given afterwards for 1:1 project discussions with interested investigators. \n\n\n\nRegister to come to the presentation and reserve your lunch\, as well as book a 1:1 project discussion by Tuesday\, 8 April at 10:00.  \n\n\n\nRead more and register here
URL:https://www.scilifelab.se/event/innovation-through-collaboration-2/
LOCATION:Galaxen (Sirius)\, Universum\, Umeå\, Universitetstorget 4\, Umeå\, 90187\, Sweden
CATEGORIES:Event
ATTACH;FMTTYPE=image/jpeg:https://www.scilifelab.se/wp-content/uploads/2022/05/AdobeStock_108274229_DNA_WP.jpg
ORGANIZER;CN="SciLifeLab Ume%C3%A5":MAILTO:umea@scilifelab.se
END:VEVENT
BEGIN:VEVENT
DTSTART;TZID=Europe/Stockholm:20250429T120000
DTEND;TZID=Europe/Stockholm:20250429T130000
DTSTAMP:20260420T140623
CREATED:20250411T124253Z
LAST-MODIFIED:20250411T124255Z
UID:10001528-1745928000-1745931600@www.scilifelab.se
SUMMARY:Umeå seminar series: Discover your sample in 3D using volume EM by FIB-SEM
DESCRIPTION:Presenter: Sara Henriksson\, Staff scientist\, Umeå Centre for Electron Microscopy (UCEM)\, Umeå University \n\n\n\nAbstract: FIB-SEM is a conventional scanning electron microscope equipped with a focused ion beam. This beam is destructive which enables shaping of objects inside of the microscope. Such a microscope can act as a knife\, removing section by section of a sample. Together with high-quality sample preparation and electron detectors\, this facilitates a volumetric view of any given sample at high magnification and resolution. This seminar will describe the method in more detail and give examples of supported projects and applications. \n\n\n\n\nREGISTRATION\n\n\n\nSign up for the IRL seminar on the 29th of April and reserve your free lunch (salad\, drink\, and a little sweet snack) by Friday\, 25th April\, 13:30 in the form below\, or follow online here: https://www.umu.se/en/research/groups/scilifelab/scilifelab-site-umea–kbc-infrastructure-seminar-series/
URL:https://www.scilifelab.se/event/umea-seminar-series-discover-your-sample-in-3d-using-volume-em-by-fib-sem/
LOCATION:Glasburen Seminar Room\, Chemical Biological Centre (KBC) Building\, Umeå University\, Umeå\, 901 87\, Sweden
CATEGORIES:Event
ATTACH;FMTTYPE=image/webp:https://www.scilifelab.se/wp-content/uploads/2025/04/chlamydia_infected_cell_fib-sem-Sara-Henriksson.webp
ORGANIZER;CN="SciLifeLab Ume%C3%A5":MAILTO:umea@scilifelab.se
END:VEVENT
BEGIN:VEVENT
DTSTART;TZID=Europe/Stockholm:20250506T120000
DTEND;TZID=Europe/Stockholm:20250506T130000
DTSTAMP:20260420T140623
CREATED:20250416T120902Z
LAST-MODIFIED:20250416T120941Z
UID:10001533-1746532800-1746536400@www.scilifelab.se
SUMMARY:Umeå seminar series: Cryo-focused ion beam milling (cryo-FIB-SEM): Taking you where you need to go
DESCRIPTION:SciLifeLab Site Umeå/KBC Infrastructure Seminar Series \n\n\n\nSpeaker: Erin Schexnaydre\, Staff scientist\, Umeå Centre for Electron Microscopy (UCEM)\, Umeå University \n\n\n\nShort description: Cryo-focused ion beam milling (cryo-FIB) is a powerful technique. Its power comes from its versatility to study biological systems in vitro or in situ\, i.e. within cells or tissue. It has the ability to reach uncharted regions in biological systems. Cryo-FIB milling is used to expose 100–250 nm thin sections (called lamella) in intact frozen cells and tissue. The process allows access into the cells for high-resolution cryo-electron tomography (cryo-ET) and structure determination of biomolecules in their native environment. \n\n\n\nWebpage of Umeå Centre for Electron Microscopy (UCEM) \n\n\n\n\nRegistration: Sign up for the IRL seminar and reserve your free lunch (salad\, drink\, and a little sweet snack) by Friday\, 2 May\, 13:30: https://www.umu.se/en/research/infrastructure/scilifelab/scilifelab-site-umea–kbc-infrastructure-seminar-series Follow online (registration is not required): https://umu.zoom.us/j/69390567429
URL:https://www.scilifelab.se/event/umea-seminar-series-cryo-focused-ion-beam-milling-cryo-fib-sem-taking-you-where-you-need-to-go/
LOCATION:Glasburen Seminar Room\, Chemical Biological Centre (KBC) Building\, Umeå University\, Umeå\, 901 87\, Sweden
CATEGORIES:Event
ATTACH;FMTTYPE=image/webp:https://www.scilifelab.se/wp-content/uploads/2025/04/cryoet_workshop_image_16_9.jpg.webp
ORGANIZER;CN="SciLifeLab Ume%C3%A5":MAILTO:umea@scilifelab.se
END:VEVENT
BEGIN:VEVENT
DTSTART;TZID=Europe/Stockholm:20250520T120000
DTEND;TZID=Europe/Stockholm:20250520T130000
DTSTAMP:20260420T140623
CREATED:20250512T104320Z
LAST-MODIFIED:20250512T152819Z
UID:10001545-1747742400-1747746000@www.scilifelab.se
SUMMARY:Umeå seminar series: Solid-state NMR: Molecular insight into complex materials ranging from cancer biopsies to membranes\, biopolymers\, plants and cells to novel material
DESCRIPTION:Presenter: Tobias Sparrman\, Staff scientist\, NMR core facility\, Umeå University \n\n\n\nWhat is solid-state NMR and how can that help you?How does solid state NMR differ from liquid state – strengths and weaknesses?   \n\n\n\nAn introduction to the national NMR infrastructure at KBC with focus on solids and semi-solids. The basic concept of Magic Angle Spinning and examples on how NMR can be applied to a vast range of complex material e.g. in tissue metabolomics\, environment\, ecology and archeology\, but also to obtain detailed information on biopolymers like spider silk\, cellulose\, lignin and even membranes\, and not least investigate new technical materials with the use of 7Li\,19F\, 31P\, 27Al\, 29Si NMR.  \n\n\n\nWebpage: NMR Core facility \n\n\n\n\nRegister by Friday\, 16 May at 13:30\, to reserve your free lunch\, or join on Zoom (registration is not required): https://www.umu.se/en/research/groups/scilifelab/scilifelab-site-umea–kbc-infrastructure-seminar-series/ \n\n\n\nOn Zoom: https://umu.zoom.us/j/69390567429
URL:https://www.scilifelab.se/event/umea-seminar-series-solid-state-nmr-molecular-insight-into-complex-materials-ranging-from-cancer-biopsies-to-membranes-biopolymers-plants-and-cells-to-novel-material/
LOCATION:Glasburen Seminar Room\, Chemical Biological Centre (KBC) Building\, Umeå University\, Umeå\, 901 87\, Sweden
CATEGORIES:Event
ATTACH;FMTTYPE=image/jpeg:https://www.scilifelab.se/wp-content/uploads/2024/09/21A5642-scaled.jpg
ORGANIZER;CN="SciLifeLab Ume%C3%A5":MAILTO:umea@scilifelab.se
END:VEVENT
BEGIN:VEVENT
DTSTART;TZID=Europe/Stockholm:20250910T120000
DTEND;TZID=Europe/Stockholm:20250910T130000
DTSTAMP:20260420T140623
CREATED:20250619T110129Z
LAST-MODIFIED:20250908T141736Z
UID:10001569-1757505600-1757509200@www.scilifelab.se
SUMMARY:Is high-throughput electrophysiology possible?
DESCRIPTION:Presenters\n\n\n\n\nFredrik Elinder\, Professor\, Site director SciLifeLab Linköping\, Chemical Biology Consortium Sweden (CBCS)\, and Department of Biomedical and Clinical Sciences (BKV)\, Linköping University \n\n\n\n\n\nNina Ottosson\, Research Coordinator\, Chemical Biology Consortium Sweden (CBCS)\, and Department of Biomedical and Clinical Sciences (BKV)\, Linköping University \n\n\n\n\n\nPlease note new date\, 10 September (previously 9 September). The electrophysiology platform at Linköping University\, part of Chemical Biology Consortium Sweden (CBCS) at SciLifeLab\, visits site Umeå\, and presents their platform during a seminar. During the visit\, 1:1 visits with the presenters will be possible. The electrophysiology platform is equipped with automated patch-clamp instrumentation\, and supports a wide range of electrophysiological studies involving both voltage-gated and ligand-gated ion channels\, including pharmacological screening\, cardiac safety assessments\, and biophysical investigations. In November 2025\, we will offer a PhD course\, which is now open for registration: Physiology of Ion Channels and their role in disease – Linköping University \n\n\n\nWebpage of the CBCS Linköping node.  \n\n\n\n\nRegistration – CANCELLED\n\n\n\nSign up for the IRL seminar and reserve your free lunch (salad\, drink\, and a little sweet snack) by Friday\, 5 September\, 13:30\, \n\n\n\nIn the registration form\, you can also express your interest in meeting the presenters before or after the seminar (note\, that this option is not available for online participants).  \n\n\n\nIn the registration form\, you can also express your interest in meeting the presenters before or after the seminar (note\, that this option is not available for online participants). 
URL:https://www.scilifelab.se/event/is-high-throughput-electrophysiology-possible/
LOCATION:Glasburen Seminar Room\, Chemical Biological Centre (KBC) Building\, Umeå University\, Umeå\, 901 87\, Sweden
CATEGORIES:Event
ATTACH;FMTTYPE=image/jpeg:https://www.scilifelab.se/wp-content/uploads/2025/06/electrophysiology-visit.jpg
ORGANIZER;CN="SciLifeLab Ume%C3%A5":MAILTO:umea@scilifelab.se
END:VEVENT
BEGIN:VEVENT
DTSTART;TZID=Europe/Stockholm:20251001T080000
DTEND;TZID=Europe/Stockholm:20251002T170000
DTSTAMP:20260420T140623
CREATED:20250403T072207Z
LAST-MODIFIED:20250513T132225Z
UID:10001521-1759305600-1759424400@www.scilifelab.se
SUMMARY:cryoNET Symposium 2025
DESCRIPTION:When: 1-2 October\, 2025Where: Rotundan\, Umeå\, SwedenDeadline for registration: 1 September (for registration\, abstract\, poster) \n\n\n\n\nRead more and register on event page: https://www.umu.se/en/cryonet2025 \n\n\n\n\nInvited speakers\n\n\n\n\nInvited speakers:\n\n\n\nAleksandar Antanasijevic\, École polytechnique fédérale de Lausanne\, Switzerland\n\n\n\nPetr Chlanda\, Heidelberg University\, Germany\n\n\n\nIrina Gutsche\, Institut de Biologie Structurale\, Grenoble\, France\n\n\n\nOhad Medalia\, University of Zurich\, Switzerland\n\n\n\nChristopher Russo\, MRC Laboratory of Molecular Biology\, Cambridge\, UK\n\n\n\nVeijo Salo\, The European Molecular Biology Laboratory\, Heidelberg\, Germany\n\n\n\nItziar Serna Martín\, Thermo Fisher Scientific\, Netherlands\n\n\n\nSebastian Tacke\, Max Planck Institute of Molecular Physiology\, Dortmund\, Germany\n\n\n\nIlaria Testa\, KTH Royal Institute of Technology\, Stockholm\, Sweden\n\n\n\nSonja Welsch\, Max Plack Institute of Biophysics\, Frankfurt\, Germany\n\n\n\nXiaodong Zou\, Stockholm University\, Sweden\n\n\n\n\ncryoNET speakers\n\n\n\n\nMira Dombi\, University of Copenhagen\, Denmark\n\n\n\nMax Renner\, Umeå University\, Sweden\n\n\n\nKlara Theresa Scholtissek\, Aarhus University\, Denmark\n\n\n\nSebastian Valenzuela\, University of Gothernburg\, Sweden\n\n\n\n\n\nFor questions\, contact the organizing committee\, lead by Sara Sandin sara.sandin@umu.se
URL:https://www.scilifelab.se/event/cryonet-symposium-2025/
LOCATION:Rotundan\, Umeå University\, Universums Gränd 4\, Umeå\, Sweden
CATEGORIES:Event
ATTACH;FMTTYPE=image/jpeg:https://www.scilifelab.se/wp-content/uploads/2025/04/sara_sandin_DNA_nucleosome_map-1.jpeg
ORGANIZER;CN="UCEM Ume%C3%A5":MAILTO:hussein.haggag@umu.se
END:VEVENT
BEGIN:VEVENT
DTSTART;TZID=Europe/Stockholm:20260127T080000
DTEND;TZID=Europe/Stockholm:20260128T150000
DTSTAMP:20260420T140623
CREATED:20250624T150224Z
LAST-MODIFIED:20250925T083137Z
UID:10001570-1769500800-1769612400@www.scilifelab.se
SUMMARY:Metabolomics in Life Science
DESCRIPTION:After the great success of the 2024 Metabolomics in Life Science conference\, the Organizing Committee is thrilled to announce the second edition in 2026!Date: 27-28 January\, 2026Venue: Vävenscenen\, Umeå \n\n\n\n\nUmeå University warmly invites you to Metabolomics in Life Science 2026\, showcasing the latest NMR- and MS-based metabolomics research from Sweden\, the Nordics\, and beyond. The conference brings together researchers from around the world to share knowledge and discuss advances in areas like clinical and precision medicine\, plant metabolomics\, spatial and single-cell metabolomics\, multi-omics\, and computational/AI applications. \n\n\n\nThe event is organized by SciLifeLab platforms in Umeå: Swedish NMR Centre (SNC)\, Swedish Metabolomics Centre (SMC)\, and Computational Analytics Support Platform (CASP). \n\n\n\nThe program includes six keynote speakers from leading institutions\, plus an industry exhibition showcasing the latest technologies and services in metabolomics research. \n\n\n\nRegistration is now open – Register here \n\n\n\nQuestions? Contact: \n\n\n\n\nIlona Dudka – ilona.dudka@umu.se\n\n\n\nKate Bennett – katie.bennett@umu.se\n\n\n\n\nLooking forward to welcoming everyone in Umeå in January 2026! \n\n\n\nRead more\n\n\n\nOrganizersSwedish Metabolomics Centre (SMC)  \n\n\n\nNMR Core facility \n\n\n\nComputational Analytics Support Platform (CASP)
URL:https://www.scilifelab.se/event/metabolomics-in-life-science/
LOCATION:Väven\, Storgatan 46A\, Umeå\, 90326\, Sweden
CATEGORIES:Event
ATTACH;FMTTYPE=image/png:https://www.scilifelab.se/wp-content/uploads/2025/06/Umea.png
ORGANIZER;CN="Swedish Metabolomics Centre (SMC)":MAILTO:annika.johansson01@umu.se
END:VEVENT
BEGIN:VEVENT
DTSTART;TZID=Europe/Stockholm:20260205T080000
DTEND;TZID=Europe/Stockholm:20260206T170000
DTSTAMP:20260420T140623
CREATED:20260113T130212Z
LAST-MODIFIED:20260113T132916Z
UID:10001716-1770278400-1770397200@www.scilifelab.se
SUMMARY:High-throughput Electrophysiology & Lipophilic Potassium Channel Activators
DESCRIPTION:Feb 6th two on-site seminars at the Lilla Hörsalen\, KBC Umeå University:13.00 -14.00 High-throughput Electrophysiology14.00 -15.00 Lipophilic potassium channel activators possible anti-seizure and anti-arrhythmic treatments \n\n\n\nOne-on-one meetings with the unit will be possible in the meeting room Bryggan Thursday 5th 8-17 and Friday 6th 8-12. Take the chance to discuss how your research questions can be answered through analyses of ion channels. \n\n\n\n\nRegistration\n\n\n\n\nThe Electrophysiology unit\, a recent addition to SciLifeLab’s range of advanced research infrastructures\, is equipped with automated patch-clamp instrumentation\, and supports a wide range of electrophysiological studies involving both voltage-gated and ligand-gated ion channels\, including pharmacological screening\, cardiac safety assessments\, and biophysical investigations. \n\n\n\nProfessor Fredrik Elinder is a molecular neurobiologist at Linköping University\, internationally recognized for his contributions to the physiology and pharmacology of voltage‑gated ion channels. His research has advanced fundamental understanding of how voltage sensors operate\, how ion‑channel gating is regulated\, and how small molecules and lipids can modulate channel activity. Elinder’s group investigates mechanisms that control neuronal excitability\, including how altered voltage thresholds contribute to disorders such as epilepsy and pain. \n\n\n\n\nPresenters\n\n\n\n\nFredrik Elinder\, Professor\, Site director SciLifeLab Linköping\, Chemical Biology Consortium Sweden (CBCS)\, and Department of Biomedical and Clinical Sciences (BKV)\, Linköping University \n\n\n\n\n\nNina Ottosson\, Research Coordinator\, Chemical Biology Consortium Sweden (CBCS)\, and Department of Biomedical and Clinical Sciences (BKV)\, Linköping University \n\n\n\n\n\n\n\n\n\n\n\n\n\n\n\n\nhttps://www.umu.se/en/events/high-throughput-electrophysiology-_12156373
URL:https://www.scilifelab.se/event/high-throughput-electrophysiology-lipophilic-potassium-channel-activators/
LOCATION:KBC Building Umeå\, Linneaus Väg 6\, Umeå
ORGANIZER;CN="SciLifeLab Ume%C3%A5":MAILTO:umea@scilifelab.se
END:VEVENT
END:VCALENDAR