BEGIN:VCALENDAR
VERSION:2.0
PRODID:-//SciLifeLab - ECPv6.15.20//NONSGML v1.0//EN
CALSCALE:GREGORIAN
METHOD:PUBLISH
X-WR-CALNAME:SciLifeLab
X-ORIGINAL-URL:https://www.scilifelab.se
X-WR-CALDESC:Events for SciLifeLab
REFRESH-INTERVAL;VALUE=DURATION:PT1H
X-Robots-Tag:noindex
X-PUBLISHED-TTL:PT1H
BEGIN:VTIMEZONE
TZID:Europe/Stockholm
BEGIN:DAYLIGHT
TZOFFSETFROM:+0100
TZOFFSETTO:+0200
TZNAME:CEST
DTSTART:20250330T010000
END:DAYLIGHT
BEGIN:STANDARD
TZOFFSETFROM:+0200
TZOFFSETTO:+0100
TZNAME:CET
DTSTART:20251026T010000
END:STANDARD
BEGIN:DAYLIGHT
TZOFFSETFROM:+0100
TZOFFSETTO:+0200
TZNAME:CEST
DTSTART:20260329T010000
END:DAYLIGHT
BEGIN:STANDARD
TZOFFSETFROM:+0200
TZOFFSETTO:+0100
TZNAME:CET
DTSTART:20261025T010000
END:STANDARD
BEGIN:DAYLIGHT
TZOFFSETFROM:+0100
TZOFFSETTO:+0200
TZNAME:CEST
DTSTART:20270328T010000
END:DAYLIGHT
BEGIN:STANDARD
TZOFFSETFROM:+0200
TZOFFSETTO:+0100
TZNAME:CET
DTSTART:20271031T010000
END:STANDARD
END:VTIMEZONE
BEGIN:VEVENT
DTSTART;TZID=Europe/Stockholm:20260901T120000
DTEND;TZID=Europe/Stockholm:20260930T120000
DTSTAMP:20260421T001100
CREATED:20251124T130114Z
LAST-MODIFIED:20251124T130902Z
UID:10001673-1788264000-1790769600@www.scilifelab.se
SUMMARY:Heart 360° - Harnessing AI for Cardiovascular Research\, Diagnosis\, Therapy & Prevention
DESCRIPTION:Happening on one day in September 2026 — stay tuned for details!\n\n\n\n \n\n\n\nHeart 360° is a focused seminar exploring the transformative role of artificial intelligence (AI) across the cardiovascular disease spectrum\, from early discovery to prevention. As cardiovascular disease remains a leading global health burden\, the integration of AI into research\, clinical care\, drug development\, and public health offers new opportunities to enhance understanding\, precision\, and outcomes. \n\n\n\nThe seminar is structured into four sessions: Discovery\, Diagnosis\, Drug Development\, and Prevention\, bringing together experts from academia\, healthcare\, and industry. Each session will highlight how AI-driven tools are reshaping translational research\, enabling earlier and more accurate diagnoses\, accelerating therapeutic innovation\, and supporting data-driven prevention strategies. \n\n\n\nBy fostering interdisciplinary dialogue\, Heart 360° aims to showcase cutting-edge applications of AI\, identify key challenges\, and inspire collaborative efforts to drive the future of cardiovascular science and care. \n\n\n\nAgenda\n\n\n\nPowered By EmbedPress
URL:https://www.scilifelab.se/event/heart-360-harnessing-ai-for-cardiovascular-research-diagnosis-therapy-prevention/
LOCATION:Conference Centre Wallenberg\, Medicinaregatan 20A\, Gothenburg\, 413 90\, Sweden
CATEGORIES:Event
END:VEVENT
BEGIN:VEVENT
DTSTART;TZID=Europe/Stockholm:20261002T080000
DTEND;TZID=Europe/Stockholm:20261002T170000
DTSTAMP:20260421T001100
CREATED:20260316T134245Z
LAST-MODIFIED:20260416T070657Z
UID:10001772-1790928000-1790960400@www.scilifelab.se
SUMMARY:AI Frontiers in Life Sciences: From Models to Meaning
DESCRIPTION:Save the date \n\n\n\nTitle: AI Frontiers in Life Sciences: From Models to Meaning \n\n\n\nDate and time: October 2\, 2026 at 8.00-17.00 CET \n\n\n\nLocation: Humanistiska teatern\, Uppsala. This will be a hybrid event with onsite and remote participation via Zoom. \n\n\n\nDescription: Please save the date for the upcoming SciLifeLab symposium AI Frontiers in Life Sciences: From Models to Meaning\, taking place October 2\, 2026 in Uppsala. This event will bring together experts in artificial intelligence (AI) and life sciences to discuss emerging directions\, challenges\, and opportunities for AI in life science research. \n\n\n\nOct 2 Open symposium will include presentations\, demonstrations\, and panel discussions\, with approximately 120 participants onsite and participation via Zoom. This event is intended for researchers\, infrastructure experts\, and professionals interested in AI-driven life science research. The symposium will serve as an opportunity to gather input to help refine the SciLifeLab AI Strategy and support ongoing and planned work across SciLifeLab. \n\n\n\nFurther details\, including the programme and registration\, will be announced soon. \n\n\n\n \n\n\n\nOrganisers: SciLifeLab Data Centre datacentre@scilifelab.se
URL:https://www.scilifelab.se/event/ai-frontiers-in-life-sciences-from-models-to-meaning/
LOCATION:Humanistiska teatern\, Uppsala\, Thunbergsvägen 3C\, Uppsala\, 75238\, Sweden
CATEGORIES:Event
ORGANIZER;CN="SciLifeLab Data Centre":MAILTO:datacentre@scilifelab.se
END:VEVENT
BEGIN:VEVENT
DTSTART;TZID=Europe/Stockholm:20261012T120000
DTEND;TZID=Europe/Stockholm:20261014T120000
DTSTAMP:20260421T001100
CREATED:20260414T090237Z
LAST-MODIFIED:20260414T092140Z
UID:10001802-1791806400-1791979200@www.scilifelab.se
SUMMARY:WASP-HS & DDLS: Interdisciplinary Workshop
DESCRIPTION:WASP-HS & DDLS: Joint Workshop at Sigtunastiftelsen\, 12–14 October \n\n\n\nThis interdisciplinary workshop brings together a carefully selected group of 25 researchers from diverse fields to exchange perspectives on the ethical\, legal\, and social dimensions of data-intensive research in the life sciences. The conversation is not limited to lawyers and ethicists\, but also includes researchers whose work both shapes and is shaped by these governance frameworks.  \n\n\n\nThe aim is to bring together diverse expertise to explore key challenges\, frame shared research questions\, and spark new interdisciplinary collaborations. \n\n\n\nWorkshop Focus\n\n\n\n→ Analyze governance structures and how they shape data-intensive research in precision medicine\, epidemiology\, infection biology\, biodiversity\, and molecular life sciences→ Identify key legal\, regulatory\, and ethical challenges in data-driven life sciences\, with particular attention to the experiences of scientists working with these issues in practice→ Promote meaningful dialogue across disciplines→ Develop new interdisciplinary research initiatives \n\n\n\nDuration\n\n\n\n12 OctoberArrival and opening from lunch onwards \n\n\n\n13 OctoberFull day of sessions \n\n\n\n14 OctoberClosing and departure ending with lunch  \n\n\n\nExpression of Interest\n\n\n\nApply by 4 May to secure your spot. This workshop is open to researchers from both the WASP-HS and DDLS communities. Spots are limited to 25 participants\, so make sure to fill in the Expression of Interest form to get a chance to attend. \n\n\n\nApply here \n\n\n\nOrganizers\n\n\n\nLianne Colonna\,WASP-HS\, Stockholm UniversityYana Litins’ka\, WASP-HS\, Lund UniversityHeidi Howard\, DDLS\, Chalmers University of TechnologyFrancis Lee\, WASP-HS\, Södertörn UniversityUlrika Wallenquist\, DDLS\, Uppsala UniversityBodil Formark\,WASP-HS\, Södertörn University
URL:https://www.scilifelab.se/event/wasp-hs-ddls-interdisciplinary-workshop/
LOCATION:Sigtunastiftelsen\, Manfred Björkquists allé 4\, Sigtuna\, 193 31\, Sweden
CATEGORIES:Event
ATTACH;FMTTYPE=image/jpeg:https://www.scilifelab.se/wp-content/uploads/2025/11/DDLS.jpg
ORGANIZER;CN="Data-Driven Life Science @ SciLifeLab":MAILTO:ddls@scilifelab.se
END:VEVENT
BEGIN:VEVENT
DTSTART;TZID=Europe/Stockholm:20261013T090000
DTEND;TZID=Europe/Stockholm:20261013T170000
DTSTAMP:20260421T001100
CREATED:20251219T143433Z
LAST-MODIFIED:20251219T143434Z
UID:10001690-1791882000-1791910800@www.scilifelab.se
SUMMARY:The PROMISE Initiative: Accelerating Cancer Innovation
DESCRIPTION:Cancer encompasses more than 200 distinct diagnoses\, each with widely varying prognoses\, from highly treatable to very poor outcomes. Advances in molecular analysis hold great promise for diagnostics and therapies\, enabling more precise and effective approaches tailored to individual patients with cancer. Sweden has excellent cancer registries and biobanks of the highest quality\,and there is now a need to join forces to exploit our unique advantages to the benefit of cancer patients. SciLifeLab platforms support the generation and analysis of data in both genomics and other omics technologies. \n\n\n\nThe goal of the conference is to expand the PROMISECancer consortium\, promote its efforts\, and continue building the Swedish cancer community. PROMISE Cancer is a part of PROMISE: Precision Omics Initiative Sweden\, which is a national initiative using whole-genome sequencing and multiomics to understand common diseases\, rare diseases\, and cancer.  \n\n\n\nThis conference will focus on the PROMISE Cancer effort led by Swedish scientists representing Stockholm\, Uppsala\, Umeå\, Linköping\, Lund\, and Gothenburg as well as SciLifeLab. \n\n\n\nHere\, we aim to have high-quality national and international speakers from the many areas needed for improved precisionomics. 1: Cancer genomics\, 2: Single cell and spatial transcriptomics and multiomics\, 3: Germline cancer risk and liquid biopsies\, and 4: Functional precision cancer medicine. An additional purpose is to share updates on the progress made within PROMISE Cancer and to encourage broader participation of Swedish cancer researchers. While the current work is primarily focused on preclinical and translational research\, the overarching goal is to translate these findings into clinical practice through collaboration with Genomic Medicine Sweden (GMS).
URL:https://www.scilifelab.se/event/the-promise-initiative-accelerating-cancer-innovation/
LOCATION:Lecture Hall IX\,  University Main Building\, Uppsala\, Biskopsgatan 3\, Uppsala\, 75105\, Sweden
CATEGORIES:Event
END:VEVENT
BEGIN:VEVENT
DTSTART;TZID=Europe/Stockholm:20261014T093000
DTEND;TZID=Europe/Stockholm:20261014T170000
DTSTAMP:20260421T001100
CREATED:20251219T121224Z
LAST-MODIFIED:20260322T142204Z
UID:10001689-1791970200-1791997200@www.scilifelab.se
SUMMARY:SciLifeLab Science Summit
DESCRIPTION:The Annual Conference SciLifeLab Science Summit is a one-day symposium with a new topic each year. The 2026 topic is Cancer research: translating life science discoveries to clinical breakthroughs \n\n\n\nPlease save the date – October 14\, 2026\, for the SciLifeLab Science Summit in Uppsala. \n\n\n\nScientific Committee\n\n\n\n\nAnna Dimberg\, Uppsala University (chair)\n\n\n\nAris Moustakas\, Uppsala University\n\n\n\nCamilla Engblom\, KI\n\n\n\nJessica Nordlund\, Uppsala University\n\n\n\nKristian Pietras\, Lund University\n\n\n\nMagnus Essand\, Uppsala University\n\n\n\n\nProject leader: Erika Erkstam\, Operations Office\, SciLifeLab
URL:https://www.scilifelab.se/event/scilifelab-science-summit-2/
LOCATION:Uppsala Konsert & Kongress (UKK)\, Vaksala torg 1\, Uppsala\, 753 31\, Sweden
CATEGORIES:Event
ORGANIZER;CN="SciLifeLab Event":MAILTO:events@scilifelab.se
END:VEVENT
BEGIN:VEVENT
DTSTART;TZID=Europe/Stockholm:20261028T083000
DTEND;TZID=Europe/Stockholm:20261030T170000
DTSTAMP:20260421T001100
CREATED:20251204T090638Z
LAST-MODIFIED:20260408T095551Z
UID:10001678-1793176200-1793379600@www.scilifelab.se
SUMMARY:Integrating Scales in Planetary Biology
DESCRIPTION:A new scientific frontier is emerging at the intersection of molecular biology\, ecology\, environmental science\, and planetary health. \n\n\n\nAs environmental change reshapes ecosystems worldwide\, understanding how biological mechanisms — from cells to organisms to ecosystems — enable adaptation and resilience has become an urgent research challenge. \n\n\n\nThe Planetary Biology Strategic Area is thrilled to announce this conference designed to foster cross-disciplinary collaboration\, connecting scientists working across scales with industry\, funders\, and policy-makers who can translate insights into practice. \n\n\n\nHighlights of the programme include:– Scientific talks across disciplines– Round table discussions– Panels with funders and policy-makers \n\n\n\nExplore the programme and invited speakers on the event website \n\n\n\nEvent website\n\n\n\nRegistration and abstract submission will open soon.Be the first to know when they open! Sign up to be notified.For further questions\, reach out to Anabella (anabella.aguilera@scilifelab.se) \n\n\n\nSign up to be notified
URL:https://www.scilifelab.se/event/integrating-scales-in-planetary-biology/
CATEGORIES:Event
ATTACH;FMTTYPE=image/png:https://www.scilifelab.se/wp-content/uploads/2024/01/PB-conference_-PBwebsite_deadlines_crop2.png
ORGANIZER;CN="SciLifeLab Planetary Biology Strategic Area":MAILTO:anabella.aguilera@scilifelab.se
END:VEVENT
BEGIN:VEVENT
DTSTART;TZID=Europe/Stockholm:20261109T113000
DTEND;TZID=Europe/Stockholm:20261110T123000
DTSTAMP:20260421T001100
CREATED:20260413T092109Z
LAST-MODIFIED:20260413T092110Z
UID:10001800-1794223800-1794313800@www.scilifelab.se
SUMMARY:DDLS Annual Conference 2026
DESCRIPTION:The Data-Driven Life Science (DDLS) program\, funded by the Knut and Alice Wallenberg Foundation (KAW)\, warmly welcomes you to the 5th DDLS Annual Conference\, taking place November 9-10\, 2026\, at Aula Magna\, Frescati Campus\, Stockholm. \n\n\n\nTarget Group: Anyone interested in data-driven life science is welcome to attend the Conference. You don´t need to be part of the SciLifeLab & Wallenberg National Program for Data-Driven Life Science\, even though the conference focuses on achievements and highlights program activities. \n\n\n\nThis two-day\, in-person event will highlight DDLS research and activities\, showcase new technologies and services available to researchers across Sweden\, and provide a forum for knowledge exchange and collaboration. Participants will have the opportunity to: \n\n\n\n\nShare and discuss research findings\n\n\n\nExplore ideas and insights across disciplines\n\n\n\nBuild networks for collaboration and career development\n\n\n\nGain perspectives beyond their own fields of expertise\n\n\n\n\nThe conference begins with a light network lunch and registration on November 9 (11:30–12:30) and concludes with a networking lunch on November 10 (12:30–13:30). \n\n\n\nDDLS Annual Poster Prize\n\n\n\nThe DDLS Poster Prize encourages PhD students and postdoctoral researchers to present high-quality work in data-driven life science. The award\, decided by a Scientific Committee jury\, includes a certificate and a travel grant of up to 5\,000 SEK. Conditions apply. If you present a poster\, please ensure you stay for the Poster Award Ceremony at 12:00 by the end of the Conference.
URL:https://www.scilifelab.se/event/ddls-annual-conference-2026/
LOCATION:Aula Magna\, Frescativägen 6\, Stockholm\, 114 18 Stockholm\, Sweden
CATEGORIES:Event
ORGANIZER;CN="SciLifeLab Event":MAILTO:events@scilifelab.se
END:VEVENT
END:VCALENDAR