BEGIN:VCALENDAR
VERSION:2.0
PRODID:-//SciLifeLab - ECPv6.15.20//NONSGML v1.0//EN
CALSCALE:GREGORIAN
METHOD:PUBLISH
X-ORIGINAL-URL:https://www.scilifelab.se
X-WR-CALDESC:Events for SciLifeLab
REFRESH-INTERVAL;VALUE=DURATION:PT1H
X-Robots-Tag:noindex
X-PUBLISHED-TTL:PT1H
BEGIN:VTIMEZONE
TZID:Europe/Stockholm
BEGIN:DAYLIGHT
TZOFFSETFROM:+0100
TZOFFSETTO:+0200
TZNAME:CEST
DTSTART:20210328T010000
END:DAYLIGHT
BEGIN:STANDARD
TZOFFSETFROM:+0200
TZOFFSETTO:+0100
TZNAME:CET
DTSTART:20211031T010000
END:STANDARD
BEGIN:DAYLIGHT
TZOFFSETFROM:+0100
TZOFFSETTO:+0200
TZNAME:CEST
DTSTART:20220327T010000
END:DAYLIGHT
BEGIN:STANDARD
TZOFFSETFROM:+0200
TZOFFSETTO:+0100
TZNAME:CET
DTSTART:20221030T010000
END:STANDARD
BEGIN:DAYLIGHT
TZOFFSETFROM:+0100
TZOFFSETTO:+0200
TZNAME:CEST
DTSTART:20230326T010000
END:DAYLIGHT
BEGIN:STANDARD
TZOFFSETFROM:+0200
TZOFFSETTO:+0100
TZNAME:CET
DTSTART:20231029T010000
END:STANDARD
END:VTIMEZONE
BEGIN:VEVENT
DTSTART;TZID=Europe/Stockholm:20220405T120000
DTEND;TZID=Europe/Stockholm:20220405T130000
DTSTAMP:20260423T023633
CREATED:20220315T135352Z
LAST-MODIFIED:20220318T161436Z
UID:10000557-1649160000-1649163600@www.scilifelab.se
SUMMARY:Unbiased characterization of cells using the single-cell facility
DESCRIPTION:In the frame of the “SciLifeLab Site Umeå / KBC Infrastructure Seminar Series”\, Johan Henriksson\, Research fellow at the Dept. of Molecular Biology & Molecular Infection Medicine Sweden (MIMS)\, will present the Single-cell facility. If you want to learn how you can benefit from single-cell analysis\, join for 30 min presentation of cases & opportunities\, followed by 30 min discussion of practicalities & project design. \n\n\n\nPresenter:Johan Henriksson\, Dept. Molecular Biology / Molecular Infection Medicine Sweden (MIMS) \n\n\n\nRegistration:To register your physical attendance and reserve your free sandwich\, please go to the Registration Link \n\n\n\nRegistration\n\n\n\nPhysical Attendance:Glasburen seminar roomChemical Biological Centre (KBC) BuildingUmeå University \n\n\n\nOnline Attendance:You can join the seminar on Zoom:https://umu.zoom.us/j/63138997026
URL:https://www.scilifelab.se/event/unbiased-characterization-of-cells-using-the-single-cell-facility/
LOCATION:Glasburen Seminar Room\, Chemical Biological Centre (KBC) Building\, Umeå University\, Umeå\, 901 87\, Sweden
CATEGORIES:Event
ORGANIZER;CN="SciLifeLab Ume%C3%A5":MAILTO:umea@scilifelab.se
END:VEVENT
BEGIN:VEVENT
DTSTART;TZID=Europe/Stockholm:20220426T120000
DTEND;TZID=Europe/Stockholm:20220426T130000
DTSTAMP:20260423T023633
CREATED:20220411T113030Z
LAST-MODIFIED:20220411T113031Z
UID:10000580-1650974400-1650978000@www.scilifelab.se
SUMMARY:Measuring metabolites\, the building blocks of biology
DESCRIPTION:In the frame of the SciLifeLab Site Umeå / KBC Infrastructure Seminar Series\, the seminars will be organised every second Tuesday during spring 2022 in turn with IceLab Lunch Pitches. The seminars will be held in a hybrid format IRL in Glasburen\, KBC\, and online via Zoom. Take the chance to get information on facilities\, possibilities and services that infrastructure\, both SciLifeLab-associated and local\, can offer! Learn more about the seminar series and Schedule for Spring 2022 here. \n\n\n\nOn April 26th\, 12:00-13:00\, SciLifeLab Site Umeå / KBC Infrastructure Seminar Series presents:  \n\n\n\n“Measuring metabolites\, the building blocks of biology” \n\n\n\nby Annika Johansson\, Head of the Swedish Metabolomics Centre (SMC) facility. \n\n\n\nThe presentation will give an introduction to metabolomics and small molecule analysis by mass spectrometry. We will present our different services and also give examples of different research projects in which SMC has been involved. \n\n\n\nLearn more about the Swedish Metabolomics Centre on its homepage. \n\n\n\nSign up (latest by April 25th\, 10 a.m.) for on-site participation or follow online via Zoom: https://umu.zoom.us/j/63138997026 \n\n\n\nregistration
URL:https://www.scilifelab.se/event/measuring-metabolites-the-building-blocks-of-biology/
LOCATION:Glasburen Seminar Room\, Chemical Biological Centre (KBC) Building\, Umeå University\, Umeå\, 901 87\, Sweden
CATEGORIES:Event
ORGANIZER;CN="SciLifeLab Ume%C3%A5":MAILTO:umea@scilifelab.se
END:VEVENT
END:VCALENDAR