BEGIN:VCALENDAR
VERSION:2.0
PRODID:-//SciLifeLab - ECPv6.15.20//NONSGML v1.0//EN
CALSCALE:GREGORIAN
METHOD:PUBLISH
X-ORIGINAL-URL:https://www.scilifelab.se
X-WR-CALDESC:Events for SciLifeLab
REFRESH-INTERVAL;VALUE=DURATION:PT1H
X-Robots-Tag:noindex
X-PUBLISHED-TTL:PT1H
BEGIN:VTIMEZONE
TZID:Europe/Stockholm
BEGIN:DAYLIGHT
TZOFFSETFROM:+0100
TZOFFSETTO:+0200
TZNAME:CEST
DTSTART:20210328T010000
END:DAYLIGHT
BEGIN:STANDARD
TZOFFSETFROM:+0200
TZOFFSETTO:+0100
TZNAME:CET
DTSTART:20211031T010000
END:STANDARD
BEGIN:DAYLIGHT
TZOFFSETFROM:+0100
TZOFFSETTO:+0200
TZNAME:CEST
DTSTART:20220327T010000
END:DAYLIGHT
BEGIN:STANDARD
TZOFFSETFROM:+0200
TZOFFSETTO:+0100
TZNAME:CET
DTSTART:20221030T010000
END:STANDARD
BEGIN:DAYLIGHT
TZOFFSETFROM:+0100
TZOFFSETTO:+0200
TZNAME:CEST
DTSTART:20230326T010000
END:DAYLIGHT
BEGIN:STANDARD
TZOFFSETFROM:+0200
TZOFFSETTO:+0100
TZNAME:CET
DTSTART:20231029T010000
END:STANDARD
END:VTIMEZONE
BEGIN:VEVENT
DTSTART;TZID=Europe/Stockholm:20221003T120000
DTEND;TZID=Europe/Stockholm:20221003T130000
DTSTAMP:20260422T160336
CREATED:20220919T163016Z
LAST-MODIFIED:20220919T163018Z
UID:10000684-1664798400-1664802000@www.scilifelab.se
SUMMARY:Vibrational Spectroscopy Core Facility - What’s in it for you?
DESCRIPTION:In the frame of the “SciLifeLab Site Umeå / KBC Infrastructure Seminar Series”\, the seminars will be organised every second Tuesday during autumn 2022\, in turn with IceLab Lunch Pitches. The seminars will be held in a hybrid format IRL in Glasburen\, KBC\, and online via Zoom. Take the chance to get information on facilities\, possibilities and services that infrastructure\, both SciLifeLab-associated and local\, can offer! Learn more about the seminar series and the schedule for autumn 2022 here. \n\n\n\nOn October 3rd\, 12:00-13:00\, you are welcome to participate in the seminar \n\n\n\nVibrational Spectroscopy Core Facility – What’s in it for you?\n\n\n\nby Andras Gorzsas\, ViSp facility manager and Senior research engineer at the Department of Chemistry \n\n\n\nSeminar description: The Vibrational Spectroscopy Core Facility provides in situ\, non-destructive\, label-free chemical compositional analysis in the form of FTIR and Raman spectroscopy and imaging. It is an open-access facility with many years of experience in a very broad spectrum of research areas\, from plant sciences and medicine to environmental and material sciences. \n\n\n\nJoin this lunch seminar to see some examples of what this facility can provide for your research\, ask questions and discuss possibilities. \n\n\n\nA tour to the instruments is available after the seminar for those interested. \n\n\n\nRegistration: To register your physical attendance and reserve your free sandwich\, please go to the registration Form \n\n\n\nRead more
URL:https://www.scilifelab.se/event/vibrational-spectroscopy-core-facility-whats-in-it-for-you/
LOCATION:Glasburen Seminar Room\, Chemical Biological Centre (KBC) Building\, Umeå University\, Umeå\, 901 87\, Sweden
CATEGORIES:Event
ORGANIZER;CN="SciLifeLab Ume%C3%A5":MAILTO:umea@scilifelab.se
END:VEVENT
BEGIN:VEVENT
DTSTART;TZID=Europe/Stockholm:20221011T080000
DTEND;TZID=Europe/Stockholm:20221013T170000
DTSTAMP:20260422T160336
CREATED:20220912T161617Z
LAST-MODIFIED:20220912T161619Z
UID:10000680-1665475200-1665680400@www.scilifelab.se
SUMMARY:Cryo-EM sample preparation and data collection course
DESCRIPTION:The purpose of the course is to prepare and train Cryo-EM facility users in sample preparation methods\, introduce users to the image data acquisition workflow\, expand knowledge about cryo-EM methods among researchers and show that everyone can learn how to use cryo-EM for structure and cell biology. \n\n\n\nThe course is open for facility users or potential facility users\, such as PhD students\, postdocs\, and researchers within the life sciences who are curious and will profit from cryo-EM skills. Swedish and international course participants are welcome. To attend\, the course participants must have experience in basic electron microscopy and be familiar with structure or cell biology. \n\n\n\nThis course is supported by SciLifeLab\, CryoNET and Umeå University and organized by the SciLifeLab Cryo-EM facility\, both UmU and SU nodes together. \n\n\n\nApplication deadlineApplication should be submitted before September 16\, 2022 \n\n\n\nRead more\n\n\n\nCourse organizersCamilla Holmlund and Michael Hall \n\n\n\nLocationUCEM and Chemical Biological Centre (KBC) BuildingUmeå UniversityLinnaeus väg 6 \n\n\n\nTeachers and course instructors \n\n\n\nLinda SandbladMichael HallLars-Anders CarlsonCamilla HolmlundAdditional teachers t.b.a\n\n\n\nSocial programA social program depending on the current corona restriction will be communicated to the participants after acceptance. \n\n\n\nCourse feeA course fee of 800 SEK\, including coffee and lunches\, will be invoiced to accepted participants after acceptance. \n\n\n\nCourse contentThis course will cover practical aspects of cryo-EM sample preparation and data acquisition.Topics covered: \n\n\n\nBasic theory of vitreous water\, how to handle a cryo sample and consequencesPlunge freezing methods\, tools and cryo-transferSample and instrument requirements for single particle and tomography methodsImage data acquisition\, concept of low dose and the cryo-specific workflowIntroduction to automatic data acqui­sition software\, EPU\, TomographyIntroduction to cryo-EM image processing methods\n\n\n\nThe course consists of lectures\, cryo lab work\, demonstrations and practical exercises for all participants\, hands-on experiences of microscopy operation and discussions. A detailed schedule will be provided to accepted participant. \n\n\n\nCourse literatureHandouts and material online. \n\n\n\nEntry requirementsPriority will be given to researchers involved in project where the use of cryo-EM is needed\, which are to be briefly described upon application. \n\n\n\nThe course will be held at an advanced level\, assuming that participants have a master’s degree or equivalent in a technical life science discipline. It aims to be relevant for a broad research community\, also to participants not working in research environments using cryo-EM today. \n\n\n\nA maximum of 15 participants will be admitted. Selection criteria include correct entry requirements\, motivation to attend the course as well as gender balance. \n\n\n\nExamination Participation in all parts of the course\, lectures\, lab\, microscopy demonstrations and evaluation are mandatory. SciLifeLab and Umeå University will provide successful participants with a course certificate and a recommendation for 1 ECTS
URL:https://www.scilifelab.se/event/cryo-em-sample-preparation-and-data-collection-course/
CATEGORIES:Course
ORGANIZER;CN="SciLifeLab Ume%C3%A5":MAILTO:umea@scilifelab.se
END:VEVENT
BEGIN:VEVENT
DTSTART;TZID=Europe/Stockholm:20221018T120000
DTEND;TZID=Europe/Stockholm:20221018T130000
DTSTAMP:20260422T160336
CREATED:20221011T110401Z
LAST-MODIFIED:20221011T110403Z
UID:10000712-1666094400-1666098000@www.scilifelab.se
SUMMARY:The Protein Expertise Platform - a Core Facility at the KBC and a node of PPS
DESCRIPTION:In the frame of the “SciLifeLab Site Umeå / KBC Infrastructure Seminar Series”\, the seminars will be organised every second Tuesday during autumn 2022. The seminars will be held in a hybrid format IRL in Glasburen\, KBC\, and online via Zoom. Take the chance to get information on facilities\, possibilities and services that infrastructure\, both SciLifeLab-associated and local\, can offer! Learn more about the seminar series and the schedule for autumn 2022 here: https://www.umu.se/en/research/infrastructure/medicinska-fakulteten/u/umea-centre-for-electron-microscopy-ucem/scilifelab-in-umea/scilifelab-site-umea–kbc-infrastructure-seminar-series/ \n\n\n\nOn October 18th\, 12:00-13:00\, you are welcome to participate in the seminar \n\n\n\nThe Protein Expertise Platform – a Core Facility at the KBC and a node of PPS \n\n\n\nby Uwe Sauer\, Associate professor\, PEP coordinator\, Department of Chemistry\, Umeå University \n\n\n\nRead more\n\n\n\nSeminar description: Proteins play a central role for most cellular processes. In order to study such processes\, Swedish Life-Science researchers rely on high-quality protein reagents for their research. At the Protein Expertise Platform (PEP) at the Dept. of Chemistry and the KBC\, we work with the custom production of recombinant proteins in E. coli and plant cell suspensions. We have teamed up with six other Swedish protein production platforms and\, since 2022\, are part of Protein Production Sweden (PPS)\, a national research infrastructure for protein production (www.gu.se/pps) funded by VR and the local Universities. PPS provides expert competence in a variety of expression systems\, including E. coli\, insect cells\, P. pastoris\, plant cells and cell-free translation. The PPS nodes collaborate in the form of a national distributed research infrastructure and provide expertise in gene and vector design\, production and purification of the proteins\, as well as methods for quality control. PPS can also produce proteins with different labels. \n\n\n\nResearchers can apply for project support through a common application portal found on the PPS website. \n\n\n\nRegistration: To register your physical attendance and reserve your free sandwich\, please go to the registration Link: https://www.umu.se/en/chemical-biological-centre/kbc_events/registration-form-infrastructure-seminar/ \n\n\n\nRegistration deadline: Monday\, 17 October\, 10:00. \n\n\n\nOnline attendance: You can also join the seminar on Zoom\, https://umu.zoom.us/j/63138997026 (registration is not required) \n\n\n\nMore information about PEP: https://www.umu.se/en/research/infrastructure/pep/ \n\n\n\nOrganisers: SciLifeLab Site Umeå and Chemical Biological Centre (KBC)
URL:https://www.scilifelab.se/event/the-protein-expertise-platform-a-core-facility-at-the-kbc-and-a-node-of-pps/
LOCATION:Glasburen Seminar Room\, Chemical Biological Centre (KBC) Building\, Umeå University\, Umeå\, 901 87\, Sweden
CATEGORIES:Event
ORGANIZER;CN="SciLifeLab Ume%C3%A5":MAILTO:umea@scilifelab.se
END:VEVENT
BEGIN:VEVENT
DTSTART;TZID=Europe/Stockholm:20221025T120000
DTEND;TZID=Europe/Stockholm:20221025T130000
DTSTAMP:20260422T160336
CREATED:20221011T110651Z
LAST-MODIFIED:20221021T085311Z
UID:10000713-1666699200-1666702800@www.scilifelab.se
SUMMARY:XPS Platform: Nobel prized technique to study surface and interfaces
DESCRIPTION:In the frame of the “SciLifeLab Site Umeå / KBC Infrastructure Seminar Series”\, the seminars will be organised every second Tuesday during autumn 2022. The seminars will be held in a hybrid format IRL in Glasburen\, KBC\, and online via Zoom. Take the chance to get information on facilities\, possibilities and services that infrastructure\, both SciLifeLab-associated and local\, can offer! Learn more about the seminar series and the schedule for autumn 2022 here: https://www.umu.se/en/research/infrastructure/medicinska-fakulteten/u/umea-centre-for-electron-microscopy-ucem/scilifelab-in-umea/scilifelab-site-umea–kbc-infrastructure-seminar-series/ \n\n\n\nOn October 25th\, 12:00-13:00\, you are welcome to participate in the seminar \n\n\n\nXPS Platform: Nobel prized technique to study surface and interfaces \n\n\n\nby Andrey Shchukarev\, manager of the XPS Platform and research fellow at the Department of Chemistry\, Umeå University \n\n\n\nMore information about the infrastructure: https://www.umu.se/en/research/infrastructure/xps/ \n\n\n\nSeminar description: XPS Platform seminar covers the basics of X-ray Photoelectron Spectroscopy (XPS or ESCA) and focuses on XPS applications to probe real surfaces and interfaces in nature and life. \n\n\n\nRead more\n\n\n\n \n\n\n\nRegistration deadline: Monday\, 24 October\, 10:00. \n\n\n\nOnline attendance: You can also join the seminar on Zoom\, https://umu.zoom.us/j/63138997026 (registration is not required) \n\n\n\nOrganisers: SciLifeLab Site Umeå and Chemical Biological Centre (KBC)
URL:https://www.scilifelab.se/event/xps-platform-nobel-prized-technique-to-study-surface-and-interfaces/
LOCATION:Glasburen Seminar Room\, Chemical Biological Centre (KBC) Building\, Umeå University\, Umeå\, 901 87\, Sweden
CATEGORIES:Event
ORGANIZER;CN="SciLifeLab Ume%C3%A5":MAILTO:umea@scilifelab.se
END:VEVENT
END:VCALENDAR