BEGIN:VCALENDAR
VERSION:2.0
PRODID:-//SciLifeLab - ECPv6.15.20//NONSGML v1.0//EN
CALSCALE:GREGORIAN
METHOD:PUBLISH
X-ORIGINAL-URL:https://www.scilifelab.se
X-WR-CALDESC:Events for SciLifeLab
REFRESH-INTERVAL;VALUE=DURATION:PT1H
X-Robots-Tag:noindex
X-PUBLISHED-TTL:PT1H
BEGIN:VTIMEZONE
TZID:Europe/Stockholm
BEGIN:DAYLIGHT
TZOFFSETFROM:+0100
TZOFFSETTO:+0200
TZNAME:CEST
DTSTART:20210328T010000
END:DAYLIGHT
BEGIN:STANDARD
TZOFFSETFROM:+0200
TZOFFSETTO:+0100
TZNAME:CET
DTSTART:20211031T010000
END:STANDARD
BEGIN:DAYLIGHT
TZOFFSETFROM:+0100
TZOFFSETTO:+0200
TZNAME:CEST
DTSTART:20220327T010000
END:DAYLIGHT
BEGIN:STANDARD
TZOFFSETFROM:+0200
TZOFFSETTO:+0100
TZNAME:CET
DTSTART:20221030T010000
END:STANDARD
BEGIN:DAYLIGHT
TZOFFSETFROM:+0100
TZOFFSETTO:+0200
TZNAME:CEST
DTSTART:20230326T010000
END:DAYLIGHT
BEGIN:STANDARD
TZOFFSETFROM:+0200
TZOFFSETTO:+0100
TZNAME:CET
DTSTART:20231029T010000
END:STANDARD
END:VTIMEZONE
BEGIN:VEVENT
DTSTART;TZID=Europe/Stockholm:20221108T080000
DTEND;TZID=Europe/Stockholm:20221109T170000
DTSTAMP:20260422T141940
CREATED:20221019T150314Z
LAST-MODIFIED:20221019T150316Z
UID:10000717-1667894400-1668013200@www.scilifelab.se
SUMMARY:KBC DAYS 2022
DESCRIPTION:We cordially invite you to join us for the Celebration of the 15th anniversary of KBC on 8 November and to attend the KBC DAYS 2022 conference with the main theme “Big data” on 8-9 November! \n\n\n\nWhen: Tuesday\, 8 November – Wednesday\, 9 November 2022 \n\n\n\nWhere: Carl Kempe salen (KB.E3.03) (MAP) and other locations at KBC \n\n\n\nWe invite you to participate in the KBC DAYS\, an annual interdisciplinary conference\, which will be back to a physical format this year after two years of digital events! Our aim is to foster collaborations between different departments and research centres affiliated with the Chemical Biological Centre\, KBC\, including departments from two faculties from Umeå University as well as from the Faculty of Forest Sciences from SLU. \n\n\n\nA scientific focus this year will be on “Big Data“. We welcome you to listen to the plenary lectures and other presentations discussing different aspects\, advantages and challenges of analysing\, interpreting and handling big data. \n\n\n\nUpdate yourself about the research infrastructures available in Umeå\, get to know more about their services and join the guided tours to their facilities! \n\n\n\nCome and listen to exciting scientific talks from new faculty members of the KBC environment\, awardees and researchers that received major grants in the last year\, presentations by PhD students and selected talks by young researchers from the Umeå Postdoc Society (UPS)! \n\n\n\nWe invite postdoctoral researchers from Umeå University and SLU Umeå to give a scientific talk during this year’s KBC DAYS. We especially encourage submissions from research related to this year’s topic\, Big Data. We have a total of four 15-minutes slots (12 minutes talk + 3 minutes Q&A). Interested in presenting your work? Fill in the form and hit submit (before 20 October): https://forms.office.com/r/YFHYHXDuyF \n\n\n\nThis year\, two special events will be dedicated to celebrating the 15th anniversary of KBC! Join for the panel discussion with those who contributed to the establishment and development of KBC to reminisce about how it all started\, highlight what has been achieved\, and discuss future visions for research and collaboration at KBC! The celebration gala dinner will be held on the evening of 8 November (more details and the program will be announced later). \n\n\n\nIn the frame of the celebration activities\, we open a photo contest\, “KBC is…” and invite you to express in 1-3 photos and share your vision of what KBC is for you. \n\n\n\nCheck your photo archives or shoot new ones and submit your photo(s) already now but no later than Monday\, 7 November (23:59h) following this link: https://pollunit.com/polls/kbc_photo_contest_2022. You will also find detailed rules of the contest on this webpage. \n\n\n\nThe voting will take place\, and the winner will be announced during the KBC DAYS\, 8-9 November. \n\n\n\nThe contest is open to the participants of the KBC DAYS and everyone else related to the KBC environment! \n\n\n\nIf you have more photos related to the KBC history and past events in your archives\, we will be more than happy to use these photos in a slide show during the KBC anniversary celebration! Please send these photos to info.kbc@umu.se!
URL:https://www.scilifelab.se/event/kbc-days-2022/
LOCATION:Carl Kempe-salen\, KBC Building\, Umeå University\, Umeå\, Sweden
CATEGORIES:Event
ORGANIZER;CN="SciLifeLab Ume%C3%A5":MAILTO:umea@scilifelab.se
END:VEVENT
BEGIN:VEVENT
DTSTART;TZID=Europe/Stockholm:20221114T080000
DTEND;TZID=Europe/Stockholm:20221118T170000
DTSTAMP:20260422T141940
CREATED:20221031T165001Z
LAST-MODIFIED:20221031T165003Z
UID:10000725-1668412800-1668790800@www.scilifelab.se
SUMMARY:TEM sample preparation practical course part II
DESCRIPTION:TEM sample preparation course – Chemical fixation\, high pressure freezing\, plastic embedding and staining methods including practice on ultra-microtome sectioning\, TEM imaging and an introduction to CLEM (Correlative Light and Electron Microscopy)\, FIB-SEM (Focused Ion Beam) and electron tomography. \n\n\n\nRead more\n\n\n\nPre-requisite criterion: Basic EM course at UCEM or equal previous experiences of EM methods. \n\n\n\nParticipants will practice EM sample preparation and EM imaging with one sample from their own project. Our lab space limits the number of participants to 8 so we will select participants based on your motivation and how your project aims fits to the course content. Please write a short project description\, a motivation for participating and what sample you would like to process during the course. \n\n\n\nPlease\, look at the program and the methods that are covered in this course. Make sure you have time to participate full days and the entire week. Since the fixation and plastic embedding takes time\, you should bring one test-sample to Agnieszka on Monday 7 of November\, and a new test-sample on the first course day\, 14 November. \n\n\n\nPreliminary Program:The course preliminary program will be announced here once it is organised. \n\n\n\nLocation:Lectures at KBC and laboratory demonstrations at UCEM – Level 5\, 6 + new EM building (Level 1)\, Umeå University. \n\n\n\nParticipants:8 persons. Open to all research students\, postdocs and staff. \n\n\n\nInstructors: \n\n\n\nSara Henriksson – EM research engineerGayathri Vegesna – EM research engineerAgnieszka Ziolkowska – EM research engineerCamilla Holmlund – EM research engineerLinda Sandblad – EM facility director\n\n\n\nDuration:5 days \n\n\n\nBreaks/Refreshments:Coffee\, cookies and fruit will be served. \n\n\n\nCosts:No course fee\, but full attendance is required! \n\n\n\nCredits:Students that attend all theoretical and practical parts of the course\, will receive a certificate for 1\,5 hp.
URL:https://www.scilifelab.se/event/tem-sample-preparation-practical-course-part-ii/
LOCATION:Kemiskt Biologiskt Centrum\, Umeå University\, Linnaeus väg 6\, Umeå\, 90736
CATEGORIES:Course
ORGANIZER;CN="SciLifeLab Ume%C3%A5":MAILTO:umea@scilifelab.se
END:VEVENT
BEGIN:VEVENT
DTSTART;TZID=Europe/Stockholm:20221122T120000
DTEND;TZID=Europe/Stockholm:20221122T130000
DTSTAMP:20260422T141940
CREATED:20221116T135205Z
LAST-MODIFIED:20221116T135206Z
UID:10000731-1669118400-1669122000@www.scilifelab.se
SUMMARY:National support with superresolution light microscopy
DESCRIPTION:In the frame of the “SciLifeLab Site Umeå / KBC Infrastructure Seminar Series”\, the seminars will be organised every second Tuesday during autumn 2022\, in turn with IceLab Lunch Pitches. The seminars will be held in a hybrid format IRL in Glasburen\, KBC\, and online via Zoom. Take the chance to get information on facilities\, possibilities and services that infrastructure\, both SciLifeLab-associated and local\, can offer! Learn more about the seminar series and the schedule for autumn 2022 here. \n\n\n\nOn November 22nd\, 12:00-13:00\, you are welcome to participate in the seminar \n\n\n\nNational support with superresolution light microscopy \n\n\n\nby Hans Blom\, Royal Institute of Technology (KTH)\, Head of the Advanced Light Microscopy (ALM) Unit\, SciLifeLab \n\n\n\n\nMore information about the national SciLifeLab facility Integrated Microscopy Technologies.\n\n\n\nAbout Hans Blom \n\n\n\n\nregistration\n\n\n\nRegistration deadline: Monday\, November 21st\, 10:00. \n\n\n\nOnline attendance: You can also join the seminar on Zoom\, https://umu.zoom.us/j/63138997026 \n\n\n\nOrganisers: SciLifeLab Site Umeå and Chemical Biological Centre (KBC)
URL:https://www.scilifelab.se/event/national-support-with-superresolution-light-microscopy/
LOCATION:Glasburen Seminar Room\, Chemical Biological Centre (KBC) Building\, Umeå University\, Umeå\, 901 87\, Sweden
CATEGORIES:Event
ORGANIZER;CN="SciLifeLab Ume%C3%A5":MAILTO:umea@scilifelab.se
END:VEVENT
END:VCALENDAR