BEGIN:VCALENDAR
VERSION:2.0
PRODID:-//SciLifeLab - ECPv6.15.20//NONSGML v1.0//EN
CALSCALE:GREGORIAN
METHOD:PUBLISH
X-ORIGINAL-URL:https://www.scilifelab.se
X-WR-CALDESC:Events for SciLifeLab
REFRESH-INTERVAL;VALUE=DURATION:PT1H
X-Robots-Tag:noindex
X-PUBLISHED-TTL:PT1H
BEGIN:VTIMEZONE
TZID:Europe/Stockholm
BEGIN:DAYLIGHT
TZOFFSETFROM:+0100
TZOFFSETTO:+0200
TZNAME:CEST
DTSTART:20220327T010000
END:DAYLIGHT
BEGIN:STANDARD
TZOFFSETFROM:+0200
TZOFFSETTO:+0100
TZNAME:CET
DTSTART:20221030T010000
END:STANDARD
BEGIN:DAYLIGHT
TZOFFSETFROM:+0100
TZOFFSETTO:+0200
TZNAME:CEST
DTSTART:20230326T010000
END:DAYLIGHT
BEGIN:STANDARD
TZOFFSETFROM:+0200
TZOFFSETTO:+0100
TZNAME:CET
DTSTART:20231029T010000
END:STANDARD
BEGIN:DAYLIGHT
TZOFFSETFROM:+0100
TZOFFSETTO:+0200
TZNAME:CEST
DTSTART:20240331T010000
END:DAYLIGHT
BEGIN:STANDARD
TZOFFSETFROM:+0200
TZOFFSETTO:+0100
TZNAME:CET
DTSTART:20241027T010000
END:STANDARD
END:VTIMEZONE
BEGIN:VEVENT
DTSTART;TZID=Europe/Stockholm:20231017T080000
DTEND;TZID=Europe/Stockholm:20231019T170000
DTSTAMP:20260421T190532
CREATED:20230411T092159Z
LAST-MODIFIED:20230411T092229Z
UID:10000850-1697529600-1697734800@www.scilifelab.se
SUMMARY:Cryo-EM sample preparation and data collection
DESCRIPTION:The purpose of the course is to prepare and train Cryo-EM facility users in sample preparation methods\, introduce users to the image data acquisition workflow\, expand knowledge about cryo-EM methods among researchers and show that everyone can learn how to use cryo-EM for structure and cell biology. \n\n\n\nThe course is open for facility users or potential facility users\, such as PhD students\, postdocs\, and researchers within the life sciences who are curious and will profit from cryo-EM skills. Swedish and international course participants are welcome. To attend\, the course participants must have experience in basic electron microscopy and be familiar with structure or cell biology. \n\n\n\nThis course is supported by SciLifeLab\, CryoNET and Umeå University and organized by the SciLifeLab Cryo-EM facility\, both UmU and SU nodes together. \n\n\n\nRead more\n\n\n\nApplication deadline\n\n\n\nApplication should be submitted before September 29\, 2023 \n\n\n\nCourse organizers\n\n\n\nMichael Hall \n\n\n\nLocation\n\n\n\nUCEM and Chemical Biological Centre (KBC) BuildingUmeå University\, Linnaeus väg 6 \n\n\n\nTeachers and course instructors\n\n\n\n\n    Linda Sandblad\n\n\n\n    Michael Hall\n\n\n\n    Lars-Anders Carlson\n\n\n\n    Additional teachers t.b.a\n\n\n\n\nSocial program\n\n\n\nA social program depending on the current corona restriction will be communicated to the participants after acceptance. \n\n\n\nCourse content\n\n\n\nThis course will cover practical aspects of cryo-EM sample preparation and data acquisition. \n\n\n\nTopics covered\n\n\n\n\n    Basic theory of vitreous water\, how to handle a cryo sample and consequences\n\n\n\n    Plunge freezing methods\, tools and cryo-transfer\n\n\n\n    Sample and instrument requirements for single particle and tomography methods\n\n\n\n    Image data acquisition\, concept of low dose and the cryo-specific workflow\n\n\n\n    Introduction to automatic data acqui­sition software\, EPU\, Tomography\n\n\n\n    Introduction to cryo-EM image processing methods\n\n\n\n\nThe course consists of lectures\, cryo lab work\, demonstrations and practical exercises for all participants\, hands-on experiences of microscopy operation and discussions. A detailed schedule will be provided to accepted participant. \n\n\n\nCourse literature\n\n\n\nHandouts and material online. \n\n\n\nEntry requirements\n\n\n\nPriority will be given to researchers involved in project where the use of cryo-EM is needed\, which are to be briefly described upon application. \n\n\n\nThe course will be held at an advanced level\, assuming that participants have a master’s degree or equivalent in a technical life science discipline. It aims to be relevant for a broad research community\, also to participants not working in research environments using cryo-EM today. \n\n\n\nA maximum of 15 participants will be admitted. Selection criteria include correct entry requirements\, motivation to attend the course as well as gender balance. \n\n\n\nExamination\n\n\n\nParticipation in all parts of the course\, lectures\, lab\, microscopy demonstrations and evaluation are mandatory. SciLifeLab and Umeå University will provide successful participants with a course certificate and a recommendation for 1 ECTS
URL:https://www.scilifelab.se/event/cryo-em-sample-preparation-and-data-collection-2/
LOCATION:KBC Building Umeå\, Linneaus Väg 6\, Umeå
CATEGORIES:Course
ORGANIZER;CN="SciLifeLab Ume%C3%A5":MAILTO:umea@scilifelab.se
END:VEVENT
END:VCALENDAR