BEGIN:VCALENDAR
VERSION:2.0
PRODID:-//SciLifeLab - ECPv6.15.20//NONSGML v1.0//EN
CALSCALE:GREGORIAN
METHOD:PUBLISH
X-WR-CALNAME:SciLifeLab
X-ORIGINAL-URL:https://www.scilifelab.se
X-WR-CALDESC:Events for SciLifeLab
REFRESH-INTERVAL;VALUE=DURATION:PT1H
X-Robots-Tag:noindex
X-PUBLISHED-TTL:PT1H
BEGIN:VTIMEZONE
TZID:Europe/Stockholm
BEGIN:DAYLIGHT
TZOFFSETFROM:+0100
TZOFFSETTO:+0200
TZNAME:CEST
DTSTART:20240331T010000
END:DAYLIGHT
BEGIN:STANDARD
TZOFFSETFROM:+0200
TZOFFSETTO:+0100
TZNAME:CET
DTSTART:20241027T010000
END:STANDARD
BEGIN:DAYLIGHT
TZOFFSETFROM:+0100
TZOFFSETTO:+0200
TZNAME:CEST
DTSTART:20250330T010000
END:DAYLIGHT
BEGIN:STANDARD
TZOFFSETFROM:+0200
TZOFFSETTO:+0100
TZNAME:CET
DTSTART:20251026T010000
END:STANDARD
BEGIN:DAYLIGHT
TZOFFSETFROM:+0100
TZOFFSETTO:+0200
TZNAME:CEST
DTSTART:20260329T010000
END:DAYLIGHT
BEGIN:STANDARD
TZOFFSETFROM:+0200
TZOFFSETTO:+0100
TZNAME:CET
DTSTART:20261025T010000
END:STANDARD
END:VTIMEZONE
BEGIN:VEVENT
DTSTART;TZID=Europe/Stockholm:20250218T120000
DTEND;TZID=Europe/Stockholm:20250218T130000
DTSTAMP:20260420T141322
CREATED:20250207T145034Z
LAST-MODIFIED:20250210T141259Z
UID:10001478-1739880000-1739883600@www.scilifelab.se
SUMMARY:Multimodal Imaging: Optimized Workflows for Improved Efficiency and Precision
DESCRIPTION:This seminar talk is part of the SciLifeLab site Umeå/KBC Infrastructure Seminar series. The seminar series is held in Glasburen at KBC\, Umeå\, and online attendance is available via Zoom (link provided upon registering). \n\n\n\n\n\n\n\n\nPresenter: Cecilia Fager\, PhD\, Electron Microscopy Product and Application Specialist\, ZEISS NordicsAbstract: As the complexity of scientific questions increases\, approaches to address them are developed. One of the recent trends is the use of multimodal imaging where different microscopy techniques are used in combination to generate more detailed insights about a particular specimen. This seminar shows how multimodal imaging can be used to optimize the workflow for improved efficiency and precision. \n\n\n\nRead more and register\n\n\n\n\n\nSciLifeLab Site Umeå/KBC Infrastructure Seminar Series\n\n\n\nThis event is part of the SciLifeLab site Umeå/KBC Infrastructure Seminar series\, for future events in spring 2025\, check the seminar series home page \n\n\n\nTake me there
URL:https://www.scilifelab.se/event/multimodal-imaging-optimized-workflows-for-improved-efficiency-and-precision/
LOCATION:Glasburen Seminar Room\, Chemical Biological Centre (KBC) Building\, Umeå University\, Umeå\, 901 87\, Sweden
CATEGORIES:Event
ATTACH;FMTTYPE=image/jpeg:https://www.scilifelab.se/wp-content/uploads/2024/05/SciLifeLab-Site-Umea-seminar-scaled.jpg
ORGANIZER;CN="SciLifeLab Ume%C3%A5":MAILTO:umea@scilifelab.se
END:VEVENT
END:VCALENDAR