BEGIN:VCALENDAR
VERSION:2.0
PRODID:-//SciLifeLab - ECPv6.15.20//NONSGML v1.0//EN
CALSCALE:GREGORIAN
METHOD:PUBLISH
X-WR-CALNAME:SciLifeLab
X-ORIGINAL-URL:https://www.scilifelab.se
X-WR-CALDESC:Events for SciLifeLab
REFRESH-INTERVAL;VALUE=DURATION:PT1H
X-Robots-Tag:noindex
X-PUBLISHED-TTL:PT1H
BEGIN:VTIMEZONE
TZID:Europe/Stockholm
BEGIN:DAYLIGHT
TZOFFSETFROM:+0100
TZOFFSETTO:+0200
TZNAME:CEST
DTSTART:20240331T010000
END:DAYLIGHT
BEGIN:STANDARD
TZOFFSETFROM:+0200
TZOFFSETTO:+0100
TZNAME:CET
DTSTART:20241027T010000
END:STANDARD
BEGIN:DAYLIGHT
TZOFFSETFROM:+0100
TZOFFSETTO:+0200
TZNAME:CEST
DTSTART:20250330T010000
END:DAYLIGHT
BEGIN:STANDARD
TZOFFSETFROM:+0200
TZOFFSETTO:+0100
TZNAME:CET
DTSTART:20251026T010000
END:STANDARD
BEGIN:DAYLIGHT
TZOFFSETFROM:+0100
TZOFFSETTO:+0200
TZNAME:CEST
DTSTART:20260329T010000
END:DAYLIGHT
BEGIN:STANDARD
TZOFFSETFROM:+0200
TZOFFSETTO:+0100
TZNAME:CET
DTSTART:20261025T010000
END:STANDARD
END:VTIMEZONE
BEGIN:VEVENT
DTSTART;TZID=Europe/Stockholm:20250408T120000
DTEND;TZID=Europe/Stockholm:20250408T130000
DTSTAMP:20260420T103932
CREATED:20250325T083306Z
LAST-MODIFIED:20250326T123411Z
UID:10001513-1744113600-1744117200@www.scilifelab.se
SUMMARY:Umeå seminar series: Beyond the Command Line - HPC2N and the OpenOnDemand Experience
DESCRIPTION:“Beyond the Command Line – HPC2N and the OpenOnDemand Experience” \n\n\n\nSpeaker: Björn Torkelsson\, System engineer and Assistant director\, High Performance Computing Centre North (HPC2N) \n\n\n\nAbstract: This presentation will provide an update on the latest developments at HPC2N. We will explore recent enhancements in infrastructure\, software\, and services offered to researchers and users. \n\n\n\nA significant portion of the presentation will be dedicated to a live demonstration of OpenOnDemand\, a web-based portal that simplifies access and utilization of Kebnekaise\, the local UMU HPC resource. We will showcase how OpenOnDemand enables easy execution of applications\, data visualization\, and job management directly from a web browser\, enhancing accessibility and efficiency for users of all levels. \n\n\n\nWebpage of High Performance Computing Centre North (HPC2N) \n\n\n\n\nRegistration: Sign up for the IRL seminar and reserve your free lunch (salad\, drink\, and little sweet snack) by Friday\, 4 April\, 13:30: https://www.umu.se/en/research/infrastructure/scilifelab/scilifelab-site-umea–kbc-infrastructure-seminar-series \n\n\n\nFollow the seminar online (registration is not required): Meeting URL: https://umu.zoom.us/j/69390567429
URL:https://www.scilifelab.se/event/umea-seminar-series-beyond-the-command-line-hpc2n-and-the-openondemand-experience/
LOCATION:KBC Building Umeå\, Linneaus Väg 6\, Umeå
CATEGORIES:Event
ATTACH;FMTTYPE=image/jpeg:https://www.scilifelab.se/wp-content/uploads/2024/04/SciLifeLab-Site-Umea-seminar-scaled.jpg
ORGANIZER;CN="SciLifeLab Ume%C3%A5":MAILTO:umea@scilifelab.se
END:VEVENT
BEGIN:VEVENT
DTSTART;TZID=Europe/Stockholm:20250410T120000
DTEND;TZID=Europe/Stockholm:20250410T130000
DTSTAMP:20260420T103932
CREATED:20250326T125539Z
LAST-MODIFIED:20250326T125540Z
UID:10001515-1744286400-1744290000@www.scilifelab.se
SUMMARY:Innovation through collaboration
DESCRIPTION:AstraZeneca Open Innovation and Collaborative Insights from Mikael Elofsson\, UMU \n\n\n\n\nSpeakers: Björn Tyrberg and Hannah Semple present Open Innovation\, AstraZeneca\, covering:  \n\n\n\n– CoSolve challenges– Preclinical compound sharing– Compound screening collaborations:–> Diversity screens–> Phenotypic screens–> Bespoke library screens–> Secretome and other libraries \n\n\n\n\nThe presentation will be given in Galaxen (Sirius)\, found on the ground floor of the Universum building\, at Umeå University. Find your way to the venue: MazeMap link.  \n\n\n\nTime will be given afterwards for 1:1 project discussions with interested investigators. \n\n\n\nRegister to come to the presentation and reserve your lunch\, as well as book a 1:1 project discussion by Tuesday\, 8 April at 10:00.  \n\n\n\nRead more and register here
URL:https://www.scilifelab.se/event/innovation-through-collaboration-2/
LOCATION:Galaxen (Sirius)\, Universum\, Umeå\, Universitetstorget 4\, Umeå\, 90187\, Sweden
CATEGORIES:Event
ATTACH;FMTTYPE=image/jpeg:https://www.scilifelab.se/wp-content/uploads/2022/05/AdobeStock_108274229_DNA_WP.jpg
ORGANIZER;CN="SciLifeLab Ume%C3%A5":MAILTO:umea@scilifelab.se
END:VEVENT
BEGIN:VEVENT
DTSTART;TZID=Europe/Stockholm:20250429T120000
DTEND;TZID=Europe/Stockholm:20250429T130000
DTSTAMP:20260420T103932
CREATED:20250411T124253Z
LAST-MODIFIED:20250411T124255Z
UID:10001528-1745928000-1745931600@www.scilifelab.se
SUMMARY:Umeå seminar series: Discover your sample in 3D using volume EM by FIB-SEM
DESCRIPTION:Presenter: Sara Henriksson\, Staff scientist\, Umeå Centre for Electron Microscopy (UCEM)\, Umeå University \n\n\n\nAbstract: FIB-SEM is a conventional scanning electron microscope equipped with a focused ion beam. This beam is destructive which enables shaping of objects inside of the microscope. Such a microscope can act as a knife\, removing section by section of a sample. Together with high-quality sample preparation and electron detectors\, this facilitates a volumetric view of any given sample at high magnification and resolution. This seminar will describe the method in more detail and give examples of supported projects and applications. \n\n\n\n\nREGISTRATION\n\n\n\nSign up for the IRL seminar on the 29th of April and reserve your free lunch (salad\, drink\, and a little sweet snack) by Friday\, 25th April\, 13:30 in the form below\, or follow online here: https://www.umu.se/en/research/groups/scilifelab/scilifelab-site-umea–kbc-infrastructure-seminar-series/
URL:https://www.scilifelab.se/event/umea-seminar-series-discover-your-sample-in-3d-using-volume-em-by-fib-sem/
LOCATION:Glasburen Seminar Room\, Chemical Biological Centre (KBC) Building\, Umeå University\, Umeå\, 901 87\, Sweden
CATEGORIES:Event
ATTACH;FMTTYPE=image/webp:https://www.scilifelab.se/wp-content/uploads/2025/04/chlamydia_infected_cell_fib-sem-Sara-Henriksson.webp
ORGANIZER;CN="SciLifeLab Ume%C3%A5":MAILTO:umea@scilifelab.se
END:VEVENT
END:VCALENDAR