BEGIN:VCALENDAR
VERSION:2.0
PRODID:-//SciLifeLab - ECPv6.15.20//NONSGML v1.0//EN
CALSCALE:GREGORIAN
METHOD:PUBLISH
X-ORIGINAL-URL:https://www.scilifelab.se
X-WR-CALDESC:Events for SciLifeLab
REFRESH-INTERVAL;VALUE=DURATION:PT1H
X-Robots-Tag:noindex
X-PUBLISHED-TTL:PT1H
BEGIN:VTIMEZONE
TZID:Europe/Stockholm
BEGIN:DAYLIGHT
TZOFFSETFROM:+0100
TZOFFSETTO:+0200
TZNAME:CEST
DTSTART:20210328T010000
END:DAYLIGHT
BEGIN:STANDARD
TZOFFSETFROM:+0200
TZOFFSETTO:+0100
TZNAME:CET
DTSTART:20211031T010000
END:STANDARD
BEGIN:DAYLIGHT
TZOFFSETFROM:+0100
TZOFFSETTO:+0200
TZNAME:CEST
DTSTART:20220327T010000
END:DAYLIGHT
BEGIN:STANDARD
TZOFFSETFROM:+0200
TZOFFSETTO:+0100
TZNAME:CET
DTSTART:20221030T010000
END:STANDARD
BEGIN:DAYLIGHT
TZOFFSETFROM:+0100
TZOFFSETTO:+0200
TZNAME:CEST
DTSTART:20230326T010000
END:DAYLIGHT
BEGIN:STANDARD
TZOFFSETFROM:+0200
TZOFFSETTO:+0100
TZNAME:CET
DTSTART:20231029T010000
END:STANDARD
END:VTIMEZONE
BEGIN:VEVENT
DTSTART;TZID=Europe/Stockholm:20220323T160000
DTEND;TZID=Europe/Stockholm:20220323T170000
DTSTAMP:20260421T123458
CREATED:20220210T163114Z
LAST-MODIFIED:20220210T163114Z
UID:10000526-1648051200-1648054800@www.scilifelab.se
SUMMARY:FAIRPoints Presents- Harmonising FAIR data sharing with Legal Compliance
DESCRIPTION:Location: Online via Zoom \n\n\n\n\n\nSee Event in your Time Zone \n\n\n\nSpeaker: Harshvardhan J. Pandit \n\n\n\nSpeakers bio  \n\n\n\nFAIRPoints is an event series highlighting pragmatic measures developed by the community towards the implementation of the FAIR (Findable\, Accessible\, Interoperable\, Reusable) data principles\, in collaboration with GoFAIR US\, SDSC\, AGU\, and SciLifeLab Data Centre.  \n\n\n\nFAIR mechanisms have pioneered a new paradigm of making data discoverable\, accessible\, and reusable. At the same time\, a new wave of privacy and data protection laws (including GDPR) around the world is regulating how personal data is shared responsibly.  \n\n\n\nThis talk explores the intersection between the two communities and discusses how each can help the other. In particular\, it focuses on how we can utilise FAIR metadata and mechanisms to ensure data is shared and used legally while also increasing its reusability. Conversely\, it also takes a look at what FAIR principles can do for improving how we deal with legal compliance. \n\n\n\n \n\n\n\n\n\n\n\nRegister here\n\n\n\nSign up for future events here \n\n\n\nTwitter: @FAIR_Points
URL:https://www.scilifelab.se/event/fairpoints-presents-harmonising-fair-data-sharing-with-legal-compliance/
LOCATION:Online event via Zoom
CATEGORIES:Event
END:VEVENT
END:VCALENDAR