BEGIN:VCALENDAR
VERSION:2.0
PRODID:-//SciLifeLab - ECPv6.15.20//NONSGML v1.0//EN
CALSCALE:GREGORIAN
METHOD:PUBLISH
X-WR-CALNAME:SciLifeLab
X-ORIGINAL-URL:https://www.scilifelab.se
X-WR-CALDESC:Events for SciLifeLab
REFRESH-INTERVAL;VALUE=DURATION:PT1H
X-Robots-Tag:noindex
X-PUBLISHED-TTL:PT1H
BEGIN:VTIMEZONE
TZID:Europe/Stockholm
BEGIN:DAYLIGHT
TZOFFSETFROM:+0100
TZOFFSETTO:+0200
TZNAME:CEST
DTSTART:20230326T010000
END:DAYLIGHT
BEGIN:STANDARD
TZOFFSETFROM:+0200
TZOFFSETTO:+0100
TZNAME:CET
DTSTART:20231029T010000
END:STANDARD
BEGIN:DAYLIGHT
TZOFFSETFROM:+0100
TZOFFSETTO:+0200
TZNAME:CEST
DTSTART:20240331T010000
END:DAYLIGHT
BEGIN:STANDARD
TZOFFSETFROM:+0200
TZOFFSETTO:+0100
TZNAME:CET
DTSTART:20241027T010000
END:STANDARD
BEGIN:DAYLIGHT
TZOFFSETFROM:+0100
TZOFFSETTO:+0200
TZNAME:CEST
DTSTART:20250330T010000
END:DAYLIGHT
BEGIN:STANDARD
TZOFFSETFROM:+0200
TZOFFSETTO:+0100
TZNAME:CET
DTSTART:20251026T010000
END:STANDARD
END:VTIMEZONE
BEGIN:VEVENT
DTSTART;TZID=Europe/Stockholm:20240221T100000
DTEND;TZID=Europe/Stockholm:20240221T110000
DTSTAMP:20260422T222110
CREATED:20240208T103812Z
LAST-MODIFIED:20251204T144857Z
UID:10001150-1708509600-1708513200@www.scilifelab.se
SUMMARY:Discover SciLifeLab cutting-edge services supporting data sharing: Data Repository and Serve
DESCRIPTION:Welcome to join the first event this Spring in the SciLifeLab Data Management seminar series. The topic of this online seminar is “Discover SciLifeLab cutting-edge services supporting data sharing: Data Repository and Serve“. The seminar will start with an introduction to data sharing followed by presentations of two SciLifeLab services connected to data sharing; SciLifeLab Data Repository – institutional instance of Figshare and SciLifeLab Serve – hosting of AI and Machine Learning model and apps.Welcome!Speakers: Anna Asklöf\, Data Steward\, and Arnold Kochari\, Project Leader\, SciLifeLab Data Centre. The event is moderated by Parul Tewatia.When: Feb 21st 10.00-11:00 CET (Zoom). \n\n\n\nregistration\n\n\n\nSciLifeLab Data Management seminar series is an event series by the SciLifeLab Data Centre and NBIS joint Data Management team aimed at both the life science research community and infrastructure\, and others with an interest in research data management in life sciences. The events will showcase how to put the FAIR principles\, and good data management into practice. The goal of the events in this seminar series is to provide interesting seminars around topics related to research data management in general but also to foster discussions around best practices and how they can be improved. The events takes place virtually (over Zoom) and are open to everyone\, (researchers\, staff\, RDM professionals etc.) working at or affiliated with a Swedish research institute or university. Each event is scheduled for 60 minutes\, including 15 minutes for discussions and Q & A. The videos will be published openly after the seminars at the SciLifeLab YouTube channel. \n\n\n\nMore information about SciLifeLab Data Centre and NBIS joint Data Management team: https://data-guidelines.scilifelab.se/ \n\n\n\nWelcome! \n\n\n\nOrganisers: SciLifeLab Data Centre and NBIS National Bioinformatics Infrastructure SwedenFor more information or inquiries please contact: data-management@scilifelab.se
URL:https://www.scilifelab.se/event/discover-scilifelab-cutting-edge-services-supporting-data-sharing-2/
LOCATION:Online event via Zoom
CATEGORIES:Event
ORGANIZER;CN="Open Science Seminar Series":MAILTO:data-management@scilifelab.se
END:VEVENT
END:VCALENDAR