BEGIN:VCALENDAR
VERSION:2.0
PRODID:-//SciLifeLab - ECPv6.15.20//NONSGML v1.0//EN
CALSCALE:GREGORIAN
METHOD:PUBLISH
X-ORIGINAL-URL:https://www.scilifelab.se
X-WR-CALDESC:Events for SciLifeLab
REFRESH-INTERVAL;VALUE=DURATION:PT1H
X-Robots-Tag:noindex
X-PUBLISHED-TTL:PT1H
BEGIN:VTIMEZONE
TZID:Europe/Stockholm
BEGIN:DAYLIGHT
TZOFFSETFROM:+0100
TZOFFSETTO:+0200
TZNAME:CEST
DTSTART:20200329T010000
END:DAYLIGHT
BEGIN:STANDARD
TZOFFSETFROM:+0200
TZOFFSETTO:+0100
TZNAME:CET
DTSTART:20201025T010000
END:STANDARD
BEGIN:DAYLIGHT
TZOFFSETFROM:+0100
TZOFFSETTO:+0200
TZNAME:CEST
DTSTART:20210328T010000
END:DAYLIGHT
BEGIN:STANDARD
TZOFFSETFROM:+0200
TZOFFSETTO:+0100
TZNAME:CET
DTSTART:20211031T010000
END:STANDARD
BEGIN:DAYLIGHT
TZOFFSETFROM:+0100
TZOFFSETTO:+0200
TZNAME:CEST
DTSTART:20220327T010000
END:DAYLIGHT
BEGIN:STANDARD
TZOFFSETFROM:+0200
TZOFFSETTO:+0100
TZNAME:CET
DTSTART:20221030T010000
END:STANDARD
BEGIN:DAYLIGHT
TZOFFSETFROM:+0100
TZOFFSETTO:+0200
TZNAME:CEST
DTSTART:20230326T010000
END:DAYLIGHT
BEGIN:STANDARD
TZOFFSETFROM:+0200
TZOFFSETTO:+0100
TZNAME:CET
DTSTART:20231029T010000
END:STANDARD
BEGIN:DAYLIGHT
TZOFFSETFROM:+0100
TZOFFSETTO:+0200
TZNAME:CEST
DTSTART:20240331T010000
END:DAYLIGHT
BEGIN:STANDARD
TZOFFSETFROM:+0200
TZOFFSETTO:+0100
TZNAME:CET
DTSTART:20241027T010000
END:STANDARD
BEGIN:DAYLIGHT
TZOFFSETFROM:+0100
TZOFFSETTO:+0200
TZNAME:CEST
DTSTART:20250330T010000
END:DAYLIGHT
BEGIN:STANDARD
TZOFFSETFROM:+0200
TZOFFSETTO:+0100
TZNAME:CET
DTSTART:20251026T010000
END:STANDARD
BEGIN:DAYLIGHT
TZOFFSETFROM:+0100
TZOFFSETTO:+0200
TZNAME:CEST
DTSTART:20260329T010000
END:DAYLIGHT
BEGIN:STANDARD
TZOFFSETFROM:+0200
TZOFFSETTO:+0100
TZNAME:CET
DTSTART:20261025T010000
END:STANDARD
BEGIN:DAYLIGHT
TZOFFSETFROM:+0100
TZOFFSETTO:+0200
TZNAME:CEST
DTSTART:20270328T010000
END:DAYLIGHT
BEGIN:STANDARD
TZOFFSETFROM:+0200
TZOFFSETTO:+0100
TZNAME:CET
DTSTART:20271031T010000
END:STANDARD
END:VTIMEZONE
BEGIN:VEVENT
DTSTART;TZID=Europe/Stockholm:20260123T090000
DTEND;TZID=Europe/Stockholm:20260123T170000
DTSTAMP:20260420T202306
CREATED:20251204T133007Z
LAST-MODIFIED:20260119T080732Z
UID:10001679-1769158800-1769187600@www.scilifelab.se
SUMMARY:Unlocking Precision Health: From Molecular Insights to Clinical Impact in Complex Diseases
DESCRIPTION:The 3rd Symposium on Complex Diseases \n\n\n\nJoin us for an exciting day dedicated to advancing precision health and tackling the challenges of complex diseases. This symposium brings together leading researchers\, clinicians\, and industry to explore how molecular insights can transform clinical practice and improve patient outcomes. \n\n\n\nFor information about the symposium in Swedish: Unlocking Precision Health: From Molecular Insights to Clinical Impact in Complex Diseases (Swe). \n\n\n\nConfirmed Speakers:\n\n\n\n\nOskar Frisell\, Karolinska Institutet\n\n\n\nAndrea Ganna\, University of Helsinki\, Finland\n\n\n\nLina Jonsson\, University of Gothenburg\n\n\n\nRichard Landberg\, Chalmers University of Technology\n\n\n\nTuuli Lapalainen\, KTH Royal Institute of Technology\n\n\n\nRuth Loos\, University of Copenhagen\, Denmark\n\n\n\nOlle Melander\, Lund University\n\n\n\nRichard Rosenquist Brandell\, Karolinska Institutet\n\n\n\nPeter Würtz\, Nightingale Health\, Finland\n\n\n\n\nRegistration\n\n\n\nRegister via this form: https://forms.gle/6C7QzrzxwJ9NBPjd8. Registration deadline: 15 January 2026 \n\n\n\nAbstract Submission deadline: 5 January 2026 \n\n\n\nProgram\n\n\n\nProgram symposium complex diseases Jan 23 2026_FINALDownload\n\n\n\nWhy attend?\n\n\n\nExpand your expertise in genomics\, multi-omics\, and precision medicine. \n\n\n\nNetwork with experts and peers across academia\, healthcare\, and industry. \n\n\n\nParticipate in rapid talks\, poster sessions\, and lively discussions.
URL:https://www.scilifelab.se/event/unlocking-precision-health-from-molecular-insights-to-clinical-impact-in-complex-diseases/
LOCATION:Operaterassen\, Karl XII:s Torg\, Stockholm\, Sweden
CATEGORIES:Event
END:VEVENT
BEGIN:VEVENT
DTSTART;TZID=Europe/Stockholm:20240126T080000
DTEND;TZID=Europe/Stockholm:20240126T190000
DTSTAMP:20260420T202306
CREATED:20231129T153110Z
LAST-MODIFIED:20240117T102834Z
UID:10001051-1706256000-1706295600@www.scilifelab.se
SUMMARY:Complex Diseases Conference
DESCRIPTION:Precision health around the corner – deciphering complex diseases \n\n\n\nIt is our pleasure to announce the second conference for Genomic Medicine Sweden (GMS) – Complex Diseases. The event aims at bringing together researchers and clinicians to accelerate the clinical implementation of precision medicine of complex diseases. The meeting is open to everyone with professional interest in the field. \n\n\n\nRead more\n\n\n\nRegistration\n\n\n\nProgram\n\n\n\nGMS-Complex-diseases-conference-1Download\n\n\n\n \n\n\n\nDate: January 26th\, 2024Time: 9 am – 7 pmWhere: Wenner-Gren Center\, Stockholm
URL:https://www.scilifelab.se/event/complex-diseases-conference/
LOCATION:Wenner-Gren Center\, Sveavägen 166\, Stockholm\, 113 46\, Sweden
CATEGORIES:Event
ATTACH;FMTTYPE=image/jpeg:https://www.scilifelab.se/wp-content/uploads/2023/11/GMS.jpg
END:VEVENT
BEGIN:VEVENT
DTSTART;TZID=Europe/Stockholm:20210426T120000
DTEND;TZID=Europe/Stockholm:20210426T130000
DTSTAMP:20260420T202306
CREATED:20210414T085430Z
LAST-MODIFIED:20210414T085517Z
UID:10000362-1619438400-1619442000@www.scilifelab.se
SUMMARY:Nationella studier av värdet av breda genpaneler och helgenomsekvensering för patienter med hematologiska maligniteter
DESCRIPTION:Flera internationella studier tyder på att storskalig sekvensering kan förbättra diagnostik och behandling av patienter med hematologiska maligniteter. Arbetsutskottet för hematologi inom Genomic Medicine Sweden har initierat två nationella studier för att utvärderat potentialen av breda genpaneler och helgenomsekvenserig i svensk sjukvård. I det här webbinariet kommer vi informera om upplägget för studierna och diskutera detaljer kring patientrekrytering och genomförande. \n\n\n\nMålgrupp: Vi vänder oss till hematologer\, forskningssjuksköterskor\, diagnostiker\, laboratoriepersonal och bioinformatiker som arbetar med hematologiska maligniteter i Sverige\, samt alla andra professioner med intresse av frågan. \n\n\n\nDag och tid: 13 och 26 april\, kl 12-13 (samma webbinarium ges vid två tillfällen)Plats: Digitalt via Zoom https://uu-se.zoom.us/j/61739315319 \n\n\n\nVid webbinariet kommer följande nyckelfrågor att tas upp: \n\n\n\nHur ser etikansökan för studierna ut?Hur är studieupplägget för genpaneler?Hur är studieupplägget för helgenomsekvensering?\n\n\n\nMedverkande: \n\n\n\nRichard Rosenquist Brandell\, överläkare i klinisk genetik och föreståndare GMSThoas Fioretos\, överläkare i klinisk genetik och co-chair GMS HematologiMartin Höglund\, överläkare i hematologi och f.d. ordförande Svenska AML-gruppenLucia Cavelier\, sjukhusgenetiker och co-chair GMS Hematologi\n\n\n\nAnmälan: Ingen formell anmälan behövs. Anslut bara till länken på utsatt tid. \n\n\n\n\n\n\n\nProgram \n\n\n\n12.00-12.10Välkomna\, Introduktion till GMS och GMS hematologiRichard Rosenquist Brandell\, överläkare i klinisk genetik och föreståndare GMSThoas Fioretos\, överläkare i klinisk genetik och co-chair GMS Hematologi \n\n\n\n12.10-12.20Upplägg för etikansökan och samtyckesblankettThoas Fioretos\, överläkare i klinisk genetik och co-chair GMS HematologiMartin Höglund\, överläkare i hematologi och f.d. ordförande Svenska AML-gruppen \n\n\n\n12.20-12-30Studieupplägg för genpanelerLucia Cavelier\, sjukhusgenetiker och co-chair GMS Hematologi \n\n\n\n12.30-12.40Studieupplägg för helgenomsekvenseringRichard Rosenquist Brandell\, överläkare i klinisk genetik och föreståndare GMS \n\n\n\n12.40-13.00Frågor\, diskussion \n\n\n\n\n\n\n\nOm du har frågor om webbinariet är du välkommen att kontakta Eva Berglund\, eva.berglund@scilifelab.uu.se
URL:https://www.scilifelab.se/event/nationella-studier-av-vardet-av-breda-genpaneler-och-helgenomsekvensering-for-patienter-med-hematologiska-maligniteter/2021-04-26/
CATEGORIES:Event
LOCATION:https://uu-se.zoom.us/j/61739315319
END:VEVENT
BEGIN:VEVENT
DTSTART;TZID=Europe/Stockholm:20210413T120000
DTEND;TZID=Europe/Stockholm:20210413T130000
DTSTAMP:20260420T202306
CREATED:20210414T085430Z
LAST-MODIFIED:20210414T085517Z
UID:10000361-1618315200-1618318800@www.scilifelab.se
SUMMARY:Nationella studier av värdet av breda genpaneler och helgenomsekvensering för patienter med hematologiska maligniteter
DESCRIPTION:Flera internationella studier tyder på att storskalig sekvensering kan förbättra diagnostik och behandling av patienter med hematologiska maligniteter. Arbetsutskottet för hematologi inom Genomic Medicine Sweden har initierat två nationella studier för att utvärderat potentialen av breda genpaneler och helgenomsekvenserig i svensk sjukvård. I det här webbinariet kommer vi informera om upplägget för studierna och diskutera detaljer kring patientrekrytering och genomförande. \n\n\n\nMålgrupp: Vi vänder oss till hematologer\, forskningssjuksköterskor\, diagnostiker\, laboratoriepersonal och bioinformatiker som arbetar med hematologiska maligniteter i Sverige\, samt alla andra professioner med intresse av frågan. \n\n\n\nDag och tid: 13 och 26 april\, kl 12-13 (samma webbinarium ges vid två tillfällen)Plats: Digitalt via Zoom https://uu-se.zoom.us/j/61739315319 \n\n\n\nVid webbinariet kommer följande nyckelfrågor att tas upp: \n\n\n\nHur ser etikansökan för studierna ut?Hur är studieupplägget för genpaneler?Hur är studieupplägget för helgenomsekvensering?\n\n\n\nMedverkande: \n\n\n\nRichard Rosenquist Brandell\, överläkare i klinisk genetik och föreståndare GMSThoas Fioretos\, överläkare i klinisk genetik och co-chair GMS HematologiMartin Höglund\, överläkare i hematologi och f.d. ordförande Svenska AML-gruppenLucia Cavelier\, sjukhusgenetiker och co-chair GMS Hematologi\n\n\n\nAnmälan: Ingen formell anmälan behövs. Anslut bara till länken på utsatt tid. \n\n\n\n\n\n\n\nProgram \n\n\n\n12.00-12.10Välkomna\, Introduktion till GMS och GMS hematologiRichard Rosenquist Brandell\, överläkare i klinisk genetik och föreståndare GMSThoas Fioretos\, överläkare i klinisk genetik och co-chair GMS Hematologi \n\n\n\n12.10-12.20Upplägg för etikansökan och samtyckesblankettThoas Fioretos\, överläkare i klinisk genetik och co-chair GMS HematologiMartin Höglund\, överläkare i hematologi och f.d. ordförande Svenska AML-gruppen \n\n\n\n12.20-12-30Studieupplägg för genpanelerLucia Cavelier\, sjukhusgenetiker och co-chair GMS Hematologi \n\n\n\n12.30-12.40Studieupplägg för helgenomsekvenseringRichard Rosenquist Brandell\, överläkare i klinisk genetik och föreståndare GMS \n\n\n\n12.40-13.00Frågor\, diskussion \n\n\n\n\n\n\n\nOm du har frågor om webbinariet är du välkommen att kontakta Eva Berglund\, eva.berglund@scilifelab.uu.se
URL:https://www.scilifelab.se/event/nationella-studier-av-vardet-av-breda-genpaneler-och-helgenomsekvensering-for-patienter-med-hematologiska-maligniteter/2021-04-13/
CATEGORIES:Event
LOCATION:https://uu-se.zoom.us/j/61739315319
END:VEVENT
END:VCALENDAR