BEGIN:VCALENDAR
VERSION:2.0
PRODID:-//SciLifeLab - ECPv6.15.20//NONSGML v1.0//EN
CALSCALE:GREGORIAN
METHOD:PUBLISH
X-WR-CALNAME:SciLifeLab
X-ORIGINAL-URL:https://www.scilifelab.se
X-WR-CALDESC:Events for SciLifeLab
REFRESH-INTERVAL;VALUE=DURATION:PT1H
X-Robots-Tag:noindex
X-PUBLISHED-TTL:PT1H
BEGIN:VTIMEZONE
TZID:Europe/Stockholm
BEGIN:DAYLIGHT
TZOFFSETFROM:+0100
TZOFFSETTO:+0200
TZNAME:CEST
DTSTART:20200329T010000
END:DAYLIGHT
BEGIN:STANDARD
TZOFFSETFROM:+0200
TZOFFSETTO:+0100
TZNAME:CET
DTSTART:20201025T010000
END:STANDARD
BEGIN:DAYLIGHT
TZOFFSETFROM:+0100
TZOFFSETTO:+0200
TZNAME:CEST
DTSTART:20210328T010000
END:DAYLIGHT
BEGIN:STANDARD
TZOFFSETFROM:+0200
TZOFFSETTO:+0100
TZNAME:CET
DTSTART:20211031T010000
END:STANDARD
BEGIN:DAYLIGHT
TZOFFSETFROM:+0100
TZOFFSETTO:+0200
TZNAME:CEST
DTSTART:20220327T010000
END:DAYLIGHT
BEGIN:STANDARD
TZOFFSETFROM:+0200
TZOFFSETTO:+0100
TZNAME:CET
DTSTART:20221030T010000
END:STANDARD
BEGIN:DAYLIGHT
TZOFFSETFROM:+0100
TZOFFSETTO:+0200
TZNAME:CEST
DTSTART:20230326T010000
END:DAYLIGHT
BEGIN:STANDARD
TZOFFSETFROM:+0200
TZOFFSETTO:+0100
TZNAME:CET
DTSTART:20231029T010000
END:STANDARD
BEGIN:DAYLIGHT
TZOFFSETFROM:+0100
TZOFFSETTO:+0200
TZNAME:CEST
DTSTART:20240331T010000
END:DAYLIGHT
BEGIN:STANDARD
TZOFFSETFROM:+0200
TZOFFSETTO:+0100
TZNAME:CET
DTSTART:20241027T010000
END:STANDARD
BEGIN:DAYLIGHT
TZOFFSETFROM:+0100
TZOFFSETTO:+0200
TZNAME:CEST
DTSTART:20250330T010000
END:DAYLIGHT
BEGIN:STANDARD
TZOFFSETFROM:+0200
TZOFFSETTO:+0100
TZNAME:CET
DTSTART:20251026T010000
END:STANDARD
END:VTIMEZONE
BEGIN:VEVENT
DTSTART;TZID=Europe/Stockholm:20241212T090000
DTEND;TZID=Europe/Stockholm:20241212T130000
DTSTAMP:20260421T223745
CREATED:20241021T090522Z
LAST-MODIFIED:20241202T132758Z
UID:10001376-1733994000-1734008400@www.scilifelab.se
SUMMARY:Science & SciLifeLab Prize Scientific Symposium 2024
DESCRIPTION:Science\, the American Association for the Advancement of Science (AAAS)\, and SciLifeLab joined forces in 2013\, creating the Science & SciLifeLab Prize for Young Scientists to recognize excellence amongst young researchers from around the world. A global Prize aimed at rewarding scientists at an early stage of their careers. \n\n\n\nThe Prize is awarded in four different categories and the four winners are; \n\n\n\n\nAndrija Sente\, Grand Prize Winner in Cell and Molecular Biology\n\n\n\nJarrod Shilts\, Category Winner in Genomics\, Proteomics\, and Systems Biology Approaches\n\n\n\nSabrina Rondeau\, Category Winner in Ecology and Environment\n\n\n\nGabriele Casirati\, Category Winner in Molecular Medicine\n\n\n\n\nRead more about each winner by clicking their names \n\n\n\nAll four winners of the Science & SciLifeLab Prize for Young Scientists are invited to Sweden December 8-13 to participate in a unique week filled with events in honor of science. They will have the opportunity to meet with leading scientists in their field of research and create life-long connections to support their careers. \n\n\n\nWelcome to the Scientific Symposium where the winners of the 2024 Science & SciLifeLab Prize for Young Scientists will present their research. \n\n\n\nThe symposium will take place at beautiful Hasselbacken at Djurgården in Stockholm. \n\n\n\nSeats are limited so register today for your chance to meet with the winners and the the AAAS/Science editor team AND our honorary guest\, the Grand Prize Winner from 2016\, Dr. Neir Eshel.  \n\n\n\n \n\n\n\n \n\n\n\nThis year’s keynote speaker is  2016 year’s Grand Prize winner Neir Eshel  \n\n\n\nPrize_speaker biographies_2024Download\n\n\n\nRegistration\n\n\n\nProgram\n\n\n\nRead more About the prize here
URL:https://www.scilifelab.se/event/science-scilifelab-prize-scientific-symposium-2024/
LOCATION:Hasselbacken\, Hazeliusbacken 20\, Stockholm\, Sweden
CATEGORIES:Event
ATTACH;FMTTYPE=image/jpeg:https://www.scilifelab.se/wp-content/uploads/2020/11/winner-photos-2020_270x170_prizepicture_black-scaled.jpg
ORGANIZER;CN="Science/AAAS and SciLifeLab":MAILTO:events@scilifelab.se
END:VEVENT
BEGIN:VEVENT
DTSTART;TZID=Europe/Stockholm:20231213T133000
DTEND;TZID=Europe/Stockholm:20231213T153000
DTSTAMP:20260421T223745
CREATED:20231124T121410Z
LAST-MODIFIED:20231211T115110Z
UID:10001041-1702474200-1702481400@www.scilifelab.se
SUMMARY:Stronger together; Making space on Team Science for Diverse Career Paths
DESCRIPTION:Science & SciLifeLab Webinar \n\n\n\nBy harnessing different types of expertise and offering several diverse career paths in research\, the definition of what it means to be a life scientist can be broadened and inclusive of a wide array of skill-sets. In this panel discussion\, broadcasted live by Science\, the panel will explore how life scientists can foster a future that maximizes the potential of each researcher and the field overall. \n\n\n\nIn this discussion\, participants will \n\n\n\n\nLearn about how career paths can be diversified and how diverse backgrounds bring value to research excellence\, innovation\, and problem-solving.\n\n\n\nGain insights into why team science is key for multidisciplinary research and collaboration. \n\n\n\nHear how universities and other employers can support individuals pursuing non-traditional career paths in science and build inclusive research communities.\n\n\n\nTake part in shaping the future of research incentives and other drivers of open science.\n\n\n\n\n\n\n\n\nProgram\n\n\n\n\n13.30 Coffee and mingle at IVA conference center \n\n\n\n14.15 Everyone seated in the Wallenberg lecture hall \n\n\n\n14.30 Panel discussion \n\n\n\n15.15 Q&A from the audience \n\n\n\n\nPanel\n\n\n\nAnnika Jenmalm Jensen\, Infrastructure director at SciLifeLab \n\n\n\nChelsea Wood\, Associate professor University of Washington and Science & SciLifeLab Prize Winner 2014 \n\n\n\nDavid Seekell\, Head of Sustainable Investing at Atle and Science & SciLifeLab Prize Winner 2016 \n\n\n\nErik Lindahl\, professor Stockholm University \n\n\n\nModerator\n\n\n\nSacha Vignieri\, Deputy Editor for Research at AAAS/Science magazine \n\n\n\nRegistration
URL:https://www.scilifelab.se/event/stronger-together-making-space-on-team-science-for-diverse-career-paths/
LOCATION:IVA Conference center\, Grev Turegatan 16\, Stockholm
CATEGORIES:Event
ATTACH;FMTTYPE=image/png:https://www.scilifelab.se/wp-content/uploads/2023/11/W-23.12.13_SciLifeLab_presentation_3072-x-1296_v1.png
ORGANIZER;CN="Science/AAAS and SciLifeLab":MAILTO:events@scilifelab.se
END:VEVENT
BEGIN:VEVENT
DTSTART;TZID=Europe/Stockholm:20231212T090000
DTEND;TZID=Europe/Stockholm:20231212T133000
DTSTAMP:20260421T223745
CREATED:20231005T101319Z
LAST-MODIFIED:20241115T085813Z
UID:10000977-1702371600-1702387800@www.scilifelab.se
SUMMARY:Science & SciLifeLab Prize Symposium 2023
DESCRIPTION:Welcome to the Scientific Symposium presenting the winners of the 2023 Science & SciLifeLab Prize for Young Scientists.  \n\n\n\n\nN.b. This page concerns the Science & SciLifeLab Prize Symposium 2023. To learn about the 2024 event – please click the button below. \n\n\n\nRead about the science & SciLifeLab Prize symposium 2024\n\n\n\n\nScience\, the American Association for the Advancement of Science (AAAS)\, and SciLifeLab joined forces in 2013\, creating the Science & SciLifeLab Prize for Young Scientists to recognize excellence amongst young researchers from around the world. A global Prize aimed at rewarding scientists at an early stage of their careers\, this year celebrating its 10th anniversary. \n\n\n\n\n\n\n\n\n\n\n\n\n\n\n\n \n\n\n\nThe Science & SciLifeLab Prize for Young Scientists is an international prize\, awarded annually to four young scientists for outstanding life science research based on a doctoral degree earned in the previous two years.The grand prize-winning essay will be published in Science\, and essays from the three category winners will be published in online issue. \n\n\n\nAll four winners of the Science & SciLifeLab Prize for Young Scientists are invited to Sweden December 9-14 to participate in a unique week filled with events in honor of science. They will have the opportunity to meet with leading scientists in their field of research and create life-long connections to support their careers.  \n\n\n\nThe four winners 2023 are \n\n\n\nZuzanna Kozicka\n\n\n\nMolecular Medicine\, Grand Prize WinnerEssay: Gluing the pieces together: Illuminating the path to degrading troublesome proteins \n\n\n\nRachel Kratofil\n\n\n\nCell and Molecular BiologyEssay: Working up an appetite to promote repair: Immune-derived hunger hormones restore tissue post-infection \n\n\n\nYodai Takei\n\n\n\nGenomics\, Proteomics\, and Systems Biology ApproachesEssay: Imaging nuclear architecture in single cells: Multiplexed imaging technologies uncover precise 3D maps of single nuclei \n\n\n\nJessica Kendall-Bar\n\n\n\nEcology and EnvironmentEssay: Lessons from sleep in the deep: Records of seal sleep at sea reveal extreme sleep duration flexibility \n\n\n\nFor the 10th anniversary of Science and SciLifeLab Prize\, we have invited 2014 year’s category winner Chelsea Wood to give a keynote lecture with the title; Is the world wormier than it used to be? Answers from a new subdiscipline: the historical ecology of parasitism. \n\n\n\nProgram\n\n\n\nProgram flyer_Prize_A4_01 (2)Download\n\n\n\n\n\n\n\nChelsea Wood – Bio\n\n\n\nRead more About the Prize\n\n\n\nPlease contact events@scilifelab.se if you have any questions.
URL:https://www.scilifelab.se/event/science-scilifelab-prize-symposium-2023/
LOCATION:Beijersalen\, Kungl. Vetenskapakademien\, Lilla Frescativägen 4A\, Stockholm\, Sweden
CATEGORIES:Event
ATTACH;FMTTYPE=image/png:https://www.scilifelab.se/wp-content/uploads/2023/10/Thumbnail-.png
ORGANIZER;CN="Science/AAAS and SciLifeLab":MAILTO:events@scilifelab.se
END:VEVENT
BEGIN:VEVENT
DTSTART;TZID=Europe/Stockholm:20231211T113000
DTEND;TZID=Europe/Stockholm:20231211T140000
DTSTAMP:20260421T223745
CREATED:20231102T140108Z
LAST-MODIFIED:20231128T134645Z
UID:10001017-1702294200-1702303200@www.scilifelab.se
SUMMARY:Re-Imaging and Re-Imagining Science
DESCRIPTION:As part of the 10th anniversary celebration of the Science & SciLifeLab Prize for young researchers\, we have got  the honour to host a lunch seminar with Shirley Malcom who is senior advisor and director of SEA Change at the American Association for the Advancement of Science (AAAS). For more than 40 years at AAAS she has worked to improve the quality and increase access to education and careers in STEMM for all.  \n\n\n\nFor the SciLifeLab audience\, Shirley will not only give an inspiring lecture. She will also take part of a panel discussion and attend an open discussion/networking session.  \n\n\n\nDo not miss out on this opportunity! \n\n\n\nQuestions to be discussed; \n\n\n\n\nHow we can look critically at what is being done and not being done regarding inclusion?\n\n\n\nHow do we support excellence and what do we want research to look like?\n\n\n\nWhat kind of engagement do we want?\n\n\n\nHow do we bring assets into science and take advantage of people’s differences?\n\n\n\n\n\n\n\n\nRegister\n\n\n\nProgram\n\n\n\n11.30Lunch is served11.55Welcome\, Ylva Engström\, president SciLifeLab board12.00Re-Imaging and Re-Imagining Science\, Shirley Malcom AAAS12.30Panel discussion with Shirley Malcom\, DEI-committe\, Public Engagement\, Code of Conduct and Coaching in Science Initiativechair: Erdinc Sezgin13.05Concluding remarks\, Per Ljungdahl\, director Campus Solna SciLifeLab13.15Coffee\, Exhibition and Open Discussion in Gamma 2 lunchroom\n\n\n\nRead more\n\n\n\nShirley Malcom biography\n\n\n\nSEA Change \n\n\n\nCoaching in Science Initiative \n\n\n\nSciLifeLab Code of Conduct
URL:https://www.scilifelab.se/event/shirley-malcom-lunch-seminar/
LOCATION:Air&Fire\, SciLifeLab Stockholm\, Tomtebodavägen 23A\, Solna\, Sweden
CATEGORIES:Event
ATTACH;FMTTYPE=image/png:https://www.scilifelab.se/wp-content/uploads/2023/10/Thumbnail-.png
ORGANIZER;CN="Science/AAAS and SciLifeLab":MAILTO:events@scilifelab.se
END:VEVENT
BEGIN:VEVENT
DTSTART;TZID=Europe/Stockholm:20211208T093000
DTEND;TZID=Europe/Stockholm:20211208T150000
DTSTAMP:20260421T223745
CREATED:20211103T133810Z
LAST-MODIFIED:20211208T062219Z
UID:10000479-1638955800-1638975600@www.scilifelab.se
SUMMARY:Symposium: Science & SciLifeLab Prize for Young Scientists
DESCRIPTION:SciLifeLab and AAAS/Science magazine have joined forces in creating the Science & SciLifeLab Prize for Young Scientists to promote young scientists early in their careers. The Prize is awarded annually to four recent Ph.D. graduates for outstanding life science research.  \n\n\n\nJoin us\, to celebrate the 2020 and 2021 winners of the Science & SciLifeLab Prize for Young Scientists at the Scientific Symposium\, December 8\, 09:30-15:00.  \n\n\n\nThe bus from Tomtebodavägen 23 to Humanistiska Teatern departs at 07:45 and from Uppsala to Solna at 15:15. \n\n\n\nHybrid event\n\n\n\nOn-site\, Humanistiska Teatern\, Uppsala: The Symposium will include the Prize winner’s presentations\, a keynote lecture\, lunch\, and coffee with the possibility to meet and mingle with the winners and your SciLifeLab colleagues. Many people are interested in meeting IRL again but the seats are limited (100p). Register today! First-comes first served! Please cancel if you can’t come so that the spot can be available for someone else. We have bus transportation from Tomtebodavägen 23 at 07:45. \n\n\n\nWe need you to register for the on-site event by November 30\, at the latest for catering reasons. The registration will be open until we reach the maximum participants (100p)\, but we cannot guarantee lunch or coffee after November 30. If you have questions\, please contact events@scilifelab.se. \n\n\n\nRegistration\n\n\n\nProgram\n\n\n\nRemote: The event will be broadcasted on the SciLifeLab YouTube channel. You don’t have to register for the YouTube broadcast. But if you do\, you will get a reminder and a direct link to the event. Don’t miss this scientific symposium where you will meet the 2020 and 2021 year´s laureates and hear about their award-winning research.  \n\n\n\n \n\n\n\nThe Prize is awarded in the following categories: \n\n\n\n\n\nCell and Molecular BiologyResearch in this category includes cellular and molecular processes at levels ranging from single molecule to single cell to tissue and organ systems.Genomics\, Proteomics and Systems BiologyResearch in this category focuses on genomics\, proteomics\, integrative omics and systems biology approaches to facilitate comprehensive understanding of living cells\, organisms and species.Ecology and EnvironmentResearch in this category encompasses interactions between organisms and their environment\, and how these processes are influenced by human activity.Molecular MedicineResearch in this category aims at building on the molecular understanding of disease in humans to develop preventive\, diagnostic and therapeutic approaches\, including individualized medicine.\n\n\n\n\n\n\n\n\n\nShort facts: \n\n\n\nDate: December 8\, 2021 \n\n\n\nTime: 09:30-15:00 \n\n\n\nVenue: Humanistiska teatern\, Engelska Parken\, Uppsala and streaming to SciLifeLab YouTube channel. \n\n\n\nRegistration deadline For lunch and coffee\, register by November 30\, at the latest. Limited seats on site\, unlimited participants online \n\n\n\n \n\n\n\nAbout the Prize\n\n\n\nScience/AAAS and SciLifeLab\, have joined forces in creating the Science & SciLifeLab Prize for Young Scientists. Both Science/AAAS and SciLifeLab recognize that global economic health is dependent upon a vibrant research community and we need to incent our best and brightest to continue in their chosen fields of research. Considering the difficult economic environment\, we feel it is important to provide extra encouragement to young scientists as they begin their scientific careers. Each year\, the grand prize winner will receive a prize of US$30\,000; each of the three category winners will receive US$10\,000. The grand prize winning essay will be published in Science and essays from the three category winners will be published online. The prize is jointly operated by Science and SciLifeLab and is generously sponsored by the Knut and Alice Wallenberg Foundation.  \n\n\n\nRead more about the prize here. \n\n\n\n\n\n\n\nWatch this video to hear from the 2020 Grand Prize Winner and Category Winners!\n\n\n\n\n\n\n\n\n\n\n\n\n\nAbout Science/AAAS\n\n\n\nThe American Association for the Advancement of Science (AAAS) is the world’s largest general scientific society\, and publisher of the journals\, Science\, Science Translational Medicine\, Science Signaling\, Science Advances\, Science Immunology\, and Science Robotics. AAAS was founded in 1848\, and includes some 254 affiliated societies and academies of science\, serving 10 million individuals. Science\, founded by Thomas Edison\, has the largest paid circulation of any peer-reviewed general science journal in the world\, with an estimated total readership of 570\,400. \n\n\n\nThe non-profit AAAS—www.aaas.org—is open to all and fulfills its mission to “advance science and serve society” through initiatives in science policy\, international programs\, science education\, and more. Science further participates in various efforts to provide free access for scientists in the world’s poorest countries. \n\n\n\nAbout SciLifeLab\n\n\n\nAs a national hub for molecular biosciences in Sweden\, SciLifeLab develops and maintains unique research infrastructure\, services and data resources for life science. SciLifeLab coordinates research communities in health and environmental science\, recruitment and training of young scientists\, and fosters collaboration with industry\, health care\, public research organizations and international partners. The overall aim of SciLifeLab is to facilitate cutting-edge\, multi-disciplinary life science research and promote its translation to the benefit of society. \n\n\n\nSciLifeLab is jointly operated by its four founder universities: KTH Royal Institute of Technology\, Karolinska Institutet\, Stockholm University and Uppsala University. About 200 research groups\, 1500 researchers and 40 national infrastructure units are associated with SciLifeLab. The two main research centers are located in Stockholm and Uppsala\, but national SciLifeLab units exist at all major Swedish universities.
URL:https://www.scilifelab.se/event/symposium-science-scilifelab-prize-for-young-scientists/
LOCATION:Humanities Theater\, Engelska parken\, Uppsala\, 75238\, Sweden
CATEGORIES:Event
ATTACH;FMTTYPE=image/jpeg:https://www.scilifelab.se/wp-content/uploads/2020/11/winner-photos-2020_270x170_prizepicture_black-scaled.jpg
ORGANIZER;CN="Science/AAAS and SciLifeLab":MAILTO:events@scilifelab.se
END:VEVENT
BEGIN:VEVENT
DTSTART;TZID=Europe/Stockholm:20211006T000100
DTEND;TZID=Europe/Stockholm:20211006T230000
DTSTAMP:20260421T223745
CREATED:20210914T123507Z
LAST-MODIFIED:20211006T084940Z
UID:10000446-1633478460-1633561200@www.scilifelab.se
SUMMARY:Application Open: Publishing workshop for junior researchers
DESCRIPTION:Applications are open to take part in this 3-part workshop series by Science and SciLifeLab for early career researchers (PhD students and postdocs) in SciLifeLab affiliated groups.  \n\n\n\nWorkshop leaders: \n\n\n\nValda Vinson (Editor\, Science Magazine)Sacha Vignieri (Deputy Editor for research\, Science Magazine)\n\n\n\nThis series is limited to a maximum 30 participants. Participants will be selected after applications close\, and selected participants will be notified shortly thereafter. The workshop is free of charge. \n\n\n\nRegistered participants must attend all three sessions of the workshop. The topics covered all relate to publishing\, in particular: “Before you submit”\, “Life of the paper”\, and “the publishing landscape”. \n\n\n\nWorkshop 1 – Thursday\, 4th of November\, 16:00-17:30 CETWorkshop 2 – Thursday\, 11th of November\, 16:00-17:30 CETWorkshop 3 – Thursday\, 18th of November\, 16-17:30 CET\n\n\n\nDeadline for application: October 6\, 2021. Selected participants will be notified shortly thereafter. \n\n\n\napply here\n\n\n\nPlease note that this workshop series is only open to SciLifeLab affiliated groups.  \n\n\n\n\n\n\n\nContent\n\n\n\n\n\nBefore you submit\n\n\n\n\n\nLife of the paper\n\n\n\n\n\nThe publishing landscape\n\n\n\n\n\n\n\nPart A \n\n\n\nQuick background      Authorship      Picking a journal       Planning ahead  \n\n\n\n\n\nPart A \n\n\n\nCover Letter     Title/Abstract     Process at Science\n\n\n\n\n\nPart A – Within Science \n\n\n\nWhat happens after acceptance     Promoting your paper\n\n\n\n\n\n\n\nPart B \n\n\n\nStructure your paper Dos and Don’ts Data presentation/visualization/statistics Data accessibility\n\n\n\n\n\nPart B \n\n\n\nReview process     Writing a review     Responding to reviews\n\n\n\n\n\nPart B – More Broadly \n\n\n\nTowards reproducibilityOpen access and preprintsMeasuring Impact\n\n\n\n\n\n\n\n\n\n\n\n\n\nEach session will be 1 hour 25 minutes long with the following structure: \n\n\n\n25 minute talk + 10 minute Q&A25 minute talk + 10 minute Q&A15 minute wrap up + general questions\n\n\n\nAll workshop sessions will take place virtually on the Zoom platform.
URL:https://www.scilifelab.se/event/publishing-workshop-for-junior-researchers/
LOCATION:Online event via Zoom
CATEGORIES:Community,Course
ORGANIZER;CN="Science/AAAS and SciLifeLab":MAILTO:events@scilifelab.se
END:VEVENT
END:VCALENDAR