BEGIN:VCALENDAR
VERSION:2.0
PRODID:-//SciLifeLab - ECPv6.15.20//NONSGML v1.0//EN
CALSCALE:GREGORIAN
METHOD:PUBLISH
X-WR-CALNAME:SciLifeLab
X-ORIGINAL-URL:https://www.scilifelab.se
X-WR-CALDESC:Events for SciLifeLab
REFRESH-INTERVAL;VALUE=DURATION:PT1H
X-Robots-Tag:noindex
X-PUBLISHED-TTL:PT1H
BEGIN:VTIMEZONE
TZID:Europe/Stockholm
BEGIN:DAYLIGHT
TZOFFSETFROM:+0100
TZOFFSETTO:+0200
TZNAME:CEST
DTSTART:20250330T010000
END:DAYLIGHT
BEGIN:STANDARD
TZOFFSETFROM:+0200
TZOFFSETTO:+0100
TZNAME:CET
DTSTART:20251026T010000
END:STANDARD
BEGIN:DAYLIGHT
TZOFFSETFROM:+0100
TZOFFSETTO:+0200
TZNAME:CEST
DTSTART:20260329T010000
END:DAYLIGHT
BEGIN:STANDARD
TZOFFSETFROM:+0200
TZOFFSETTO:+0100
TZNAME:CET
DTSTART:20261025T010000
END:STANDARD
BEGIN:DAYLIGHT
TZOFFSETFROM:+0100
TZOFFSETTO:+0200
TZNAME:CEST
DTSTART:20270328T010000
END:DAYLIGHT
BEGIN:STANDARD
TZOFFSETFROM:+0200
TZOFFSETTO:+0100
TZNAME:CET
DTSTART:20271031T010000
END:STANDARD
END:VTIMEZONE
BEGIN:VEVENT
DTSTART;TZID=Europe/Stockholm:20261002T080000
DTEND;TZID=Europe/Stockholm:20261002T170000
DTSTAMP:20260420T170949
CREATED:20260316T134245Z
LAST-MODIFIED:20260416T070657Z
UID:10001772-1790928000-1790960400@www.scilifelab.se
SUMMARY:AI Frontiers in Life Sciences: From Models to Meaning
DESCRIPTION:Save the date \n\n\n\nTitle: AI Frontiers in Life Sciences: From Models to Meaning \n\n\n\nDate and time: October 2\, 2026 at 8.00-17.00 CET \n\n\n\nLocation: Humanistiska teatern\, Uppsala. This will be a hybrid event with onsite and remote participation via Zoom. \n\n\n\nDescription: Please save the date for the upcoming SciLifeLab symposium AI Frontiers in Life Sciences: From Models to Meaning\, taking place October 2\, 2026 in Uppsala. This event will bring together experts in artificial intelligence (AI) and life sciences to discuss emerging directions\, challenges\, and opportunities for AI in life science research. \n\n\n\nOct 2 Open symposium will include presentations\, demonstrations\, and panel discussions\, with approximately 120 participants onsite and participation via Zoom. This event is intended for researchers\, infrastructure experts\, and professionals interested in AI-driven life science research. The symposium will serve as an opportunity to gather input to help refine the SciLifeLab AI Strategy and support ongoing and planned work across SciLifeLab. \n\n\n\nFurther details\, including the programme and registration\, will be announced soon. \n\n\n\n \n\n\n\nOrganisers: SciLifeLab Data Centre datacentre@scilifelab.se
URL:https://www.scilifelab.se/event/ai-frontiers-in-life-sciences-from-models-to-meaning/
LOCATION:Humanistiska teatern\, Uppsala\, Thunbergsvägen 3C\, Uppsala\, 75238\, Sweden
CATEGORIES:Event
ORGANIZER;CN="SciLifeLab Data Centre":MAILTO:datacentre@scilifelab.se
END:VEVENT
END:VCALENDAR