BEGIN:VCALENDAR
VERSION:2.0
PRODID:-//SciLifeLab - ECPv6.15.20//NONSGML v1.0//EN
CALSCALE:GREGORIAN
METHOD:PUBLISH
X-WR-CALNAME:SciLifeLab
X-ORIGINAL-URL:https://www.scilifelab.se
X-WR-CALDESC:Events for SciLifeLab
REFRESH-INTERVAL;VALUE=DURATION:PT1H
X-Robots-Tag:noindex
X-PUBLISHED-TTL:PT1H
BEGIN:VTIMEZONE
TZID:Europe/Stockholm
BEGIN:DAYLIGHT
TZOFFSETFROM:+0100
TZOFFSETTO:+0200
TZNAME:CEST
DTSTART:20240331T010000
END:DAYLIGHT
BEGIN:STANDARD
TZOFFSETFROM:+0200
TZOFFSETTO:+0100
TZNAME:CET
DTSTART:20241027T010000
END:STANDARD
BEGIN:DAYLIGHT
TZOFFSETFROM:+0100
TZOFFSETTO:+0200
TZNAME:CEST
DTSTART:20250330T010000
END:DAYLIGHT
BEGIN:STANDARD
TZOFFSETFROM:+0200
TZOFFSETTO:+0100
TZNAME:CET
DTSTART:20251026T010000
END:STANDARD
BEGIN:DAYLIGHT
TZOFFSETFROM:+0100
TZOFFSETTO:+0200
TZNAME:CEST
DTSTART:20260329T010000
END:DAYLIGHT
BEGIN:STANDARD
TZOFFSETFROM:+0200
TZOFFSETTO:+0100
TZNAME:CET
DTSTART:20261025T010000
END:STANDARD
END:VTIMEZONE
BEGIN:VEVENT
DTSTART;TZID=Europe/Stockholm:20251120T130000
DTEND;TZID=Europe/Stockholm:20251120T153000
DTSTAMP:20260420T231443
CREATED:20251023T130459Z
LAST-MODIFIED:20251028T082504Z
UID:10001644-1763643600-1763652600@www.scilifelab.se
SUMMARY:Powering Proteomics: Technologies\, Insights\, and Clinical Applications
DESCRIPTION:Join us for an engaging workshop on proteomics\, exploring cutting-edge approaches in mass spectrometry and affinity-based methods. The event will feature external researchers sharing the latest developments and applications in protein analysis. Participants will gain insights into experimental strategies and see real-world examples highlighting how proteomics advances biomedical research and biomarker discovery. \n\n\n\nRegistration\n\n\n\nRegistration\n\n\n\nYou can join the Zoom meeting via the Confirmation email. \n\n\n\nProgram\n\n\n\nWorkshop on proteomicsDownload\n\n\n\n13:00-13:05 Welcome \n\n\n\n13:05-13:30 “Using mass spectrometry to characterize the airway proteome and treatment responses in cystic fibrosis”. \n\n\n\nPresenter: Lisa Påhlman\, Lund University \n\n\n\nHost: Anahita Bakochi\, Clinical Proteomics\, Lund University \n\n\n\n13:30-13:55 “Low Cell Proteomics resolves oncogenic molecular mechanisms in rare cell types” \n\n\n\nPresenter: Pedro Moura\, Karolinska Institute \n\n\n\nHost: Henrik Johansson\, Global Proteomics & proteogenomics\, Karolinska Institute \n\n\n\n13:55-14:20 “Applications of Proteomics in Steatotic Liver Disease” \n\n\n\nPresenter: Tanmoy Dutta\, Gothenburg University \n\n\n\nHost: Carina Sihlbom Wallem\, Glycoproteomics & MS Proteomics\, Gothenburg University \n\n\n\n14:20-14:45 “Shared and specific blood biomarkers for multimorbidity” \n\n\n\nPresenter: Davide Liborio Vetrano\, Karolinska Institute \n\n\n\nHost: Claudia Fredolini\, Affinity Proteomics-Stockholm\, Royal Institute of Technology-KTH \n\n\n\n14:45-15:10 “The circulating blood proteome of childhood acute leukemia” \n\n\n\nPresenter Jessica Nordlund\, Uppsala University \n\n\n\nHost: Mikael Åberg\, Affinity Proteomics Uppsala\, Uppsala University \n\n\n\n15:10:15:30 Questions and Final Remarks
URL:https://www.scilifelab.se/event/powering-proteomics-technologies-insights-and-clinical-applications/
CATEGORIES:Event
ATTACH;FMTTYPE=image/jpeg:https://www.scilifelab.se/wp-content/uploads/2025/10/PCF.11-scaled.jpg
LOCATION:
END:VEVENT
END:VCALENDAR